{"text_format":"1","workbook":"xlsx","n_sheets":5,"sheets":["Instructions","Index","Price List","Websites","Changes"],"not_rendered":{"charts":0,"images":2,"macros":1,"external_links":1,"defined_names":18,"comments":0,"pivot_tables":0},"unopened":[],"bounds":{"document_bytes":16777216,"sheet_cells":100000,"rows_first":2000,"rows_last":500,"rows_between":2000,"halvings":0,"cell_chars":16384,"cell_head_chars":4096},"cells_cut":0,"cells_raw":0,"read":"whole","date_system":"1900"}

{"sheet":"Instructions","index":0,"n_rows":59,"n_cols":8,"rows_kept":59,"cut":false,"hidden":false,"merged":[[7,2,7,7],[36,3,36,4]]}
["Manufacturer","Laticrete"]
["File as","L"]
["Product Code","I"]
["CCTD Effective Date","6/1/25 (Updated)"]
[]
[]
[]
["Enter your Company Name"]
[]
[null,"Click on \"Index\" to set the print area for the price list index"]
[null,"Then you can send it to print"]
[]
[]
[null,"Click on \"Suggested Price List\" to set the print area for Conestoga Tile's suggested price list."]
[null,"Then you can send it to print"]
[]
[]
[null,"Enter your discount codes if you want a personal net cost sheet."]
[]
[null,"Product"]
[null,"Code","Disc. %"]
[null,{"$f":"+B3","v":"I"}]
[]
[null,"Click on \"Your Cost\" to set the print area for your personal cost report."]
[null,"Then you can send it to print"]
[]
[]
["Discount: ","To help establish your price list, enter the gross profit percent for each type of product."]
[null,"If you want to use Conestoga Tile's list price, leave them blank."]
[]
["Round Nickel: ","If you always want your price to round to the nearest nickel, enter \"YES\"."]
[null,"If you enter \"NO\", it will NOT round to the nearest nickel."]
[]
["Ending Cents: ","If you always want your price to end with a certain cents, enter that cent value."]
[null,"If you leave it \"blank\" will NOT round to this cent value."]
[]
[null,"Group","GP Margin","GP Margin % for",null,"Round Nickel","add/subtract","Ending Cents"]
[null,1,null,{"$f":"+#REF!","v":{"$error":"#REF!"}},null,"No",0]
[null,2,null,{"$f":"+#REF!","v":{"$error":"#REF!"}},null,"No",0]
[null,3,null,{"$f":"+#REF!","v":{"$error":"#REF!"}},null,"No",0]
[null,4,null,{"$f":"+#REF!","v":{"$error":"#REF!"}},null,"No",0]
[null,5,null,{"$f":"+#REF!","v":{"$error":"#REF!"}},null,"No",0]
[null,6,null,{"$f":"+#REF!","v":{"$error":"#REF!"}},null,"No",0]
[null,7,null,{"$f":"+#REF!","v":{"$error":"#REF!"}},null,"No",0]
[null,8,null,{"$f":"+#REF!","v":{"$error":"#REF!"}},null,"No",0]
[]
["If you want to manually adjust your price list, hit \"F5\" and go to \"Customer_Cost\" to manually adjust pricing."]
["You can enter a value in the column labeled \"Adj.\" to change your price manually."]
[]
[null,"Click on \"Your Price Calculation\" to set the print area for your personal cost calculation report."]
[null,"Then you can send it to print"]
[]
[]
[null,"Click on \"Your Price List\" to set the print area for your personal price list."]
[null,"Then you can send it to print"]
[null,null,null,null,null,null,null,"Yes"]
[]
["If you have any questions on how to best use this spreadsheet, please feel free to contact"]
["Jim Vogel at (800) 422-6860, ext. 4201 or via e-mail at jimvogel@cctd.com"]

{"sheet":"Index","index":1,"n_rows":87,"n_cols":14,"rows_kept":87,"cut":false,"hidden":false,"merged":[[4,0,4,11],[72,0,72,11],[74,0,74,11],[1,6,1,11],[2,4,2,8]]}
[]
[null,null,null,null,null,null,{"$f":"\"File '\"&Instructions!B2&\"' - \"&Instructions!B1","v":"File 'L' - Laticrete"}]
[]
[]
[{"$f":"\"Price List Index - \"&Instructions!B4","v":"Price List Index - 6/1/25 (Updated)"}]
[]
[]
[]
[]
["Page",null,"Series",null,"Product Type",null,null,"Page",null,"Series",null,"Product Type"]
[null,null,"Mortars & Adhesives",null,null,null,null,13,null,"921 Primer Plus",null,"Underlayment"]
["1",null,"15 Premium Mastic",null,"Mastic",null,null,13,null,"911 Vapor Ban E",null,"Moisture Control"]
["1",null,"209 Floor Mud",null,"Mortar",null,null,14,null,"912 Vapor Ban ER",null,"Moisture Control"]
["1",null,"226 Thick Bed Mortar",null,"Mortar",null,null,14,null,"914 Vapor Ban Primer ER",null,"Moisture Control"]
["1",null,"229 Quick Cure Mortar Bed",null,"Mortar",null,null,14,null,"915 Vapor Ban Primer W",null,"Moisture Control"]
["1",null,"3701 Fortified Mortar Bed",null,"Mortar",null,null,14,null,"NXT Tool Kit",null,"Tools"]
[1,null,"3701 Lite Mortar",null,"Mortar",null,null,14,null,"NIVCOMP Digital Level",null,"Tools"]
["1-2",null,"3701 Lite Mortar R",null,"Mortar",null,null,14,null,"ELEVATION Pins",null,"Tools"]
[2,null,"272 Premium Floor and Wall",null,"Thin-Set Mortar",null,null,14,null,"Pro-Kart",null,"Tools"]
[2,null,"317 Floor and Wall",null,"Thin-Set Mortar",null,null,14,null,"Pro-Mix Station",null,"Tools"]
["2",null,"252 Silver",null,"Thin-Set Mortar",null,null,14,null,"Liner for Pro-Mix Station",null,"Tools"]
["2",null,"253 Gold",null,"Thin-Set Mortar",null,null,14,null,"177 Strata Mat",null,"Underlayment (Uncoupling)"]
["2",null,"253R Gold Rapid",null,"Thin-Set Mortar",null,null,15,null,"177 Strata Mat XT",null,"Underlayment (Uncoupling)"]
[2,null,"254 Platinum",null,"Thin-Set Mortar",null,null,null,null,"Pedestals, Plaza & Deck System"]
[3,null,"254R Platinum Rapid",null,"Thin-Set Mortar",null,null,15,null,"9100 Tile Drain Mat",null,"Plaza & Deck System"]
[3,null,"254 Platinum Plus",null,"Thin-Set Mortar",null,null,"15-16",null,"NXT Pedestal System",null,"Plaza & Deck System"]
[3,null,"279 Tri-Lite Floor and Wall",null,"Lightweight Mortar",null,null,16,null,"Blue 92 Anti-Fracture Membrane",null,"Anti-Fracture"]
[3,null,"279R Tri-Lite Rapid",null,"Lightweight Mortar",null,null,16,null,"9200 Crack Suppression Kit",null,"Anti-Fracture"]
[3,null,"289 Multimax 1",null,"Lightweight Mortar",null,null,16,null,"9209 Fracture Ban SC",null,"Anti-Fracture"]
["3-4",null,"289 Multimax Lite",null,"Lightweight Mortar",null,null,null,null,"Sound Control/Crack Suppression"]
[4,null,"4-XLT",null,"Thin-Set Mortar",null,null,16,null,"125 Tri Max",null,"Sound Control/Crack"]
[4,null,"4-XLT Rapid",null,"Thin-Set Mortar",null,null,16,null,"170 Sound & Crack Isolation Mat",null,"Sound Control/Crack"]
[4,null,"LHT Large & Heavy Tile Mortar",null,"Thin-Set Mortar",null,null,16,null,"170.5 Sound & Crack Isolation Mat",null,"Sound Control/Crack"]
[4,null,"LHT Plus Large & Heavy Tile Mortar",null,"Thin-Set Mortar",null,null,16,null,"178 Fracture Ban",null,"Sound Control/Crack"]
["4-5",null,"Sure Set LHT",null,"Versatile Adhesive Mortar",null,null,null,null,"Shower Systems & Waterproofing",null,null,null," "]
[5,null,"296 Glass Tile Adhesive Lite",null,"Thin-Set Mortar",null,null,17,null,"Hydro Ban Board",null,"Shower & Drain System"]
[5,null,"300 Epoxy Adhesive",null,"Epoxy Adhesive",null,null,17,null,"Hydro Ban Board Accessories",null,"Shower & Drain System"]
[5,null,"Biogreen 300 Epoxy Adhesive",null,"Epoxy Adhesive",null,null,17,null,"Hydro Ban Sheet Membrane",null,"Shower & Drain System"]
[5,null,"310 Cordless Mixer",null,"Epoxy Adhesive",null,null,17,null,"Hydro Ban Sealing Tape",null,"Shower & Drain System"]
[6,null,"310 Stone Adhesive",null,"Epoxy Adhesive",null,null,17,null,"Hydro Ban Adhesive & Sealant",null,"Shower & Drain System",null," "]
[6,null,"310 Rapid Stone Adhesive",null,"Epoxy Adhesive",null,null,17,null,"Hydro Ban Preformed Corners",null,"Shower & Drain System"]
[6,null,"Prime-N-Bond",null,"Multipurpose Bonding Primer",null,null,17,null,"Hydro Ban Collars",null,"Shower & Drain System"]
[6,null,"333 Super Flexible Additive",null,"Thin-Set & Mortar Additive",null,null,17,null,"Hydro Ban Drain Collars",null,"Shower & Drain System"]
[6,null,"3701 Mortar Admix",null,"Thin-Set & Mortar Additive",null,null,17,null,"Hydro Ban Peel & Stick Sheet Membrane Accessories  \""]
[null,null,"Grouts",null,null,null,null,18,null,"Hydro Ban Pre-Sloped Shower Pans",null,"Shower & Drain System"]
[6,null,"1500 Sanded Grout",null,"Grout",null,null,18,null,"Hydro Ban Modular Pre-Sloped Shower Pan + Preformed Curb  \""]
["6-7",null,"1600 Unsanded Grout",null,"Grout",null,null,18,null,"Hydro Ban Shower Pan - Disc 1/26/26",null,"Shower & Drain System"]
[7,null,"2300 Ready-To-Use Grout",null,"Grout",null,null,18,null,"Hydro Ban Curb",null,"Shower & Drain System"]
[7,null,"2500 PermaColor Grout",null,"Grout",null,null,18,null,"Hydro Ban Shower Pan Kit - Disc 1/26/26",null,"Shower & Drain System"]
["7-8",null,"2600 PermaColor Select Base Grout",null,"Grout",null,null,19,null,"Hydro Ban Point Drain Grate",null,"Shower & Drain System"]
["8-9",null,"2600 PermaColor Select Color Kit",null,"Grout",null,null,19,null,"Hydro Ban Accessories",null,"Shower & Drain System"]
[9,null,"1200 SpectraLOCK PRO Premium Grout Part AB Liquids",null,null,null,null,19,null,"Hydro Ban Preformed Niche",null,"Shower & Drain System"]
[9,null,"1200 SpectraLOCK Grout Part C",null,"Grout",null,null,19,null,"Hydro Ban Preformed Seat",null,"Shower & Drain System"]
[9,null,"1200 SpectraLOCK Dazzle",null,"Grout",null,null,19,null,"Hydro Ban Preformed Bench",null,"Shower & Drain System"]
[9,null,"SpectraLOCK PRO Premium Translucent Grout",null,null,null,null,19,null,"Hydro Ban Bonding Flange Drain",null,"Shower & Drain System"]
[10,null,"3100 SpectraLOCK 1",null,"Grout",null,null,19,null,"Hydro Ban Linear Pre-Sloped Shower Pans",null,"Shower & Drain System"]
[10,null,"SpectraLOCK 2000 IG",null,"Grout",null,null,19,null,"Hydro Ban Linear Drain \"T\" Trough",null,"Shower & Drain System"]
[10,null,"SpectraLOCK 2000 IG Liquid  ",null,"Grout",null,null,20,null,"Hydro Ban Linear Drain Side Outlet Trough",null,"Shower & Drain System"]
[null,null,"Caulks/Sealants",null,null,null,null,20,null,"Hydro Ban Linear Drain Threaded Connector Trough - Shower & Drain System"]
["10-11",null,"6200 Latasil",null,"Caulk/Sealant",null,null,20,null,"Hydro Ban Linear Drain Offset Oval Grate",null,"Shower & Drain System"]
[11,null,"9118 Latasil Primer",null,"Caulk/Sealant",null,null,"20-21",null,"Hydro Ban Linear Drain Wedge Wire Grate",null,"Shower & Drain System"]
[11,null,"7100/7200 Premium Acrylic Caulk",null,"Caulk/Sealant",null,null,21,null,"Hydro Ban Linear Drain Tile-In Grate",null,"Shower & Drain System"]
[null,null,"Underlayments",null,null,null,null,null,null,"Waterproofing",null,null,null," "]
[11,null,"900 NXT Level",null,"Underlayment",null,null,21,null,"9235 Waterproofing Membrane",null,"WaterProofing"]
["11-12",null,"903 NXT Level Flow",null,"Underlayment",null,null,21,null,"9259 Hydro Ban Cementitious Waterproofing Membrane"]
[12,null,"902 NXT Level Plus",null,"Underlayment",null,null,21,null,"9255 Hydro Ban",null,"WaterProofing"]
[12,null,"919 NXT Level Plus Lite",null,"Underlayment",null,null,21,null,"9277 Hydro Ban 1",null,"WaterProofing"]
[12,null,"904 NXT Patch",null,"Underlayment",null,null,21,null,"9266 Hydro Ban Quick Cure",null,"WaterProofing"]
[13,null,"918 NXT Skim Lite",null,"Underlayment",null,null,22,null,"9250 Hydro Ban XP",null,"WaterProofing"]
[13,null,"907/908 NXT Level DL",null,"Overlay",null,null,22,null,"9265 Hydro Barrier Plus",null,"WaterProofing"]
[13,null,"960 NXT Level SP",null,"Overlay",null,null,22,null,"Latapoxy Waterproof Flashing Mortar",null,"WaterProofing"]
[null,null,null,null,null,null,null,null,null,null,null,null,null," "]
["This price list is available electronically on an Excel spreadsheet at www.conestogatile.com/pricelists."]
[]
["The spreadsheet has many special features to assist you.  Apply your discount to generate your net costs for your purchasing department.  Apply your standard gross margin percentage or custom prices to generate your own custom price list for your showroom.  Print out individual price list for each series that can be attached to the back of your sample boards for easy reference."]
[]
[]
[]
[]
[]
[]
[]
[]
[]
[]
[]
[null,null," "]

{"sheet":"Price List","index":2,"n_rows":1838,"n_cols":41,"rows_kept":1838,"cut":false,"hidden":false,"merged":[[1107,6,1107,16],[1108,6,1108,9],[1108,10,1108,12],[1110,6,1110,9],[1110,10,1110,12],[1109,6,1109,9],[1109,10,1109,12],[1108,13,1108,16],[1109,13,1110,16],[265,6,265,14],[266,6,266,10],[266,11,266,14],[267,6,267,10],[267,11,267,14],[268,6,268,10],[268,11,268,14],[269,6,269,10],[269,11,269,14],[92,6,92,8],[92,9,92,11],[92,12,92,13],[1095,6,1095,16],[1096,6,1096,9],[1096,10,1096,12],[1096,13,1096,14],[1096,15,1096,16],[1097,6,1097,9],[1097,10,1097,12],[1097,13,1097,14],[1097,15,1097,16],[252,6,252,10],[252,11,252,14],[253,6,253,10],[253,11,253,14],[254,6,254,10],[254,11,254,14],[1068,4,1068,16],[1064,4,1064,12],[1066,15,1066,16],[1066,4,1066,12],[1067,4,1067,16],[1054,6,1054,9],[614,3,614,4],[207,6,207,10],[289,11,289,14],[509,6,509,9],[508,6,508,9],[433,13,433,15],[431,6,431,12],[286,6,286,14],[1053,6,1053,9],[1053,10,1053,12],[1053,13,1053,15],[825,8,826,10],[621,3,621,4],[619,3,619,4],[618,3,618,4],[616,7,616,8],[339,11,339,14],[351,11,351,14],[352,11,352,14],[326,11,326,14],[340,11,340,14],[350,6,350,14],[351,6,351,10],[385,6,385,9],[1054,10,1054,12],[1054,13,1054,15],[93,6,93,8],[93,9,93,11],[93,12,93,13],[113,12,113,13],[114,6,114,8],[114,9,114,11],[114,12,114,13],[115,6,115,8],[115,9,115,11],[115,12,115,13],[113,6,113,8],[94,12,94,13],[95,12,95,13],[96,12,96,13],[110,6,110,13],[111,6,111,8],[111,9,111,11],[111,12,111,13],[112,6,112,8],[112,9,112,11],[112,12,112,13],[113,9,113,11],[555,10,555,15],[506,6,506,9],[557,6,557,9],[558,6,558,9],[560,6,560,9],[530,9,531,11],[554,6,554,15],[532,9,532,11],[505,6,505,9],[224,11,224,14],[239,6,239,10],[384,6,384,13],[385,10,385,13],[308,11,308,14],[323,6,323,10],[288,6,288,14],[290,6,290,14],[294,11,294,14],[307,6,307,10],[306,6,306,14],[309,6,309,10],[294,6,294,10],[322,6,322,14],[225,6,225,10],[225,11,225,14],[339,6,339,10],[240,6,240,10],[308,6,308,10],[338,6,338,14],[237,11,237,14],[238,6,238,10],[292,6,292,14],[236,6,236,14],[387,6,387,9],[388,10,388,13],[419,6,419,9],[237,6,237,10],[309,11,309,14],[328,11,328,14],[386,10,386,13],[327,6,327,14],[310,11,310,14],[419,10,419,13],[324,6,324,14],[325,11,325,14],[323,11,323,14],[366,6,366,14],[367,6,367,10],[367,11,367,14],[370,6,370,10],[370,11,370,14],[369,6,369,10],[369,11,369,14],[368,6,368,10],[368,11,368,14],[371,6,371,10],[371,11,371,14],[827,8,827,10],[801,6,801,9],[797,6,797,9],[798,6,798,9],[620,7,620,8],[584,10,584,14],[451,6,452,8],[507,6,507,9],[530,12,530,13],[529,9,529,13],[613,7,613,8],[453,9,453,12],[455,13,455,15],[502,6,503,9],[453,13,453,15],[555,6,556,9],[561,6,561,9],[791,10,791,13],[618,5,618,6],[619,5,619,6],[825,11,825,13],[743,6,743,9],[616,12,616,15],[617,12,617,15],[915,6,915,9],[866,6,866,14],[858,11,858,14],[898,6,898,14],[858,6,858,10],[868,11,868,14],[915,10,915,13],[913,6,913,9],[914,10,914,13],[869,6,869,10],[900,6,900,10],[900,11,900,14],[868,6,868,10],[856,11,856,14],[794,6,794,9],[796,6,796,9],[620,3,620,4],[621,7,621,8],[914,6,914,9],[999,6,999,13],[621,5,621,6],[867,11,867,14],[899,11,899,14],[964,6,964,9],[916,10,916,13],[918,6,918,9],[744,6,744,9],[828,8,828,10],[962,6,962,9],[917,10,917,13],[620,5,620,6],[869,11,869,14],[918,10,918,13],[913,10,913,13],[912,6,912,13],[867,6,867,10],[857,11,857,14],[917,6,917,9],[156,6,156,10],[156,11,156,14],[130,6,130,10],[128,11,128,14],[142,6,142,10],[143,11,143,14],[157,11,157,14],[144,11,144,14],[328,6,328,10],[238,11,238,14],[287,6,287,10],[325,6,325,10],[194,6,194,10],[193,6,193,10],[157,6,157,10],[190,6,190,14],[205,11,205,14],[206,11,206,14],[172,11,172,14],[170,6,170,10],[191,6,191,10],[192,6,192,10],[158,11,158,14],[615,3,615,4],[615,12,615,15],[615,5,615,6],[615,7,615,8],[612,5,612,11],[511,6,511,9],[501,6,501,14],[421,6,421,9],[612,12,613,15],[451,13,452,15],[455,6,455,8],[430,6,430,15],[612,3,613,4],[504,6,504,9],[613,5,613,6],[510,6,510,9],[590,6,590,9],[563,6,563,9],[591,6,591,9],[583,6,583,14],[589,6,589,9],[592,6,592,9],[559,6,559,9],[533,9,533,11],[204,6,204,10],[617,3,617,4],[616,3,616,4],[340,6,340,10],[203,6,203,14],[172,6,172,10],[171,6,171,10],[352,6,352,10],[171,11,171,14],[310,6,310,10],[191,11,191,14],[205,6,205,10],[207,11,207,14],[239,11,239,14],[206,6,206,10],[193,11,193,14],[192,11,192,14],[221,6,221,14],[222,6,222,10],[222,11,222,14],[223,6,223,10],[223,11,223,14],[224,6,224,10],[432,6,432,12],[194,11,194,14],[1827,3,1827,4],[1824,2,1824,19],[404,6,404,9],[453,6,453,8],[502,10,502,14],[916,6,916,9],[740,6,740,9],[855,6,855,14],[611,3,611,11],[454,9,454,12],[454,13,454,15],[454,6,454,8],[450,6,450,15],[451,9,452,12],[616,5,616,6],[738,6,738,9],[824,8,824,13],[586,6,586,9],[857,6,857,10],[856,6,856,10],[1305,6,1305,9],[1304,6,1304,13],[899,6,899,10],[14,30,14,32],[15,13,16,19],[32,6,32,14],[33,6,33,10],[1822,2,1822,19],[144,6,144,10],[400,6,400,9],[434,6,434,12],[402,6,402,9],[326,6,326,10],[593,6,593,9],[307,11,307,14],[240,11,240,14],[204,11,204,14],[291,6,291,10],[291,11,291,14],[289,6,289,10],[287,11,287,14],[250,6,250,14],[251,6,251,10],[251,11,251,14],[169,6,169,14],[293,6,293,10],[293,11,293,14],[10,25,10,32],[13,22,13,23],[13,14,13,19],[11,14,11,15],[10,14,10,19],[10,22,10,23],[96,9,96,11],[33,11,33,14],[34,6,34,10],[36,11,36,14],[34,11,34,14],[35,11,35,14],[19,2,19,19],[18,14,18,15],[35,6,35,10],[36,6,36,10],[77,6,77,14],[68,6,68,10],[68,11,68,14],[64,6,64,14],[65,6,65,10],[65,11,65,14],[66,6,66,10],[66,11,66,14],[67,6,67,10],[67,11,67,14],[91,6,91,13],[78,6,78,10],[78,11,78,14],[128,6,128,10],[170,11,170,14],[79,6,79,10],[79,11,79,14],[158,6,158,10],[80,6,80,10],[80,11,80,14],[142,11,142,14],[130,11,130,14],[143,6,143,10],[129,11,129,14],[127,6,127,14],[81,11,81,14],[141,6,141,14],[129,6,129,10],[81,6,81,10],[95,6,95,8],[96,6,96,8],[94,9,94,11],[95,9,95,11],[94,6,94,8],[155,6,155,14],[420,6,420,9],[418,10,418,13],[418,6,418,9],[431,13,431,15],[455,9,455,12],[386,6,386,9],[403,10,403,13],[399,6,399,13],[388,6,388,9],[417,6,417,9],[387,10,387,13],[401,6,401,9],[400,10,400,13],[417,10,417,13],[404,10,404,13],[401,10,401,13],[421,10,421,13],[432,13,432,15],[420,10,420,13],[434,13,434,15],[433,6,433,12],[402,10,402,13],[416,6,416,13],[403,6,403,9],[1063,15,1063,16],[962,10,962,13],[919,6,919,9],[932,6,932,13],[933,6,933,9],[933,10,933,13],[936,10,936,13],[944,10,944,13],[963,6,963,9],[965,10,965,13],[1000,10,1000,13],[1001,10,1001,13],[963,10,963,13],[943,6,943,9],[945,10,945,13],[942,6,942,9],[1015,6,1015,13],[1016,6,1016,13],[943,10,943,13],[938,6,938,9],[938,10,938,13],[939,6,939,9],[939,10,939,13],[940,6,940,9],[1308,6,1308,9],[1308,10,1308,13],[1307,6,1307,9],[1307,10,1307,13],[1306,10,1306,13],[1066,13,1066,14],[1031,10,1031,12],[1033,10,1033,12],[1030,13,1030,15],[1306,6,1306,9],[1305,10,1305,13],[1052,10,1052,12],[1052,13,1052,15],[1050,6,1050,9],[1062,15,1062,16],[1064,15,1064,16],[1062,4,1062,12],[1032,13,1032,15],[1033,13,1033,15],[1036,10,1036,12],[1035,10,1035,12],[1033,6,1033,9],[1065,15,1065,16],[1032,10,1032,12],[940,10,940,13],[964,10,964,13],[965,6,965,9],[1000,6,1000,9],[982,10,982,13],[983,6,983,9],[983,10,983,13],[984,6,984,9],[984,10,984,13],[985,6,985,9],[985,10,985,13],[986,6,986,9],[986,10,986,13],[981,6,981,13],[919,10,919,13],[966,6,966,9],[966,10,966,13],[1005,6,1005,9],[1001,6,1001,9],[1002,10,1002,13],[1003,6,1003,9],[941,6,941,9],[941,10,941,13],[961,6,961,13],[1003,10,1003,13],[949,6,949,9],[949,10,949,13],[934,6,934,9],[934,10,934,13],[935,6,935,9],[935,10,935,13],[936,6,936,9],[937,6,937,9],[937,10,937,13],[947,6,947,9],[947,10,947,13],[1004,10,1004,13],[942,10,942,13],[1032,6,1032,9],[1065,4,1065,12],[1065,13,1065,14],[1050,10,1050,12],[1050,13,1050,15],[1061,4,1061,16],[944,6,944,9],[1052,6,1052,9],[1031,13,1031,15],[1035,13,1035,15],[1036,13,1036,15],[1034,13,1034,15],[1030,6,1030,9],[1030,10,1030,12],[1037,6,1037,9],[1031,6,1031,9],[1036,6,1036,9],[1037,13,1037,15],[1034,10,1034,12],[1037,10,1037,12],[1034,6,1034,9],[1035,6,1035,9],[1049,6,1049,9],[1049,10,1049,12],[1049,13,1049,15],[1051,6,1051,9],[1051,10,1051,12],[1051,13,1051,15],[1005,10,1005,13],[1004,6,1004,9],[1002,6,1002,9],[945,6,945,9],[946,6,946,9],[946,10,946,13],[1014,6,1014,13],[987,6,987,9],[987,10,987,13],[990,6,990,9],[990,10,990,13],[967,6,967,9],[967,10,967,13],[968,6,968,9],[968,10,968,13],[988,6,988,9],[988,10,988,13],[989,6,989,9],[989,10,989,13],[982,6,982,9],[1064,13,1064,14],[1062,13,1062,14],[1063,13,1063,14],[1063,4,1063,12],[948,6,948,9],[948,10,948,13],[612,16,612,19],[584,6,585,9],[614,5,614,6],[614,7,614,8],[617,7,617,8],[618,12,618,15],[614,12,614,15],[618,7,618,8],[619,7,619,8],[799,6,799,9],[800,6,800,9],[791,6,792,9],[793,6,793,9],[588,6,588,9],[735,6,736,9],[742,6,742,9],[795,6,795,9],[790,6,790,13],[734,6,734,14],[617,5,617,6],[735,10,735,14],[562,6,562,9],[564,6,564,9],[739,6,739,9],[587,6,587,9],[619,12,619,15],[741,6,741,9],[611,12,611,19],[737,6,737,9]]}
[null,"Mortars/Ahesive",null,null,"Size",null,null,null,"Description",null,null,null,null,null,null,null,null,null,{"$f":"IF(Suggested=\"Yes\",AA1,AG1)","v":0.05},"EA",{"$f":"+Instructions!$B$3","v":"I"},null,{"$f":"+Instructions!$C$22","v":0},{"$f":"ROUND($AA1*(1-W1)+0.004999,2)","v":0.05},null,"new",0.05,{"$f":"+W1","v":0},0.05,{"$f":"(AG1-AC1)/AG1","v":0},null,1,{"$f":"SUM(AJ1:AL1)+AE1","v":0.05},null,null,{"$f":"ROUND(AC1/(1-VLOOKUP(AF1,Group,2,FALSE)),2)","v":0.05},{"$f":"IF(VLOOKUP(AF1,Group,5,FALSE)=\"YES\",VLOOKUP(ROUND(ROUND(AJ1,1)-AJ1,2),Round,2,FALSE)+VLOOKUP(AF1,Group,6,FALSE),0)","v":0},{"$f":"IF(VLOOKUP(AF1,Group,7,FALSE)=\"\",0,ROUND(AJ1-0.04999,1)-AJ1+AM1)","v":0},{"$f":"IF(VLOOKUP(AF1,Group,7,FALSE)=\"\",\"\",VLOOKUP(AF1,Group,7,FALSE))","v":""},null,"X"]
[null,"Regular Grouts",null,null,"Size",null,null,null,"Description",null,null,null,null,null,null,null,null,null,{"$f":"IF(Suggested=\"Yes\",AA2,AG2)","v":0.05},"EA",{"$f":"+Instructions!$B$3","v":"I"},null,{"$f":"+Instructions!$C$22","v":0},0.05,null,"new",0.05,0,0.05,0,null,2,0.05,null,null,0.05,0,0,"",null,"X"]
[null,"Epoxy Grouts",null,null,"Size",null,null,null,"Description",null,null,null,null,null,null,null,null,null,0.05,"EA",{"$f":"+Instructions!$B$3","v":"I"},null,{"$f":"+Instructions!$C$22","v":0},0.05,null,"new",0.05,0,0.05,0,null,3,0.05,null,null,0.05,0,0,"",null,"X"]
[null,"Additives",null,null,"Size",null,null,null,"Description",null,null,null,null,null,null,null,null,null,0.05,"EA",{"$f":"+Instructions!$B$3","v":"I"},null,{"$f":"+Instructions!$C$22","v":0},0.05,null,"new",0.05,0,0.05,0,null,4,0.05,null,null,0.05,0,0,"",null,"X"]
[null,"Membranes",null,null,"Size",null,null,null,"Description",null,null,null,null,null,null,null,null,null,0.05,"EA",{"$f":"+Instructions!$B$3","v":"I"},null,{"$f":"+Instructions!$C$22","v":0},0.05,null,"new",0.05,0,0.05,0,null,5,0.05,null,null,0.05,0,0,"",null,"X"]
[null,"Underlayment",null,null,"Size",null,null,null,"Description",null,null,null,null,null,null,null,null,null,0.05,"EA",{"$f":"+Instructions!$B$3","v":"I"},null,{"$f":"+Instructions!$C$22","v":0},0.05,null,"new",0.05,0,0.05,0,null,6,0.05,null,null,0.05,0,0,"",null,"X"]
[null,"Care & Maint.",null,null,"Size",null,null,null,"Description",null,null,null,null,null,null,null,null,null,{"$f":"IF(Suggested=\"Yes\",AA7,AG7)","v":0.05},"EA",{"$f":"+Instructions!$B$3","v":"I"},null,{"$f":"+Instructions!$C$22","v":0},{"$f":"ROUND($AA7*(1-W7)+0.004999,2)","v":0.05},null,"new",0.05,{"$f":"+W7","v":0},{"$f":"+X7","v":0.05},{"$f":"(AG7-AC7)/AG7","v":0},null,7,{"$f":"SUM(AJ7:AL7)+AE7","v":0.05},null,null,{"$f":"ROUND(AC7/(1-VLOOKUP(AF7,Group,2,FALSE)),2)","v":0.05},{"$f":"IF(VLOOKUP(AF7,Group,5,FALSE)=\"YES\",VLOOKUP(ROUND(ROUND(AJ7,1)-AJ7,2),Round,2,FALSE)+VLOOKUP(AF7,Group,6,FALSE),0)","v":0},{"$f":"IF(VLOOKUP(AF7,Group,7,FALSE)=\"\",0,ROUND(AJ7-0.04999,1)-AJ7+AM7)","v":0},{"$f":"IF(VLOOKUP(AF7,Group,7,FALSE)=\"\",\"\",VLOOKUP(AF7,Group,7,FALSE))","v":""},null,"X"]
[null,"Other Items",null,null,"Size",null,null,null,"Description",null,null,null,null,null,null,null,null,null,0.05,"EA",{"$f":"+Instructions!$B$3","v":"I"},null,{"$f":"+Instructions!$C$22","v":0},0.05,null,"new",0.05,0,0.05,0,null,8,0.05,null,null,0.05,0,0,"",null,"X"]
[null,"Format",null,null,null,null,null,null,null,null,null,null,null,null,null,null,"Stock","a",1000,"ABC",null,null,0.1,1000,null,"ABC",1000,0.1,1000,0.1,10,null,1000,null,null,null,null,null,null,null,"X"]
[null,null,null,null,null,null,null,null,null,null,null,null,null,null,null,null,null,null,null,null,null,null,null,null,null,null,null,null,null,null,null,null,null,null,null,null,null,null,null,null,"X"]
[null,null,null,null,null,null,null,null,null,null,null,null,null,null,"Price List",null,null,null,null,null,null,null,"Cust. Cost",null,null,"Customer Cost Calculation",null,null,null,null,null,null,null,null,null,null,null,null,null,null,"X"]
[null,null,null,"Sizes & Shapes",null,null,null,null,null,null,null,null,null,null,"Full Carton",null,"Stock","Note",{"$f":"IF(Suggested=\"Yes\",AA12,AG12)","v":"List Price"},"U/M","Code",null,"Disc.","Net",null,"Chg","List Price","Disc","Act. Cost","GP%","Adj.","Group","Price",null,null,"Calc Price",".05 Round","Cents","Round to",null,"X"]
[null,null,null,null,null,null,null,null,null,null,null,null,null,null,null,null,null,null,null,null,null,null,null,null,null,null,null,null,null,null,null,null,null,null,null,null,null,null,null,null,"X"]
[null,null,null,null,null,null,null,null,null,null,null,null,null,null,{"$f":"\"File '\"&Instructions!B2&\"' - \"&Instructions!B1","v":"File 'L' - Laticrete"},null,null,null,null,null,null,null,"Cost",null,null,null,null,null,null,null,null,null,"Retail Price Calculations",null,null,null,null,null,null,null,"X"]
[null,null,null,null,null,null,null,null,null,null,null,null,null,null,null,null,null,null,null,{"$f":"+Instructions!B4","v":"6/1/25 (Updated)"},null,null,null,null,null,null,null,null,null,null,{"$f":"TODAY()","v":"2026-01-26"},null,null,null,null,null,null,null,null,null,"X"]
[null,null,null,null,null,null,null,null,null,null,null,null,null,{"$f":"IF(Instructions!C8=\"\",\"\",+Instructions!C8)","v":""},null,null,null,null,null,null,null,null,null,null,null,null,null,null,null,null,null,null,null,null,null,null,null,null,null,null,"X"]
[null,null,{"$f":"\"Product Code '\"&Instructions!B3&\"'\"","v":"Product Code 'I'"},null,null,null,null,null,null,null,null,null,null,null,null,null,null,null,null,null,null,null,null,null,null,null,null,null,null,null,null,null,{"$f":"IF(Instructions!$C$8=\"\",\"\",Instructions!$C$8)","v":""},null,null,null,null,null,null,null,"X"]
[null,null,null,null,null,null,null,null,null,null,null,null,null,null,null,null,null,null,null,null,null,null,null,null,null,null,null,null,null,null,null,null,null,null,null,null,null,null,null,null,"X"]
[null,null,"Sizes & Shapes",null,null,null,null,null,null,null,null,null,null,null,"Full Carton",null,"Stock","Note",{"$f":"+S$12","v":"List Price"},"U/M",{"$f":"+U$12","v":"Code"},null,"Disc.","Net",null,"Chg","List Price",{"$f":"+AB$12","v":"Disc"},"Act. Cost","GP%","Adj.",{"$f":"+AF$12","v":"Group"},"Price",null,null,"Calc Price",".05 Round","Cents","Round to",null,"X"]
[null,null,"ALL ITEMS MARKED WITH PACKAGING QUANTITY ARE SOLD IN MULTIPLES OF THAT QUANTITY ONLY",null,null,null,null,null,null,null,null,null,null,null,null,null,null,null,null,null,null,null,null,null,null,null,null,null,null,null,null,null,null,null,null,null,null,null,null,null,"X"]
[null,null,null,null,null,null,null,null,null,null,null,null,null,null,null,null,null,null,null,null,null,null,null,null,null,null,null,null,null,null,null,null,null,null,null,null,null,null,null,null,"X"]
[null,null,"MORTARS & ADHESIVES",null,null,null,null,null,null,null,null,null,null,null,null,null,null,null,null,null,null,null,null,null,null,null,null,null,null,null,null,null,null,null,null,null,null,null,null,null,"X"]
[]
[null,null,null,"MASTICS",null,null," ",null," "," "," "," "," ",null,null,null,null,"Item # Lookup:","LT0015",null,null,null,null,null,null,null,null,null,null,null,null,null,null,null,null,null,null,null,null,null,"X"]
[]
[null,null,null,"15 Premium Mastic",null,null,null,null," ",null,null," ",null,null,null,null,null,null,null,null,null,null,null,null,null,null,null,null,null,null,null,null,null,null,null,null,null,null,null,null,"X"]
[]
[null,"Mortars/Ahesive",null,null,"1 Gallon",null,null,null,null,null,null,null,null,null,null,null,"Stock",null,{"$f":"IF(Suggested=\"Yes\",AA28,AG28)","v":46.5},"EA",{"$f":"+Instructions!$B$3","v":"I"},null,{"$f":"+Instructions!$C$22","v":0},{"$f":"ROUND($AA28*(1-W28)+0.004999,2)","v":46.5},null,"",46.5,{"$f":"+W28","v":0},{"$f":"+X28","v":46.5},{"$f":"(AG28-AC28)/AG28","v":0},null,1,{"$f":"SUM(AJ28:AL28)+AE28","v":46.5},null,null,{"$f":"ROUND(AC28/(1-VLOOKUP(AF28,Group,2,FALSE)),2)","v":46.5},{"$f":"IF(VLOOKUP(AF28,Group,5,FALSE)=\"YES\",VLOOKUP(ROUND(ROUND(AJ28,1)-AJ28,2),Round,2,FALSE)+VLOOKUP(AF28,Group,6,FALSE),0)","v":0},{"$f":"IF(VLOOKUP(AF28,Group,7,FALSE)=\"\",0,ROUND(AJ28-0.04999,1)-AJ28+AM28)","v":0},{"$f":"IF(VLOOKUP(AF28,Group,7,FALSE)=\"\",\"\",VLOOKUP(AF28,Group,7,FALSE))","v":""},null,"X"]
[null,"Mortars/Ahesive",null,null,"3-1/2 Gallon",null,"Pail",null,null,null,null,null,null,null,null,null,"Stock",null,{"$f":"IF(Suggested=\"Yes\",AA29,AG29)","v":111.9},"EA",{"$f":"+Instructions!$B$3","v":"I"},null,{"$f":"+Instructions!$C$22","v":0},{"$f":"ROUND($AA29*(1-W29)+0.004999,2)","v":111.9},null,"",111.9,{"$f":"+W29","v":0},{"$f":"+X29","v":111.9},{"$f":"(AG29-AC29)/AG29","v":0},null,1,{"$f":"SUM(AJ29:AL29)+AE29","v":111.9},null,null,{"$f":"ROUND(AC29/(1-VLOOKUP(AF29,Group,2,FALSE)),2)","v":111.9},{"$f":"IF(VLOOKUP(AF29,Group,5,FALSE)=\"YES\",VLOOKUP(ROUND(ROUND(AJ29,1)-AJ29,2),Round,2,FALSE)+VLOOKUP(AF29,Group,6,FALSE),0)","v":0},{"$f":"IF(VLOOKUP(AF29,Group,7,FALSE)=\"\",0,ROUND(AJ29-0.04999,1)-AJ29+AM29)","v":0},{"$f":"IF(VLOOKUP(AF29,Group,7,FALSE)=\"\",\"\",VLOOKUP(AF29,Group,7,FALSE))","v":""},null,"X"]
[null,null,null,null,null,null,null,null,null,null,null,null,null,null,null,null,null,null,null,null,null,null,null,null,null,null,null,null,null,null,null,null,null,null,null,null,null,null,null,null,"X"]
[null,null,null,"Notes:","A premixed, white, water-resistant premium latex adhesive for use on both floor and wall tile installations.",null,null,null,null,null,null,null,null,null,null,null,null,null,null,null,null,null,null,null,null,null,null,null,null,null,null,null,null,null,null,null,null,null,null,null,"X"]
[null,null,null,null,null,null,null,null,null,null,null,null,null,null,null,null,null,null,null,null,null,null,null,null,null,null,null,null,null,null,null,null,null,null,null,null,null,null,null,null,"X"]
[null,null,null,null,null,null,"Approximate Coverage per Gallon",null,null,null,null,null,null,null,null,null,null,null,null,null,null,null,null,null,null,null,null,null,null,null,null,null,null,null,null,null,null,null,null,null,"X"]
[null,null,null,null,null,null,"NOTCH TROWEL",null,null,null,null,"COVERAGE",null,null,null,null,null,null,null,null,null,null,null,null,null,null,null,null,null,null,null,null,null,null,null,null,null,null,null,null,"X"]
[null,null,null,null,null,null,"1/8\" V-Notch",null,null,null,null,"50-60 sq ft",null,null,null,null,null,null,null,null,null,null,null,null,null,null,null,null,null,null,null,null,null,null,null,null,null,null,null,null,"X"]
[null,null,null,null,null,null,"3/16\" V-Notch",null,null,null,null,"30 sq ft",null,null,null,null,null,null,null,null,null,null,null,null,null,null,null,null,null,null,null,null,null,null,null,null,null,null,null,null,"X"]
[null,null,null,null,null,null,"1/4\" x 1/4\" Square ",null,null,null,null,"20 sq ft",null,null,null,null,null,null,null,null,null,null,null,null,null,null,null,null,null,null,null,null,null,null,null,null,null,null,null,null,"X"]
[]
[null,null,null,"MORTARS",null,null,null,null,null,null,null,null,null,null,null,null,null,"Item # Lookup:","LT0209G60LB",null,null,null,null,null,null,null,null,null,null,null,null,null,null,null,null,null,null,null,null,null,"X"]
[]
[null,null,null,"209 Floor Mud",null,null,null,null,null,null,null,null,null,null,null,null,null,null,null,null,null,null,null,null,null,null,null,null,null,null,null,null,null,null,null,null,null,null,null,null,"X"]
[]
[null,"Mortars/Ahesive",null,null,"60 lb",null,"Bag",null,"Grey",null,null,null,null,null,null,null,"Stock",null,{"$f":"IF(Suggested=\"Yes\",AA43,AG43)","v":32.700000000000003},"EA",{"$f":"+Instructions!$B$3","v":"I"},null,{"$f":"+Instructions!$C$22","v":0},{"$f":"ROUND($AA43*(1-W43)+0.004999,2)","v":32.700000000000003},null,"",32.700000000000003,{"$f":"+W43","v":0},{"$f":"+X43","v":32.700000000000003},{"$f":"(AG43-AC43)/AG43","v":0},null,1,{"$f":"SUM(AJ43:AL43)+AE43","v":32.700000000000003},null,null,{"$f":"ROUND(AC43/(1-VLOOKUP(AF43,Group,2,FALSE)),2)","v":32.700000000000003},{"$f":"IF(VLOOKUP(AF43,Group,5,FALSE)=\"YES\",VLOOKUP(ROUND(ROUND(AJ43,1)-AJ43,2),Round,2,FALSE)+VLOOKUP(AF43,Group,6,FALSE),0)","v":0},{"$f":"IF(VLOOKUP(AF43,Group,7,FALSE)=\"\",0,ROUND(AJ43-0.04999,1)-AJ43+AM43)","v":0},{"$f":"IF(VLOOKUP(AF43,Group,7,FALSE)=\"\",\"\",VLOOKUP(AF43,Group,7,FALSE))","v":""},null,"X"]
[null,null,null,null,null,null,null,null,null,null,null,null,null,null,null,null,null,null,null,null,null,null,null,null,null,null,null,null,null,null,null,null,null,null,null,null,null,null,null,null,"X"]
[null,null,null,"Notes:","Pre-mixed, economical alternative to Laticrete 226 Thick-Bed Mortar, Laticrete 209 Floor Mud mixes with Laticrete 3701 Mortar Admix to ",null,null,null,null,null,null,null,null,null,null,null,null,null,null,null,null,null,null,null,null,null,null,null,null,null,null,null,null,null,null,null,null,null,null,null,"X"]
[null,null,null,null,"provide a conventional floor mortar bed.  Suitable for interior applications such as small shower pan fills in bathrooms.  Approximate ",null,null,null,null,null,null,null,null,null,null,null,null,null,null,null,null,null,null,null,null,null,null,null,null,null,null,null,null,null,null,null,null,null,null,null,"X"]
[null,null,null,null,"Coverage: 6 SF at 1\" thick per 60 lb. Bag.    ",null,null,null,null,null,null,null,null,null,null,null,null,null,null,null,null,null,null,null,null,null,null,null,null,null,null,null,null,null,null,null,null,null,null,null,"X"]
[]
["x",null,null,"226 Thick Bed Mortar",null,null,null,null,null,null,null,null,null,null,null,null,null,"Item # Lookup:","LT0226G60LB",null,null,null,null,null,null,null,null,null,null,null,null,null,null,null,null,null,null,null,null,null,"X"]
[]
[null,"Mortars/Ahesive",null,null,"60 lb",null,"Bag",null,"Grey",null,null,null,null,null,null,null,"Stock",null,{"$f":"IF(Suggested=\"Yes\",AA51,AG51)","v":38.4},"EA",{"$f":"+Instructions!$B$3","v":"I"},null,{"$f":"+Instructions!$C$22","v":0},{"$f":"ROUND($AA51*(1-W51)+0.004999,2)","v":38.4},null,"",38.4,{"$f":"+W51","v":0},{"$f":"+X51","v":38.4},{"$f":"(AG51-AC51)/AG51","v":0},null,1,{"$f":"SUM(AJ51:AL51)+AE51","v":38.4},null,null,{"$f":"ROUND(AC51/(1-VLOOKUP(AF51,Group,2,FALSE)),2)","v":38.4},{"$f":"IF(VLOOKUP(AF51,Group,5,FALSE)=\"YES\",VLOOKUP(ROUND(ROUND(AJ51,1)-AJ51,2),Round,2,FALSE)+VLOOKUP(AF51,Group,6,FALSE),0)","v":0},{"$f":"IF(VLOOKUP(AF51,Group,7,FALSE)=\"\",0,ROUND(AJ51-0.04999,1)-AJ51+AM51)","v":0},{"$f":"IF(VLOOKUP(AF51,Group,7,FALSE)=\"\",\"\",VLOOKUP(AF51,Group,7,FALSE))","v":""},null,"X"]
[null,null,null,null,null,null,null,null,null,null,null,null,null,null,null,null,null,null,null,null,null,null,null,null,null,null,null,null,null,null,null,null,null,null,null,null,null,null,null,null,"X"]
[null,null,null,"Notes:","Designed for use with Laticrete 3701 Mortar Admix to produce a latex portland cement mortar that has exceptional strength.  Approximate ",null,null,null,null,null,null,null,null,null,null,null,null,null,null,null,null,null,null,null,null,null,null,null,null,null,null,null,null,null,null,null,null,null,null,null,"X"]
[null,null,null,null,"Coverage: 45 SF at 1\" thick per 1 x 5 gallon pail of 3701 admix & 7 x 60 bags of 226 mortar. ",null,null,null,null,null,null,null,null,null,null,null,null,null,null,null,null,null,null,null,null,null,null,null,null,null,null,null,null,null,null,null,null,null,null,null,"X"]
[]
["x",null,null,"229 Quick Cure Mortar Bed",null,null,null,null,null,null,null,null,null,null,null,null,null,"Item # Lookup:","LT022960LB",null,null,null,null,null,null,null,null,null,null,null,null,null,null,null,null,null,null,null,null,null,"X"]
[]
[null,"Mortars/Ahesive",null,null,"60 lb",null,"Bag",null,"Grey",null,null,null,null,null,null,null,null,null,{"$f":"IF(Suggested=\"Yes\",AA58,AG58)","v":65.599999999999994},"EA",{"$f":"+Instructions!$B$3","v":"I"},null,{"$f":"+Instructions!$C$22","v":0},{"$f":"ROUND($AA58*(1-W58)+0.004999,2)","v":65.599999999999994},null,"",65.599999999999994,{"$f":"+W58","v":0},{"$f":"+X58","v":65.599999999999994},{"$f":"(AG58-AC58)/AG58","v":0},null,1,{"$f":"SUM(AJ58:AL58)+AE58","v":65.599999999999994},null,null,{"$f":"ROUND(AC58/(1-VLOOKUP(AF58,Group,2,FALSE)),2)","v":65.599999999999994},{"$f":"IF(VLOOKUP(AF58,Group,5,FALSE)=\"YES\",VLOOKUP(ROUND(ROUND(AJ58,1)-AJ58,2),Round,2,FALSE)+VLOOKUP(AF58,Group,6,FALSE),0)","v":0},{"$f":"IF(VLOOKUP(AF58,Group,7,FALSE)=\"\",0,ROUND(AJ58-0.04999,1)-AJ58+AM58)","v":0},{"$f":"IF(VLOOKUP(AF58,Group,7,FALSE)=\"\",\"\",VLOOKUP(AF58,Group,7,FALSE))","v":""},null,"X"]
[null,null,null,null,null,null,null,null,null,null,null,null,null,null,null,null,null,null,null,null,null,null,null,null,null,null,null,null,null,null,null,null,null,null,null,null,null,null,null,null,"X"]
[null,null,null,"Notes:","Quick Cure Mortar Bed is a rapid setting, polymer fortified, blend of carefully selected polymers, portland cement and graded aggregates.",null,null,null,null,null,null,null,null,null,null,null,null,null,null,null,null,null,null,null,null,null,null,null,null,null,null,null,null,null,null,null,null,null,null,null,"X"]
[null,null,null,null,"Quick Cure Mortar Bed does not require the use of latex admix, you only need to add water to produce thick bed mortar.  It allows for foot",null,null,null,null,null,null,null,null,null,null,null,null,null,null,null,null,null,null,null,null,null,null,null,null,null,null,null,null,null,null,null,null,null,null,null,"X"]
[null,null,null,null,"traffic and walkability in as soon as 30 minutes for tile and shower system installs.  Quick Cure Mortar Bed is versatile for use for both interior",null,null,null,null,null,null,null,null,null,null,null,null,null,null,null,null,null,null,null,null,null,null,null,null,null,null,null,null,null,null,null,null,null,null,null,"X"]
[null,null,null,null,"and exterior applications, wet or dry applications, bonded and non-bonded thick bed mortar applications and shower systems.",null,null,null,null,null,null,null,null,null,null,null,null,null,null,null,null,null,null,null,null,null,null,null,null,null,null,null,null,null,null,null,null,null,null,null,"X"]
[null,null,null,null,null,null,null,null,null,null,null,null,null,null,null,null,null,null,null,null,null,null,null,null,null,null,null,null,null,null,null,null,null,null,null,null,null,null,null,null,"X"]
[null,null,null,null,null,null,"Approximate Coverage per 60 lb Bag",null,null,null,null,null,null,null,null,null,null,null,null,null,null,null,null,null,null,null,null,null,null,null,null,null,null,null,null,null,null,null,null,null,"X"]
[null,null," ",null,"  ",null,"THICKNESS",null,null,null,null,"COVERAGE",null,null,null,null,null,null,null,null,null,null,null,null,null,null,null,null,null,null,null,null,null,null,null,null,null,null,null,null,"X"]
[null,null,null,null,null,null,"1/2\"",null,null,null,null,"14 sq ft",null,null,null,null,null,null,null,null,null,null,null,null,null,null,null,null,null,null,null,null,null,null,null,null,null,null,null,null,"X"]
[null,null,null,null,null,null,"1\"",null,null,null,null,"7 sq ft",null,null,null,null,null,null,null,null,null,null,null,null,null,null,null,null,null,null,null,null,null,null,null,null,null,null,null,null,"X"]
[null,null,null,null,null,null,"2\"",null,null,null,null,"3.5 sq ft",null,null,null,null,null,null,null,null,null,null,null,null,null,null,null,null,null,null,null,null,null,null,null,null,null,null,null,null,"X"]
[]
["x",null,null,"3701 Fortified Mortar Bed",null,null,null,null,null,null,null,null,null,null,null,null,null,"Item # Lookup:","LT370160LB",null,null,null,null,null,null,null,null,null,null,null,null,null,null,null,null,null,null,null,null,null,"X"]
[]
[null,"Mortars/Ahesive",null,null,"60 lb",null,"Bag",null,"Grey",null,null,null,null,null,null,null,"Stock",null,{"$f":"IF(Suggested=\"Yes\",AA73,AG73)","v":81.3},"EA",{"$f":"+Instructions!$B$3","v":"I"},null,{"$f":"+Instructions!$C$22","v":0},{"$f":"ROUND($AA73*(1-W73)+0.004999,2)","v":81.3},null,"",81.3,{"$f":"+W73","v":0},{"$f":"+X73","v":81.3},{"$f":"(AG73-AC73)/AG73","v":0},null,1,{"$f":"SUM(AJ73:AL73)+AE73","v":81.3},null,null,{"$f":"ROUND(AC73/(1-VLOOKUP(AF73,Group,2,FALSE)),2)","v":81.3},{"$f":"IF(VLOOKUP(AF73,Group,5,FALSE)=\"YES\",VLOOKUP(ROUND(ROUND(AJ73,1)-AJ73,2),Round,2,FALSE)+VLOOKUP(AF73,Group,6,FALSE),0)","v":0},{"$f":"IF(VLOOKUP(AF73,Group,7,FALSE)=\"\",0,ROUND(AJ73-0.04999,1)-AJ73+AM73)","v":0},{"$f":"IF(VLOOKUP(AF73,Group,7,FALSE)=\"\",\"\",VLOOKUP(AF73,Group,7,FALSE))","v":""},null,"X"]
[null,null,null,null,null,null,null,null,null,null,null,null,null,null,null,null,null,null,null,null,null,null,null,null,null,null,null,null,null,null,null,null,null,null,null,null,null,null,null,null,"X"]
[null,null,null,"Notes:","A polymer fortified blend of carefully selected polymers, portland cement and graded aggregates.  Does not require the use of latex admix, ",null,null,null,null,null,null,null,null,null,null,null,null,null,null,null,null,null,null,null,null,null,null,null,null,null,null,null,null,null,null,null,null,null,null,null,"X"]
[null,null,null,null,"you only need to add water to produce thick bed mortar with exceptional strength. ",null,null,null,null,null,null,null,null,null,null,null,null,null,null,null,null,null,null,null,null,null,null,null,null,null,null,null,null,null,null,null,null,null,null,null,"X"]
[null,null,null,null,null,null,null,null,null,null,null,null,null,null,null,null,null,null,null,null,null,null,null,null,null,null,null,null,null,null,null,null,null,null,null,null,null,null,null,null,"X"]
[null,null,null,null,null,null,"Approximate Coverage per 60 lb Bag",null,null,null,null,null,null,null,null,null,null,null,null,null,null,null,null,null,null,null,null,null,null,null,null,null,null,null,null,null,null,null,null,null,"X"]
[null,null,null,null,"  ",null,"THICKNESS",null,null,null,null,"COVERAGE",null,null,null,null,null,null,null,null,null,null,null,null,null,null,null,null,null,null,null,null,null,null,null,null,null,null,null,null,"X"]
[null,null,null,null,null,null,"1/2\"",null,null,null,null,"12 sq ft",null,null,null,null,null,null,null,null,null,null,null,null,null,null,null,null,null,null,null,null,null,null,null,null,null,null,null,null,"X"]
[null,null,null,null,null,null,"1\"",null,null,null,null,"6 sq ft",null,null,null,null,null,null,null,null,null,null,null,null,null,null,null,null,null,null,null,null,null,null,null,null,null,null,null,null,"X"]
[null,null,null,null,null,null,"2\"",null,null,null,null,"3 sq ft",null,null,null,null,null,null,null,null,null,null,null,null,null,null,null,null,null,null,null,null,null,null,null,null,null,null,null,null,"X"]
[]
["x",null,null,"3701 Lite Mortar",null,null,null,null,null,null,null,null,null,null,null,null,null,"Item # Lookup:","LT370130LB",null,null,null,null,null,null,null,null,null,null,null,null,null,null,null,null,null,null,null,null,null,"X"]
[]
[null,"Mortars/Ahesive",null,null,"30 lb",null,"Bag",null,"Grey",null,null,null,null,null,null,null,null,null,{"$f":"IF(Suggested=\"Yes\",AA86,AG86)","v":68.2},"EA",{"$f":"+Instructions!$B$3","v":"I"},null,{"$f":"+Instructions!$C$22","v":0},{"$f":"ROUND($AA86*(1-W86)+0.004999,2)","v":68.2},null,"",68.2,{"$f":"+W86","v":0},{"$f":"+X86","v":68.2},{"$f":"(AG86-AC86)/AG86","v":0},null,1,{"$f":"SUM(AJ86:AL86)+AE86","v":68.2},null,null,{"$f":"ROUND(AC86/(1-VLOOKUP(AF86,Group,2,FALSE)),2)","v":68.2},{"$f":"IF(VLOOKUP(AF86,Group,5,FALSE)=\"YES\",VLOOKUP(ROUND(ROUND(AJ86,1)-AJ86,2),Round,2,FALSE)+VLOOKUP(AF86,Group,6,FALSE),0)","v":0},{"$f":"IF(VLOOKUP(AF86,Group,7,FALSE)=\"\",0,ROUND(AJ86-0.04999,1)-AJ86+AM86)","v":0},{"$f":"IF(VLOOKUP(AF86,Group,7,FALSE)=\"\",\"\",VLOOKUP(AF86,Group,7,FALSE))","v":""},null,"X"]
[null,null,null,null,null,null,null,null,null,null,null,null,null,null,null,null,null,null,null,null,null,null,null,null,null,null,null,null,null,null,null,null,null,null,null,null,null,null,null,null,"X"]
[null,null,null,"Notes:","3701 Lite Mortar contains carefully selected polymers, portland cement and light weight aggregates.  3701 Lite Mortar contains no silica sand",null,null,null,null,null,null,null,null,null,null,null,null,null,null,null,null,null,null,null,null,null,null,null,null,null,null,null,null,null,null,null,null,null,null,null,"X"]
[null,null,null,null,"and does not require the use of latex admix.  You will only need to add water to produce thick bed mortar or a vertical repair mortar/screed.",null,null,null,null,null,null,null,null,null,null,null,null,null,null,null,null,null,null,null,null,null,null,null,null,null,null,null,null,null,null,null,null,null,null,null,"X"]
[null,null,null,null,"3701 Lite Mortar weighs half the amount of a conventional thick bed mortar and is easy to mix / apply.",null,null,null,null,null,null,null,null,null,null,null,null,null,null,null,null,null,null,null,null,null,null,null,null,null,null,null,null,null,null,null,null,null,null,null,"X"]
[null,null,null,null,null,null,null,null,null,null,null,null,null,null,null,null,null,null,null,null,null,null,null,null,null,null,null,null,null,null,null,null,null,null,null,null,null,null,null,null,"X"]
[null,null,null,null,null,null,"Approximate Coverage per 30 lb Bag",null,null,null,null,null,null,null,null,null,null,null,null,null,null,null,null,null,null,null,null,null,null,null,null,null,null,null,null,null,null,null,null,null,"X"]
[null,null,null,null,"  ",null,"Render/Repair",null,null,"Mortar Bed",null,null,"Depth",null,null,null,null,null,null,null,null,null,null,null,null,null,null,null,null,null,null,null,null,null,null,null,null,null,null,null,"X"]
[null,null,null,null,null,null,"12 sq ft",null,null,"10 sq ft",null,null,"1/2\"",null,null,null,null,null,null,null,null,null,null,null,null,null,null,null,null,null,null,null,null,null,null,null,null,null,null,null,"X"]
[null,null,null,null,null,null,"6 sq ft",null,null,"5 sq ft",null,null,"1\"",null,null,null,null,null,null,null,null,null,null,null,null,null,null,null,null,null,null,null,null,null,null,null,null,null,null,null,"X"]
[null,null,null,null,null,null,"4 sq ft",null,null,"3 sq ft",null,null,"1-1/2\"",null,null,null,null,null,null,null,null,null,null,null,null,null,null,null,null,null,null,null,null,null,null,null,null,null,null,null,"X"]
[null,null,null,null,null,null,"3 sq ft",null,null,"2 sq ft",null,null,"2\"",null,null,null,null,null,null,null,null,null,null,null,null,null,null,null,null,null,null,null,null,null,null,null,null,null,null,null,"X"]
[]
["x",null,null,"3701 Lite Mortar R",null,null,null,null,null,null,null,null,null,null,null,null,null,"Item # Lookup:","LT3701R30LB",null,null,null,null,null,null,null,null,null,null,null,null,null,null,null,null,null,null,null,null,null,"X"]
[]
[null,"Mortars/Ahesive",null,null,"30 lb",null,"Bag",null,"Grey",null,null,null,null,null,null,null,null,null,{"$f":"IF(Suggested=\"Yes\",AA101,AG101)","v":81.3},"EA",{"$f":"+Instructions!$B$3","v":"I"},null,{"$f":"+Instructions!$C$22","v":0},{"$f":"ROUND($AA101*(1-W101)+0.004999,2)","v":81.3},null,"",81.3,{"$f":"+W101","v":0},{"$f":"+X101","v":81.3},{"$f":"(AG101-AC101)/AG101","v":0},null,1,{"$f":"SUM(AJ101:AL101)+AE101","v":81.3},null,null,{"$f":"ROUND(AC101/(1-VLOOKUP(AF101,Group,2,FALSE)),2)","v":81.3},{"$f":"IF(VLOOKUP(AF101,Group,5,FALSE)=\"YES\",VLOOKUP(ROUND(ROUND(AJ101,1)-AJ101,2),Round,2,FALSE)+VLOOKUP(AF101,Group,6,FALSE),0)","v":0},{"$f":"IF(VLOOKUP(AF101,Group,7,FALSE)=\"\",0,ROUND(AJ101-0.04999,1)-AJ101+AM101)","v":0},{"$f":"IF(VLOOKUP(AF101,Group,7,FALSE)=\"\",\"\",VLOOKUP(AF101,Group,7,FALSE))","v":""},null,"X"]
[null,null,null,null,null,null,null,null,null,null,null,null,null,null,null,null,null,null,null,null,null,null,null,null,null,null,null,null,null,null,null,null,null,null,null,null,null,null,null,null,"X"]
[null,null,null,"Notes:","3701 Lite Mortar R contains carefully selected polymers, portland cement and light weight aggregates.  This Rapid mortar can be used in a",null,null,null,null,null,null,null,null,null,null,null,null,null,null,null,null,null,null,null,null,null,null,null,null,null,null,null,null,null,null,null,null,null,null,null,"X"]
[null,null,null,null,"large amount of projects, decreasing the wait time significantly.  3701 Lite Mortar R contains no silica sand and does not require the use of",null,null,null,null,null,null,null,null,null,null,null,null,null,null,null,null,null,null,null,null,null,null,null,null,null,null,null,null,null,null,null,null,null,null,null,"X"]
[null,null,null,null,"latex admix.  You will only need to add water to produce thick bed mortar or a vertical repair mortar/screed.  3701 Lite Mortar R weighs",null,null,null,null,null,null,null,null,null,null,null,null,null,null,null,null,null,null,null,null,null,null,null,null,null,null,null,null,null,null,null,null,null,null,null,"X"]
[null,null,null,null,"half the amount of a conventional thick bed mortar and is easy to mix / apply.",null,null,null,null,null,null,null,null,null,null,null,null,null,null,null,null,null,null,null,null,null,null,null,null,null,null,null,null,null,null,null,null,null,null,null,"X"]
[null,null,null,null,null,null,null,null,null,null,null,null,null,null,null,null,null,null,null,null,null,null,null,null,null,null,null,null,null,null,null,null,null,null,null,null,null,null,null,null,"X"]
[null,null,"continued on next page",null,null,null,null,null,null,null,null,null,null,null,null,null,null,null,null,null,null,null,null,null,null,null,null,null,null,null,null,null,null,null,null,null,null,null,null,null,"X"]
["x",null,null,"3701 Lite Mortar R - continued  ",null,null,null,null,null,null,null,null,null,null,null,null,null,"Item # Lookup:","LT3701R30LB",null,null,null,null,null,null,null,null,null,null,null,null,null,null,null,null,null,null,null,null,null,"X"]
[null,null,null,null,null,null,null,null,null,null,null,null,null,null,null,null,null,null,null,null,null,null,null,null,null,null,null,null,null,null,null,null,null,null,null,null,null,null,null,null,"X"]
[null,null,null,null,null,null,"Approximate Coverage per 30 lb Bag",null,null,null,null,null,null,null,null,null,null,null,null,null,null,null,null,null,null,null,null,null,null,null,null,null,null,null,null,null,null,null,null,null,"X"]
[null,null,null,null,"  ",null,"Render/Repair",null,null,"Mortar Bed",null,null,"Depth",null,null,null,null,null,null,null,null,null,null,null,null,null,null,null,null,null,null,null,null,null,null,null,null,null,null,null,"X"]
[null,null,null,null,null,null,"12 sq ft",null,null,"10 sq ft",null,null,"1/2\"",null,null,null,null,null,null,null,null,null,null,null,null,null,null,null,null,null,null,null,null,null,null,null,null,null,null,null,"X"]
[null,null,null,null,null,null,"6 sq ft",null,null,"5 sq ft",null,null,"1\"",null,null,null,null,null,null,null,null,null,null,null,null,null,null,null,null,null,null,null,null,null,null,null,null,null,null,null,"X"]
[null,null,null,null,null,null,"4 sq ft",null,null,"3 sq ft",null,null,"1-1/2\"",null,null,null,null,null,null,null,null,null,null,null,null,null,null,null,null,null,null,null,null,null,null,null,null,null,null,null,"X"]
[null,null,null,null,null,null,"3 sq ft",null,null,"2 sq ft",null,null,"2\"",null,null,null,null,null,null,null,null,null,null,null,null,null,null,null,null,null,null,null,null,null,null,null,null,null,null,null,"X"]
[]
[null,null,null,"THIN-SET MORTARS - Non-Modified",null,null,null,null,null,null,null,null,null,null,null,null,null,null,null,null,null,null,null,null,null,null,null,null,null,null,null,null,null,null,null,null,null,null,null,null,"X"]
[]
[null,null,null,"272 Premium Floor & Wall",null,null,null,null,null,null,null,null,null,null,null,null,null,"Item # Lookup:","LT0272",null,null,null,null,null,null,null,null,null,null,null,null,null,null,null,null,null,null,null,null,null,"X"]
[]
[null,"Mortars/Ahesive",null,null,"50 lb",null,"Bag",null,"White",null,null,null,null,null,null,null,"Stock",null,{"$f":"IF(Suggested=\"Yes\",AA122,AG122)","v":56.3},"EA",{"$f":"+Instructions!$B$3","v":"I"},null,{"$f":"+Instructions!$C$22","v":0},{"$f":"ROUND($AA122*(1-W122)+0.004999,2)","v":56.3},null,"",56.3,{"$f":"+W122","v":0},{"$f":"+X122","v":56.3},{"$f":"(AG122-AC122)/AG122","v":0},null,1,{"$f":"SUM(AJ122:AL122)+AE122","v":56.3},null,null,{"$f":"ROUND(AC122/(1-VLOOKUP(AF122,Group,2,FALSE)),2)","v":56.3},{"$f":"IF(VLOOKUP(AF122,Group,5,FALSE)=\"YES\",VLOOKUP(ROUND(ROUND(AJ122,1)-AJ122,2),Round,2,FALSE)+VLOOKUP(AF122,Group,6,FALSE),0)","v":0},{"$f":"IF(VLOOKUP(AF122,Group,7,FALSE)=\"\",0,ROUND(AJ122-0.04999,1)-AJ122+AM122)","v":0},{"$f":"IF(VLOOKUP(AF122,Group,7,FALSE)=\"\",\"\",VLOOKUP(AF122,Group,7,FALSE))","v":""},null,"X"]
[null,null,null,null,null,null,null,null,null,null,null,null,null,null,null,null,null,null,null,null,null,null,null,null,null,null,null,null,null,null,null,null,null,null,null,null,null,null,null,null,"X"]
[null,null,null,"Notes:","A premium thin-set mortar that can be used for interior use on both floors & walls.  Ideal for use over masonry, concrete, cement backer ",null,null,null,null,null,null,null,null,null,null,null,null,null,null,null,null,null,null,null,null,null,null,null,null,null,null,null,null,null,null,null,null,null,null,null,"X"]
[null,null,null,null,"board, mortar beds & gypsum wallboard*.  Mix with Laticrete 333 Super Flexible Additive for increased performance or Laticrete 3701 Mortar ",null,null,null,null,null,null,null,null,null,null,null,null,null,null,null,null,null,null,null,null,null,null,null,null,null,null,null,null,null,null,null,null,null,null,null,"X"]
[null,null,null,null,"Admix for exterior use.  (* interiors only)           ",null,null,null,null,null,null,null,null,null,null,null,null,null,null,null,null,null,null,null,null,null,null,null,null,null,null,null,null,null,null,null,null,null,null,null,"X"]
[null,null,null,null,null,null,null,null,null,null,null,null,null,null,null,null,null,null,null,null,null,null,null,null,null,null,null,null,null,null,null,null,null,null,null,null,null,null,null,null,"X"]
[null,null,null,null,null,null,"Approximate Coverage per 50 lb Bag",null,null,null,null,null,null,null,null,null,null,null,null,null,null,null,null,null,null,null,null,null,null,null,null,null,null,null,null,null,null,null,null,null,"X"]
[null,null,null,null,null,null,"NOTCH TROWEL",null,null,null,null,"COVERAGE",null,null,null,null,null,null,null,null,null,null,null,null,null,null,null,null,null,null,null,null,null,null,null,null,null,null,null,null,"X"]
[null,null,null,null,null,null,"1/4\" x 1/4\"",null,null,null,null,"75-90 sq ft",null,null,null,null,null,null,null,null,null,null,null,null,null,null,null,null,null,null,null,null,null,null,null,null,null,null,null,null,"X"]
[null,null,null," ",null,null,"1/4\" x 3/8\"",null,null,null,null,"55-65 sq ft",null,null,null,null,null,null,null,null,null,null,null,null,null,null,null,null,null,null,null,null,null,null,null,null,null,null,null,null,"X"]
[]
[null,null,null,"317 Floor & Wall",null,null,null,null,null,null,null,null,null,null,null,null,null,"Item # Lookup:","LT0317",null,null,null,null,null,null,null,null,null,null,null,null,null,null,null,null,null,null,null,null,null,"X"]
[]
[null,"Mortars/Ahesive",null,null,"50 lb",null,"Bag",null,"Grey",null,null,null,null,null,null,null,"Stock",null,{"$f":"IF(Suggested=\"Yes\",AA135,AG135)","v":29.05},"EA",{"$f":"+Instructions!$B$3","v":"I"},null,{"$f":"+Instructions!$C$22","v":0},{"$f":"ROUND($AA135*(1-W135)+0.004999,2)","v":29.05},null,"",29.05,{"$f":"+W135","v":0},{"$f":"+X135","v":29.05},{"$f":"(AG135-AC135)/AG135","v":0},null,1,{"$f":"SUM(AJ135:AL135)+AE135","v":29.05},null,null,{"$f":"ROUND(AC135/(1-VLOOKUP(AF135,Group,2,FALSE)),2)","v":29.05},{"$f":"IF(VLOOKUP(AF135,Group,5,FALSE)=\"YES\",VLOOKUP(ROUND(ROUND(AJ135,1)-AJ135,2),Round,2,FALSE)+VLOOKUP(AF135,Group,6,FALSE),0)","v":0},{"$f":"IF(VLOOKUP(AF135,Group,7,FALSE)=\"\",0,ROUND(AJ135-0.04999,1)-AJ135+AM135)","v":0},{"$f":"IF(VLOOKUP(AF135,Group,7,FALSE)=\"\",\"\",VLOOKUP(AF135,Group,7,FALSE))","v":""},null,"X"]
[null,"Mortars/Ahesive",null," ","50 lb",null,"Bag",null,"White",null,null,null,null,null,null,null,"Stock",null,{"$f":"IF(Suggested=\"Yes\",AA136,AG136)","v":38.1},"EA",{"$f":"+Instructions!$B$3","v":"I"},null,{"$f":"+Instructions!$C$22","v":0},{"$f":"ROUND($AA136*(1-W136)+0.004999,2)","v":38.1},null,"",38.1,{"$f":"+W136","v":0},{"$f":"+X136","v":38.1},{"$f":"(AG136-AC136)/AG136","v":0},null,1,{"$f":"SUM(AJ136:AL136)+AE136","v":38.1},null,null,{"$f":"ROUND(AC136/(1-VLOOKUP(AF136,Group,2,FALSE)),2)","v":38.1},{"$f":"IF(VLOOKUP(AF136,Group,5,FALSE)=\"YES\",VLOOKUP(ROUND(ROUND(AJ136,1)-AJ136,2),Round,2,FALSE)+VLOOKUP(AF136,Group,6,FALSE),0)","v":0},{"$f":"IF(VLOOKUP(AF136,Group,7,FALSE)=\"\",0,ROUND(AJ136-0.04999,1)-AJ136+AM136)","v":0},{"$f":"IF(VLOOKUP(AF136,Group,7,FALSE)=\"\",\"\",VLOOKUP(AF136,Group,7,FALSE))","v":""},null,"X"]
[null,null,null,null,null,null,null,null,null,null,null,null,null,null,null,null,null,null,null,null,null,null,null,null,null,null,null,null,null,null,null,null,null,null,null,null,null,null,null,null,"X"]
[null,null,null,"Notes:","This smooth & creamy, sanded thin-set mortar can be used for interior or exterior applications on floors & walls over masonry, concrete, ",null,null,null,null,null,null,null,null,null,null,null,null,null,null,null,null,null,null,null,null,null,null,null,null,null,null,null,null,null,null,null,null,null,null,null,"X"]
[null,null,null,null,"cement backer board, mortar beds & gypsum wallboard*.  Mix with Laticrete 333 Super Flexible Additive for increased performance or ",null,null,null,null,null,null,null,null,null,null,null,null,null,null,null,null,null,null,null,null,null,null,null,null,null,null,null,null,null,null,null,null,null,null,null,"X"]
[null,null,null,null,"Laticrete 3701 Mortar Admix for exterior use.  (* interiors only)      ",null,null,null,null,null,null,null,null,null,null,null,null,null,null,null,null,null,null,null,null,null,null,null,null,null,null,null,null,null,null,null,null,null,null,null,"X"]
[null,null,null,null,null,null,null,null,null,null,null,null,null,null,null,null,null,null,null,null,null,null,null,null,null,null,null,null,null,null,null,null,null,null,null,null,null,null,null,null,"X"]
[null,null,null,null,null,null,"Approximate Coverage per 50 lb Bag",null,null,null,null,null,null,null,null,null,null,null,null,null,null,null,null,null,null,null,null,null,null,null,null,null,null,null,null,null,null,null,null,null,"X"]
[null,null,null,null," ",null,"NOTCH TROWEL",null,null,null,null,"COVERAGE",null,null,null,null,null,null,null,null,null,null,null,null,null,null,null,null,null,null,null,null,null,null,null,null,null,null,null,null,"X"]
[null,null,null,null,null,null,"1/4\" x 1/4\"",null,null,null,null,"75-90 sq ft",null,null,null,null,null,null,null,null,null,null,null,null,null,null,null,null,null,null,null,null,null,null,null,null,null,null,null,null,"X"]
[null,null,null,null,null,null,"1/4\" x 3/8\"",null,null,null,null,"55-65 sq ft",null,null,null,null,null,null,null,null,null,null,null,null,null,null,null,null,null,null,null,null,null,null,null,null,null,null,null,null,"X"]
[null,null,null,null,null,null,null,null,null,null,null,null,null,null,null,null,null,null,null,null,null,null,null,null,null,null,null,null,null,null,null,null,null,null,null,null,null,null,null,null,"X"]
[null,null,null,"THIN-SET MORTARS - Polymer Fortified",null,null,null,null,null,null,null,null,null,null,null,null,null,null,null,null,null,null,null,null,null,null,null,null,null,null,null,null,null,null,null,null,null,null,null,null,"X"]
[]
[null,null,null,"252 Silver",null,null,null,null,null,null,null,null,null,null,null,null,null,"Item # Lookup:","LT0252",null,null,null,null,null,null,null,null,null,null,null,null,null,null,null,null,null,null,null,null,null,"X"]
[]
[null,"Mortars/Ahesive",null,null,"50 lb",null,"Bag",null,"Grey",null,null,null,null,null,null,null,null,null,{"$f":"IF(Suggested=\"Yes\",AA151,AG151)","v":35.4},"EA",{"$f":"+Instructions!$B$3","v":"I"},null,{"$f":"+Instructions!$C$22","v":0},{"$f":"ROUND($AA151*(1-W151)+0.004999,2)","v":35.4},null,"",35.4,{"$f":"+W151","v":0},{"$f":"+X151","v":35.4},{"$f":"(AG151-AC151)/AG151","v":0},null,1,{"$f":"SUM(AJ151:AL151)+AE151","v":35.4},null,null,{"$f":"ROUND(AC151/(1-VLOOKUP(AF151,Group,2,FALSE)),2)","v":35.4},{"$f":"IF(VLOOKUP(AF151,Group,5,FALSE)=\"YES\",VLOOKUP(ROUND(ROUND(AJ151,1)-AJ151,2),Round,2,FALSE)+VLOOKUP(AF151,Group,6,FALSE),0)","v":0},{"$f":"IF(VLOOKUP(AF151,Group,7,FALSE)=\"\",0,ROUND(AJ151-0.04999,1)-AJ151+AM151)","v":0},{"$f":"IF(VLOOKUP(AF151,Group,7,FALSE)=\"\",\"\",VLOOKUP(AF151,Group,7,FALSE))","v":""},null,"X"]
[null,"Mortars/Ahesive",null,null,"50 lb",null,"Bag",null,"White",null,null,null,null,null,null,null,null,null,{"$f":"IF(Suggested=\"Yes\",AA152,AG152)","v":37.950000000000003},"EA",{"$f":"+Instructions!$B$3","v":"I"},null,{"$f":"+Instructions!$C$22","v":0},{"$f":"ROUND($AA152*(1-W152)+0.004999,2)","v":37.950000000000003},null,"",37.950000000000003,{"$f":"+W152","v":0},{"$f":"+X152","v":37.950000000000003},{"$f":"(AG152-AC152)/AG152","v":0},null,1,{"$f":"SUM(AJ152:AL152)+AE152","v":37.950000000000003},null,null,{"$f":"ROUND(AC152/(1-VLOOKUP(AF152,Group,2,FALSE)),2)","v":37.950000000000003},{"$f":"IF(VLOOKUP(AF152,Group,5,FALSE)=\"YES\",VLOOKUP(ROUND(ROUND(AJ152,1)-AJ152,2),Round,2,FALSE)+VLOOKUP(AF152,Group,6,FALSE),0)","v":0},{"$f":"IF(VLOOKUP(AF152,Group,7,FALSE)=\"\",0,ROUND(AJ152-0.04999,1)-AJ152+AM152)","v":0},{"$f":"IF(VLOOKUP(AF152,Group,7,FALSE)=\"\",\"\",VLOOKUP(AF152,Group,7,FALSE))","v":""},null,"X"]
[null,null,null,null,null,null,null,null,null,null,null,null,null,null,null,null,null,null,null,null,null,null,null,null,null,null,null,null,null,null,null,null,null,null,null,null,null,null,null,null,"X"]
[null,null,null,"Notes:","For economical interior & exterior installations.  Designed to be mixed with water for a strong bond. ",null,null,null,null,null,null,null,null,null,null,null,null,null,null,null,null,null,null,null,null,null,null,null,null,null,null,null,null,null,null,null,null,null,null,null,"X"]
[null,null,null,null,null,null,null,null,null,null,null,null,null,null,null,null,null,null,null,null,null,null,null,null,null,null,null,null,null,null,null,null,null,null,null,null,null,null,null,null,"X"]
[null,null,null,null,null,null,"Approximate Coverage per 50 lb Bag",null,null,null,null,null,null,null,null,null,null,null,null,null,null,null,null,null,null,null,null,null,null,null,null,null,null,null,null,null,null,null,null,null,"X"]
[null,null,null,null,null,null,"NOTCH TROWEL",null,null,null,null,"COVERAGE",null,null,null,null,null,null,null,null,null,null,null,null,null,null,null,null,null,null,null,null,null,null,null,null,null,null,null,null,"X"]
[null,null,null,null,null,null,"1/4\" x 1/4\"",null,null,null,null,"80-95 sq ft",null,null,null,null,null,null,null,null,null,null,null,null,null,null,null,null,null,null,null,null,null,null,null,null,null,null,null,null,"X"]
[null,null,null,null,null,null,"1/4\" x 3/8\"",null,null,null,null,"60-70 sq ft",null,null,null,null,null,null,null,null,null,null,null,null,null,null,null,null,null,null,null,null,null,null,null,null,null,null,null,null,"X"]
[null,null,null,null,null,null,null,null,null,null,null,null,null,null,null,null,null,null,null,null,null,null,null,null,null,null,null,null,null,null,null,null,null,null,null,null,null,null,null,null,"X"]
[null,null,null,"253 Gold",null,null,null,null,null,null,null,null,null,null,null,null,null,"Item # Lookup:","LT0253",null,null,null,null,null,null,null,null,null,null,null,null,null,null,null,null,null,null,null,null,null,"X"]
[]
[null,"Mortars/Ahesive",null,null,"50 lb",null,"Bag",null,"Grey",null,null,null,null,null,null,null,"Stock",null,{"$f":"IF(Suggested=\"Yes\",AA163,AG163)","v":43.65},"EA",{"$f":"+Instructions!$B$3","v":"I"},null,{"$f":"+Instructions!$C$22","v":0},{"$f":"ROUND($AA163*(1-W163)+0.004999,2)","v":43.65},null,"",43.65,{"$f":"+W163","v":0},{"$f":"+X163","v":43.65},{"$f":"(AG163-AC163)/AG163","v":0},null,1,{"$f":"SUM(AJ163:AL163)+AE163","v":43.65},null,null,{"$f":"ROUND(AC163/(1-VLOOKUP(AF163,Group,2,FALSE)),2)","v":43.65},{"$f":"IF(VLOOKUP(AF163,Group,5,FALSE)=\"YES\",VLOOKUP(ROUND(ROUND(AJ163,1)-AJ163,2),Round,2,FALSE)+VLOOKUP(AF163,Group,6,FALSE),0)","v":0},{"$f":"IF(VLOOKUP(AF163,Group,7,FALSE)=\"\",0,ROUND(AJ163-0.04999,1)-AJ163+AM163)","v":0},{"$f":"IF(VLOOKUP(AF163,Group,7,FALSE)=\"\",\"\",VLOOKUP(AF163,Group,7,FALSE))","v":""},null,"X"]
[null,"Mortars/Ahesive",null,null,"50 lb",null,"Bag",null,"White",null,null,null,null,null,null,null,"Stock",null,{"$f":"IF(Suggested=\"Yes\",AA164,AG164)","v":51.05},"EA",{"$f":"+Instructions!$B$3","v":"I"},null,{"$f":"+Instructions!$C$22","v":0},{"$f":"ROUND($AA164*(1-W164)+0.004999,2)","v":51.05},null,"",51.05,{"$f":"+W164","v":0},{"$f":"+X164","v":51.05},{"$f":"(AG164-AC164)/AG164","v":0},null,1,{"$f":"SUM(AJ164:AL164)+AE164","v":51.05},null,null,{"$f":"ROUND(AC164/(1-VLOOKUP(AF164,Group,2,FALSE)),2)","v":51.05},{"$f":"IF(VLOOKUP(AF164,Group,5,FALSE)=\"YES\",VLOOKUP(ROUND(ROUND(AJ164,1)-AJ164,2),Round,2,FALSE)+VLOOKUP(AF164,Group,6,FALSE),0)","v":0},{"$f":"IF(VLOOKUP(AF164,Group,7,FALSE)=\"\",0,ROUND(AJ164-0.04999,1)-AJ164+AM164)","v":0},{"$f":"IF(VLOOKUP(AF164,Group,7,FALSE)=\"\",\"\",VLOOKUP(AF164,Group,7,FALSE))","v":""},null,"X"]
[null,null,null,null,null,null,null,null,null,null,null,null,null,null,null,null,null,null,null,null,null,null,null,null,null,null,null,null,null,null,null,null,null,null,null,null,null,null,null,null,"X"]
[null,null,null,"Notes:","A smooth & creamy multipurpose thin-set mortar designed to be mixed with water for interior & exterior applications of ceramic tile, ",null,null,null,null,null,null,null,null,null,null,null,null,null,null,null,null,null,null,null,null,null,null,null,null,null,null,null,null,null,null,null,null,null,null,null,"X"]
[null,null,null,null,"porcelain tile, quarry tile, pavers, brick, & stone.  Provides a superior bond over exterior glue plywood* as well as concrete, masonry, ",null,null,null,null,null,null,null,null,null,null,null,null,null,null,null,null,null,null,null,null,null,null,null,null,null,null,null,null,null,null,null,null,null,null,null,"X"]
[null,null,null,null,"gypsum wallboard*, plastic laminate*, non-water soluble cutback adhesive* & vinyl tile*.  (* interiors only)     ",null,null,null,null,null,null,null,null,null,null,null,null,null,null,null,null,null,null,null,null,null,null,null,null,null,null,null,null,null,null,null,null,null,null,null,"X"]
[null,null,null,null,null,null,null,null,null,null,null,null,null,null,null,null,null,null,null,null,null,null,null,null,null,null,null,null,null,null,null,null,null,null,null,null,null,null,null,null,"X"]
[null,null," ",null,null,null,"Approximate Coverage per 50 lb Bag",null,null,null,null,null,null,null,null,null,null,null,null,null,null,null,null,null,null,null,null,null,null,null,null,null,null,null,null,null,null,null,null,null,"X"]
[null,null," ",null,null,null,"NOTCH TROWEL",null,null,null,null,"COVERAGE",null,null,null,null,null,null,null,null,null,null,null,null,null,null,null,null,null,null,null,null,null,null,null,null,null,null,null,null,"X"]
[null,null,null,null,null,null,"1/4\" x 1/4\"",null,null,null,null,"80-95 sq ft",null,null,null,null,null,null,null,null,null,null,null,null,null,null,null,null,null,null,null,null,null,null,null,null,null,null,null,null,"X"]
[null,null,null,null,null,null,"1/4\" x 3/8\"",null,null,null,null,"60-70 sq ft",null,null,null,null,null,null,null,null,null,null,null,null,null,null,null,null,null,null,null,null,null,null,null,null,null,null,null,null,"X"]
[]
["x",null,null,"253R Gold Rapid",null,null,null,null,null,null,null,null,null,null,null,null,null,"Item # Lookup:","LT0253R",null,null,null,null,null,null,null,null,null,null,null,null,null,null,null,null,null,null,null,null,null,"X"]
[]
[null,"Mortars/Ahesive",null,null,"50 lb",null,"Bag",null,"Grey",null,null,null,null,null,null,null,"Stock",null,{"$f":"IF(Suggested=\"Yes\",AA177,AG177)","v":76},"EA",{"$f":"+Instructions!$B$3","v":"I"},null,{"$f":"+Instructions!$C$22","v":0},{"$f":"ROUND($AA177*(1-W177)+0.004999,2)","v":76},null,"",76,{"$f":"+W177","v":0},{"$f":"+X177","v":76},{"$f":"(AG177-AC177)/AG177","v":0},null,1,{"$f":"SUM(AJ177:AL177)+AE177","v":76},null,null,{"$f":"ROUND(AC177/(1-VLOOKUP(AF177,Group,2,FALSE)),2)","v":76},{"$f":"IF(VLOOKUP(AF177,Group,5,FALSE)=\"YES\",VLOOKUP(ROUND(ROUND(AJ177,1)-AJ177,2),Round,2,FALSE)+VLOOKUP(AF177,Group,6,FALSE),0)","v":0},{"$f":"IF(VLOOKUP(AF177,Group,7,FALSE)=\"\",0,ROUND(AJ177-0.04999,1)-AJ177+AM177)","v":0},{"$f":"IF(VLOOKUP(AF177,Group,7,FALSE)=\"\",\"\",VLOOKUP(AF177,Group,7,FALSE))","v":""},null,"X"]
[null,"Mortars/Ahesive",null,null,"50 lb",null,"Bag",null,"White",null,null,null,null,null,null,null,"Stock",null,{"$f":"IF(Suggested=\"Yes\",AA178,AG178)","v":87.4},"EA",{"$f":"+Instructions!$B$3","v":"I"},null,{"$f":"+Instructions!$C$22","v":0},{"$f":"ROUND($AA178*(1-W178)+0.004999,2)","v":87.4},null,"",87.4,{"$f":"+W178","v":0},{"$f":"+X178","v":87.4},{"$f":"(AG178-AC178)/AG178","v":0},null,1,{"$f":"SUM(AJ178:AL178)+AE178","v":87.4},null,null,{"$f":"ROUND(AC178/(1-VLOOKUP(AF178,Group,2,FALSE)),2)","v":87.4},{"$f":"IF(VLOOKUP(AF178,Group,5,FALSE)=\"YES\",VLOOKUP(ROUND(ROUND(AJ178,1)-AJ178,2),Round,2,FALSE)+VLOOKUP(AF178,Group,6,FALSE),0)","v":0},{"$f":"IF(VLOOKUP(AF178,Group,7,FALSE)=\"\",0,ROUND(AJ178-0.04999,1)-AJ178+AM178)","v":0},{"$f":"IF(VLOOKUP(AF178,Group,7,FALSE)=\"\",\"\",VLOOKUP(AF178,Group,7,FALSE))","v":""},null,"X"]
[null,null,null,null,null,null,null,null,null,null,null,null,null,null,null,null,null,null,null,null,null,null,null,null,null,null,null,null,null,null,null,null,null,null,null,null,null,null,null,null,"X"]
[null,null,null,"Notes:","Set & then grout ceramic tile, porcelain, pavers, brick & stone in just 2-4 hours with this fast-setting, polymer fortified multipurpose thin-set ",null,null,null,null,null,null,null,null,null,null,null,null,null,null,null,null,null,null,null,null,null,null,null,null,null,null,null,null,null,null,null,null,null,null,null,"X"]
[null,null,null,null,"mortar.  Just mix with water for a superior  bond to concrete, masonry & exterior glue plywood*.  (* interiors only)     ",null,null,null,null,null,null,null,null,null,null,null,null,null,null,null,null,null,null,null,null,null,null,null,null,null,null,null,null,null,null,null,null,null,null,null,"X"]
[null,null,null,null,null,null,null,null,null,null,null,null,null,null,null,null,null,null,null,null,null,null,null,null,null,null,null,null,null,null,null,null,null,null,null,null,null,null,null,null,"X"]
[null,null,null,"254 Platinum",null,null,null,null,null,null,null,null,null,null,null,null,null,"Item # Lookup:","LT0254",null,null,null,null,null,null,null,null,null,null,null,null,null,null,null,null,null,null,null,null,null,"X"]
[]
[null,"Mortars/Ahesive",null,null,"50 lb",null,"Bag",null,"Grey",null,null,null,null,null,null,null,"Stock",null,{"$f":"IF(Suggested=\"Yes\",AA185,AG185)","v":107.65},"EA",{"$f":"+Instructions!$B$3","v":"I"},null,{"$f":"+Instructions!$C$22","v":0},{"$f":"ROUND($AA185*(1-W185)+0.004999,2)","v":107.65},null,"",107.65,{"$f":"+W185","v":0},{"$f":"+X185","v":107.65},{"$f":"(AG185-AC185)/AG185","v":0},null,1,{"$f":"SUM(AJ185:AL185)+AE185","v":107.65},null,null,{"$f":"ROUND(AC185/(1-VLOOKUP(AF185,Group,2,FALSE)),2)","v":107.65},{"$f":"IF(VLOOKUP(AF185,Group,5,FALSE)=\"YES\",VLOOKUP(ROUND(ROUND(AJ185,1)-AJ185,2),Round,2,FALSE)+VLOOKUP(AF185,Group,6,FALSE),0)","v":0},{"$f":"IF(VLOOKUP(AF185,Group,7,FALSE)=\"\",0,ROUND(AJ185-0.04999,1)-AJ185+AM185)","v":0},{"$f":"IF(VLOOKUP(AF185,Group,7,FALSE)=\"\",\"\",VLOOKUP(AF185,Group,7,FALSE))","v":""},null,"X"]
[null,"Mortars/Ahesive",null,null,"50 lb",null,"Bag",null,"White ",null,null,null,null,null,"  ",null,"Stock",null,{"$f":"IF(Suggested=\"Yes\",AA186,AG186)","v":119.15},"EA",{"$f":"+Instructions!$B$3","v":"I"},null,{"$f":"+Instructions!$C$22","v":0},{"$f":"ROUND($AA186*(1-W186)+0.004999,2)","v":119.15},null,"",119.15,{"$f":"+W186","v":0},{"$f":"+X186","v":119.15},{"$f":"(AG186-AC186)/AG186","v":0},null,1,{"$f":"SUM(AJ186:AL186)+AE186","v":119.15},null,null,{"$f":"ROUND(AC186/(1-VLOOKUP(AF186,Group,2,FALSE)),2)","v":119.15},{"$f":"IF(VLOOKUP(AF186,Group,5,FALSE)=\"YES\",VLOOKUP(ROUND(ROUND(AJ186,1)-AJ186,2),Round,2,FALSE)+VLOOKUP(AF186,Group,6,FALSE),0)","v":0},{"$f":"IF(VLOOKUP(AF186,Group,7,FALSE)=\"\",0,ROUND(AJ186-0.04999,1)-AJ186+AM186)","v":0},{"$f":"IF(VLOOKUP(AF186,Group,7,FALSE)=\"\",\"\",VLOOKUP(AF186,Group,7,FALSE))","v":""},null,"X"]
[null,null,null,null,null,null,null,null,null,null,null,null,null,null,null,null,null,null,null,null,null,null,null,null,null,null,null,null,null,null,null,null,null,null,null,null,null,null,null,null,"X"]
[null,null,null,"Notes:","The ultimate one-step, polymer fortified thin-set that provides unsurpassed strength.  The exceptional bond strength & easy workability",null,null,null,null,null,null,null,null,null,null,null,null,null,null,null,null,null,null,null,null,null,null,null,null,null,null,null,null,null,null,null,null,null,null,null,"X"]
[null,null,null,null,"makes this multipurpose thin-set the ultimate adhesive for difficult to bond porcelain tiles as well as glass mosaics & large format glass tile.",null,null,null,null,null,null,null,null,null,null,null,null,null,null,null,null,null,null,null,null,null,null,null,null,null,null,null,null,null,null,null,null,null,null,null,"X"]
[null,null,null,null,null,null,null,null,null,null,null,null,null,null,null,null,null,null,null,null,null,null,null,null,null,null,null,null,null,null,null,null,null,null,null,null,null,null,null,null,"X"]
[null,null,null,null,null,null,"Approximate Coverage per 50 lb Bag",null,null,null,null,null,null,null,null,null,null,null,null,null,null,null,null,null,null,null,null,null,null,null,null,null,null,null,null,null,null,null,null,null,"X"]
[null,null,null,null,null,null,"NOTCH TROWEL",null,null,null,null,"COVERAGE",null,null,null,null,null,null,null,null,null,null,null,null,null,null,null,null,null,null,null,null,null,null,null,null,null,null,null,null,"X"]
[null,null,null,null,null,null,"1/4\" x 1/4\"",null,null,null,null,"80-95 sq ft",null,null,null,null,null,null,null,null,null,null,null,null,null,null,null,null,null,null,null,null,null,null,null,null,null,null,null,null,"X"]
[null,null,null,null,null,null,"1/4\" x 3/8\"",null,null,null,null,"60-70 sq ft",null,null,null,null,null,null,null,null,null,null,null,null,null,null,null,null,null,null,null,null,null,null,null,null,null,null,null,null,"X"]
[null,null,null,null,null,null,"1/2\" x 1/2\"",null,null,null,null,"35-40 sq ft",null,null,null,null,null,null,null,null,null,null,null,null,null,null,null,null,null,null,null,null,null,null,null,null,null,null,null,null,"X"]
[null,null,null,null,null,null,null,null,null,null,null,null,null,null,null,null,null,null,null,null,null,null,null,null,null,null,null,null,null,null,null,null,null,null,null,null,null,null,null,null,"X"]
[null,null,null,"254R Platinum Rapid",null,null,null,null,null,null,null,null,null,null,null,null,null,"Item # Lookup:","LT0254R",null,null,null,null,null,null,null,null,null,null,null,null,null,null,null,null,null,null,null,null,null,"X"]
[]
[null,"Mortars/Ahesive",null,null,"25 lb",null,"Bag",null,"Grey ",null,null,null,null,null,null,null,null,null,{"$f":"IF(Suggested=\"Yes\",AA199,AG199)","v":86.2},"EA",{"$f":"+Instructions!$B$3","v":"I"},null,{"$f":"+Instructions!$C$22","v":0},{"$f":"ROUND($AA199*(1-W199)+0.004999,2)","v":86.2},null,"",86.2,{"$f":"+W199","v":0},{"$f":"+X199","v":86.2},{"$f":"(AG199-AC199)/AG199","v":0},null,1,{"$f":"SUM(AJ199:AL199)+AE199","v":86.2},null,null,{"$f":"ROUND(AC199/(1-VLOOKUP(AF199,Group,2,FALSE)),2)","v":86.2},{"$f":"IF(VLOOKUP(AF199,Group,5,FALSE)=\"YES\",VLOOKUP(ROUND(ROUND(AJ199,1)-AJ199,2),Round,2,FALSE)+VLOOKUP(AF199,Group,6,FALSE),0)","v":0},{"$f":"IF(VLOOKUP(AF199,Group,7,FALSE)=\"\",0,ROUND(AJ199-0.04999,1)-AJ199+AM199)","v":0},{"$f":"IF(VLOOKUP(AF199,Group,7,FALSE)=\"\",\"\",VLOOKUP(AF199,Group,7,FALSE))","v":""},null,"X"]
[null,"Mortars/Ahesive",null,null,"25 lb",null,"Bag",null,"White",null,null,null,null,null,null,null,null,null,{"$f":"IF(Suggested=\"Yes\",AA200,AG200)","v":94.15},"EA",{"$f":"+Instructions!$B$3","v":"I"},null,{"$f":"+Instructions!$C$22","v":0},{"$f":"ROUND($AA200*(1-W200)+0.004999,2)","v":94.15},null,"",94.15,{"$f":"+W200","v":0},{"$f":"+X200","v":94.15},{"$f":"(AG200-AC200)/AG200","v":0},null,1,{"$f":"SUM(AJ200:AL200)+AE200","v":94.15},null,null,{"$f":"ROUND(AC200/(1-VLOOKUP(AF200,Group,2,FALSE)),2)","v":94.15},{"$f":"IF(VLOOKUP(AF200,Group,5,FALSE)=\"YES\",VLOOKUP(ROUND(ROUND(AJ200,1)-AJ200,2),Round,2,FALSE)+VLOOKUP(AF200,Group,6,FALSE),0)","v":0},{"$f":"IF(VLOOKUP(AF200,Group,7,FALSE)=\"\",0,ROUND(AJ200-0.04999,1)-AJ200+AM200)","v":0},{"$f":"IF(VLOOKUP(AF200,Group,7,FALSE)=\"\",\"\",VLOOKUP(AF200,Group,7,FALSE))","v":""},null,"X"]
[null,null,null,null,null,null,null,null,null,null,null,null,null,null,null,null,null,null,null,null,null,null,null,null,null,null,null,null,null,null,null,null,null,null,null,null,null,null,null,null,"X"]
[null,null,null,"Notes:","The ultimate one-step, rapid polymer fortified thin-set that allows for grouting in 2 to 4 hours & is part of the Laticrete 10 Year Systems Warranty.",null,null,null,null,null,null,null,null,null,null,null,null,null,null,null,null,null,null,null,null,null,null,null,null,null,null,null,null,null,null,null,null,null,null,null,"X"]
[null,null,null,null,null,null,null,null,null,null,null,null,null,null,null,null,null,null,null,null,null,null,null,null,null,null,null,null,null,null,null,null,null,null,null,null,null,null,null,null,"X"]
[null,null,null,null,null,null,"Approximate Coverage per 25 lb Bag",null,null,null,null,null,null,null,null,null,null,null,null,null,null,null,null,null,null,null,null,null,null,null,null,null,null,null,null,null,null,null,null,null,"X"]
[null,null,null,null,null,null,"NOTCH TROWEL",null,null,null,null,"COVERAGE",null,null,null,null,null,null,null,null,null,null,null,null,null,null,null,null,null,null,null,null,null,null,null,null,null,null,null,null,"X"]
[null,null,null,null,null,null,"1/4\" x 1/4\"",null,null,null,null,"40-47 sq ft",null,null,null,null,null,null,null,null,null,null,null,null,null,null,null,null,null,null,null,null,null,null,null,null,null,null,null,null,"X"]
[null,null,null,null,null,null,"1/4\" x 3/8\"",null,null,null,null,"25-30 sq ft",null,null,null,null,null,null,null,null,null,null,null,null,null,null,null,null,null,null,null,null,null,null,null,null,null,null,null,null,"X"]
[null,null,null,null,null,null,"1/2\" x 1/2\"",null,null,null,null,"20-23 sq ft",null,null,null,null,null,null,null,null,null,null,null,null,null,null,null,null,null,null,null,null,null,null,null,null,null,null,null,null,"X"]
[null,null,null,null,null,null,null,null,null,null,null,null,null,null,null,null,null,null,null,null,null,null,null,null,null,null,null,null,null,null,null,null,null,null,null,null,null,null,null,null,"X"]
[null,null,null,"254 Platinum Plus",null,null,null,null,null,null,null,null,null,null,null,null,null,"Item # Lookup:","LT0254",null,null,null,null,null,null,null,null,null,null,null,null,null,null,null,null,null,null,null,null,null,"X"]
[]
[null,"Mortars/Ahesive",null,null,"25 lb",null,"Bag",null,"Grey",null,null,null,null,null,null,null,null,null,{"$f":"IF(Suggested=\"Yes\",AA212,AG212)","v":115.45},"EA",{"$f":"+Instructions!$B$3","v":"I"},null,{"$f":"+Instructions!$C$22","v":0},{"$f":"ROUND($AA212*(1-W212)+0.004999,2)","v":115.45},null,"",115.45,{"$f":"+W212","v":0},{"$f":"+X212","v":115.45},{"$f":"(AG212-AC212)/AG212","v":0},null,1,{"$f":"SUM(AJ212:AL212)+AE212","v":115.45},null,null,{"$f":"ROUND(AC212/(1-VLOOKUP(AF212,Group,2,FALSE)),2)","v":115.45},{"$f":"IF(VLOOKUP(AF212,Group,5,FALSE)=\"YES\",VLOOKUP(ROUND(ROUND(AJ212,1)-AJ212,2),Round,2,FALSE)+VLOOKUP(AF212,Group,6,FALSE),0)","v":0},{"$f":"IF(VLOOKUP(AF212,Group,7,FALSE)=\"\",0,ROUND(AJ212-0.04999,1)-AJ212+AM212)","v":0},{"$f":"IF(VLOOKUP(AF212,Group,7,FALSE)=\"\",\"\",VLOOKUP(AF212,Group,7,FALSE))","v":""},null,"X"]
[null,"Mortars/Ahesive",null,null,"25 lb",null,"Bag",null,"White ",null,null,null,null,null,"  ",null,null,null,{"$f":"IF(Suggested=\"Yes\",AA213,AG213)","v":128.1},"EA",{"$f":"+Instructions!$B$3","v":"I"},null,{"$f":"+Instructions!$C$22","v":0},{"$f":"ROUND($AA213*(1-W213)+0.004999,2)","v":128.1},null,"",128.1,{"$f":"+W213","v":0},{"$f":"+X213","v":128.1},{"$f":"(AG213-AC213)/AG213","v":0},null,1,{"$f":"SUM(AJ213:AL213)+AE213","v":128.1},null,null,{"$f":"ROUND(AC213/(1-VLOOKUP(AF213,Group,2,FALSE)),2)","v":128.1},{"$f":"IF(VLOOKUP(AF213,Group,5,FALSE)=\"YES\",VLOOKUP(ROUND(ROUND(AJ213,1)-AJ213,2),Round,2,FALSE)+VLOOKUP(AF213,Group,6,FALSE),0)","v":0},{"$f":"IF(VLOOKUP(AF213,Group,7,FALSE)=\"\",0,ROUND(AJ213-0.04999,1)-AJ213+AM213)","v":0},{"$f":"IF(VLOOKUP(AF213,Group,7,FALSE)=\"\",\"\",VLOOKUP(AF213,Group,7,FALSE))","v":""},null,"X"]
[null,null,null,null,null,null,null,null,null,null,null,null,null,null,null,null,null,null,null,null,null,null,null,null,null,null,null,null,null,null,null,null,null,null,null,null,null,null,null,null,"X"]
[null,null,null,"Notes:","254 PLATINUM Plus is the ultimate, high-performance lightweight polymer fortified, thin-set adhesive mortar ideal for interior and exterior",null,null,null,null,null,null,null,null,null,null,null,null,null,null,null,null,null,null,null,null,null,null,null,null,null,null,null,null,null,null,null,null,null,null,null,"X"]
[null,null,null,null,"installation of ceramic tile, porcelain tile, stone, quarry tile, pavers and brick.  254 PLATINUM Plus is offered in a 25 lb bag providing the",null,null,null,null,null,null,null,null,null,null,null,null,null,null,null,null,null,null,null,null,null,null,null,null,null,null,null,null,null,null,null,null,null,null,null,"X"]
[null,null,null,null,"same coverage as a 50 lb bag of traditional adhesive mortar.  Featuring unsurpassed bond strength, 254 PLATINUM Plus exceeds ANSI",null,null,null,null,null,null,null,null,null,null,null,null,null,null,null,null,null,null,null,null,null,null,null,null,null,null,null,null,null,null,null,null,null,null,null,"X"]
[null,null,null,null,"A118.15, the highest performance standard for a cementitious adhesive mortar.  With a 60-minute open time, superior transfer for maximum",null,null,null,null,null,null,null,null,null,null,null,null,null,null,null,null,null,null,null,null,null,null,null,null,null,null,null,null,null,null,null,null,null,null,null,"X"]
[null,null,null,null,"coverage, easy to spread creamy consistency and a lightweight formula for easier handling, 254 PLATINUM Plus is the ideal thin-set",null,null,null,null,null,null,null,null,null,null,null,null,null,null,null,null,null,null,null,null,null,null,null,null,null,null,null,null,null,null,null,null,null,null,null,"X"]
[null,null,null,null,"adhesive mortar for most every installation including submerged applications.",null,null,null,null,null,null,null,null,null,null,null,null,null,null,null,null,null,null,null,null,null,null,null,null,null,null,null,null,null,null,null,null,null,null,null,"X"]
[null,null,null,null,null,null,null,null,null,null,null,null,null,null,null,null,null,null,null,null,null,null,null,null,null,null,null,null,null,null,null,null,null,null,null,null,null,null,null,null,"X"]
[null,null,null,null,null,null,"Approximate Coverage per 25 lb Bag",null,null,null,null,null,null,null,null,null,null,null,null,null,null,null,null,null,null,null,null,null,null,null,null,null,null,null,null,null,null,null,null,null,"X"]
[null,null,null,null,null,null,"NOTCH TROWEL",null,null,null,null,"COVERAGE",null,null,null,null,null,null,null,null,null,null,null,null,null,null,null,null,null,null,null,null,null,null,null,null,null,null,null,null,"X"]
[null,null,null,null,null,null,"1/4\" x 1/4\"",null,null,null,null,"80-95 sq ft",null,null,null,null,null,null,null,null,null,null,null,null,null,null,null,null,null,null,null,null,null,null,null,null,null,null,null,null,"X"]
[null,null,null,null,null,null,"1/4\" x 3/8\"",null,null,null,null,"60-70 sq ft",null,null,null,null,null,null,null,null,null,null,null,null,null,null,null,null,null,null,null,null,null,null,null,null,null,null,null,null,"X"]
[null,null,null,null,null,null,"1/2\" x 1/2\"",null,null,null,null,"35-40 sq ft",null,null,null,null,null,null,null,null,null,null,null,null,null,null,null,null,null,null,null,null,null,null,null,null,null,null,null,null,"X"]
[null,null,null,null,null,null,null,null,null,null,null,null,null,null,null,null,null,null,null,null,null,null,null,null,null,null,null,null,null,null,null,null,null,null,null,null,null,null,null,null,"X"]
[null,null,null,"279 Tri-Lite Lightweight Mortar",null,null,null,null,null,null,null,null,null,null,null,null,null,"Item # Lookup:","LT0279",null,null,null,null,null,null,null,null,null,null,null,null,null,null,null,null,null,null,null,null,null,"X"]
[]
[null,"Mortars/Ahesive",null,null,"30 lb",null,"Bag",null,"Grey",null,null,null,null,null,null,null,"Stock",null,{"$f":"IF(Suggested=\"Yes\",AA230,AG230)","v":59.65},"EA",{"$f":"+Instructions!$B$3","v":"I"},null,{"$f":"+Instructions!$C$22","v":0},{"$f":"ROUND($AA230*(1-W230)+0.004999,2)","v":59.65},null,"",59.65,{"$f":"+W230","v":0},{"$f":"+X230","v":59.65},{"$f":"(AG230-AC230)/AG230","v":0},null,1,{"$f":"SUM(AJ230:AL230)+AE230","v":59.65},null,null,{"$f":"ROUND(AC230/(1-VLOOKUP(AF230,Group,2,FALSE)),2)","v":59.65},{"$f":"IF(VLOOKUP(AF230,Group,5,FALSE)=\"YES\",VLOOKUP(ROUND(ROUND(AJ230,1)-AJ230,2),Round,2,FALSE)+VLOOKUP(AF230,Group,6,FALSE),0)","v":0},{"$f":"IF(VLOOKUP(AF230,Group,7,FALSE)=\"\",0,ROUND(AJ230-0.04999,1)-AJ230+AM230)","v":0},{"$f":"IF(VLOOKUP(AF230,Group,7,FALSE)=\"\",\"\",VLOOKUP(AF230,Group,7,FALSE))","v":""},null,"X"]
[null,"Mortars/Ahesive",null,null,"30 lb",null,"Bag",null,"White",null,null,null,null,null,null,null,"Stock",null,{"$f":"IF(Suggested=\"Yes\",AA231,AG231)","v":63},"EA",{"$f":"+Instructions!$B$3","v":"I"},null,{"$f":"+Instructions!$C$22","v":0},{"$f":"ROUND($AA231*(1-W231)+0.004999,2)","v":63},null,"",63,{"$f":"+W231","v":0},{"$f":"+X231","v":63},{"$f":"(AG231-AC231)/AG231","v":0},null,1,{"$f":"SUM(AJ231:AL231)+AE231","v":63},null,null,{"$f":"ROUND(AC231/(1-VLOOKUP(AF231,Group,2,FALSE)),2)","v":63},{"$f":"IF(VLOOKUP(AF231,Group,5,FALSE)=\"YES\",VLOOKUP(ROUND(ROUND(AJ231,1)-AJ231,2),Round,2,FALSE)+VLOOKUP(AF231,Group,6,FALSE),0)","v":0},{"$f":"IF(VLOOKUP(AF231,Group,7,FALSE)=\"\",0,ROUND(AJ231-0.04999,1)-AJ231+AM231)","v":0},{"$f":"IF(VLOOKUP(AF231,Group,7,FALSE)=\"\",\"\",VLOOKUP(AF231,Group,7,FALSE))","v":""},null,"X"]
[null,null,null,null,null,null,null,null,null,null,null,null,null,null,null,null,null,null,null,null,null,null,null,null,null,null,null,null,null,null,null,null,null,null,null,null,null,null,null,null,"X"]
[null,null,null,"Notes:","A lightweight, high performance tri-purpose mortar designed for large and heavy tile, thin-bed and wall installations.  A 30-lb bag",null,null,null,null,null,null,null,null,null,null,null,null,null,null,null,null,null,null,null,null,null,null,null,null,null,null,null,null,null,null,null,null,null,null,null,"X"]
[null,null,null,null,"provides the same coverage as a 50-lb bag of traditional mortar.  Tri-Lite has incredible non-sag performance, including large ",null,null,null,null,null,null,null,null,null,null,null,null,null,null,null,null,null,null,null,null,null,null,null,null,null,null,null,null,null,null,null,null,null,null,null,"X"]
[null,null,null,null,"and heavy tile which can be used as a thin-set mortar or a medium bed mortar without shrinkage.",null,null,null,null,null,null,null,null,null,null,null,null,null,null,null,null,null,null,null,null,null,null,null,null,null,null,null,null,null,null,null,null,null,null,null,"X"]
[null,null,null,null,null,null,null,null,null,null,null,null,null,null,null,null,null,null,null,null,null,null,null,null,null,null,null,null,null,null,null,null,null,null,null,null,null,null,null,null,"X"]
[null,null,null,null,null,null,"Approximate Coverage per 30 lb Bag",null,null,null,null,null,null,null,null,null,null,null,null,null,null,null,null,null,null,null,null,null,null,null,null,null,null,null,null,null,null,null,null,null,"X"]
[null,null,null,null,null,null,"NOTCH TROWEL",null,null,null,null,"COVERAGE",null,null,null,null,null,null,null,null,null,null,null,null,null,null,null,null,null,null,null,null,null,null,null,null,null,null,null,null,"X"]
[null,null,null,null,null,null,"1/4\" x 1/4\"",null,null,null,null,"80-95 sq ft",null,null,null,null,null,null,null,null,null,null,null,null,null,null,null,null,null,null,null,null,null,null,null,null,null,null,null,null,"X"]
[null,null,null,null,null,null,"1/4\" x 3/8\"",null,null,null,null,"60-70 sq ft"]
[null,null,null," ",null,null,"1/2\" x 1/2\"",null,null,null,null,"40-47 sq ft",null,null,null,null,null,null,null,null,null,null,null,null,null,null,null,null,null,null,null,null,null,null,null,null,null,null,null,null,"X"]
[null,null,null,null,null,null,null,null,null,null,null,null,null,null,null,null,null,null,null,null,null,null,null,null,null,null,null,null,null,null,null,null,null,null,null,null,null,null,null,null,"X"]
[null,null,null,"279R Tri-Lite Rapid Mortar",null,null,null,null,null,null,null,null,null,null,null,null,null,"Item # Lookup:","LT0279",null,null,null,null,null,null,null,null,null,null,null,null,null,null,null,null,null,null,null,null,null,"X"]
[]
[null,"Mortars/Ahesive",null,null,"27.50 lb",null,"Bag",null,"White",null,null,null,null,null,null,null,null,null,{"$f":"IF(Suggested=\"Yes\",AA245,AG245)","v":111.7},"EA",{"$f":"+Instructions!$B$3","v":"I"},null,{"$f":"+Instructions!$C$22","v":0},{"$f":"ROUND($AA245*(1-W245)+0.004999,2)","v":111.7},null,"",111.7,{"$f":"+W245","v":0},{"$f":"+X245","v":111.7},{"$f":"(AG245-AC245)/AG245","v":0},null,1,{"$f":"SUM(AJ245:AL245)+AE245","v":111.7},null,null,{"$f":"ROUND(AC245/(1-VLOOKUP(AF245,Group,2,FALSE)),2)","v":111.7},{"$f":"IF(VLOOKUP(AF245,Group,5,FALSE)=\"YES\",VLOOKUP(ROUND(ROUND(AJ245,1)-AJ245,2),Round,2,FALSE)+VLOOKUP(AF245,Group,6,FALSE),0)","v":0},{"$f":"IF(VLOOKUP(AF245,Group,7,FALSE)=\"\",0,ROUND(AJ245-0.04999,1)-AJ245+AM245)","v":0},{"$f":"IF(VLOOKUP(AF245,Group,7,FALSE)=\"\",\"\",VLOOKUP(AF245,Group,7,FALSE))","v":""},null,"X"]
[null,null,null,null,null,null,null,null,null,null,null,null,null,null,null,null,null,null,null,null,null,null,null,null,null,null,null,null,null,null,null,null,null,null,null,null,null,null,null,null,"X"]
[null,null,null,"Notes:","A fast setting, lightweight, high performance tri-purpose mortar designed for Large and Heavy Tile, for wall installations.  A 27.5-lb bag",null,null,null,null,null,null,null,null,null,null,null,null,null,null,null,null,null,null,null,null,null,null,null,null,null,null,null,null,null,null,null,null,null,null,null,"X"]
[null,null,null,null,"provides the same coverage as a 50-lb bag of standard mortar.  Tri-Lite  Rapid contains no respirable crystalline silica levels that exceed",null,null,null,null,null,null,null,null,null,null,null,null,null,null,null,null,null,null,null,null,null,null,null,null,null,null,null,null,null,null,null,null,null,null,null,"X"]
[null,null,null,null,"the OSHA action level.",null,null,null,null,null,null,null,null,null,null,null,null,null,null,null,null,null,null,null,null,null,null,null,null,null,null,null,null,null,null,null,null,null,null,null,"X"]
[null,null,null,null,null,null,null,null,null,null,null,null,null,null,null,null,null,null,null,null,null,null,null,null,null,null,null,null,null,null,null,null,null,null,null,null,null,null,null,null,"X"]
[null,null,null,null,null,null,"Approximate Coverage per 27.5 lb Bag",null,null,null,null,null,null,null,null,null,null,null,null,null,null,null,null,null,null,null,null,null,null,null,null,null,null,null,null,null,null,null,null,null,"X"]
[null,null,null,null,null,null,"NOTCH TROWEL",null,null,null,null,"COVERAGE",null,null,null,null,null,null,null,null,null,null,null,null,null,null,null,null,null,null,null,null,null,null,null,null,null,null,null,null,"X"]
[null,null,null,null,null,null,"1/4\" x 1/4\"",null,null,null,null,"80-95 sq ft",null,null,null,null,null,null,null,null,null,null,null,null,null,null,null,null,null,null,null,null,null,null,null,null,null,null,null,null,"X"]
[null,null,null,null,null,null,"1/4\" x 3/8\"",null,null,null,null,"60-70 sq ft"]
[null,null,null," ",null,null,"1/2\" x 1/2\"",null,null,null,null,"40-47 sq ft",null,null,null,null,null,null,null,null,null,null,null,null,null,null,null,null,null,null,null,null,null,null,null,null,null,null,null,null,"X"]
[]
[null,null,null,"289 Multimax 1",null,null,null,null,null,null,null,null,null,null,null,null,null,"Item # Lookup:","LT0289",null,null,null,null,null,null,null,null,null,null,null,null,null,null,null,null,null,null,null,null,null,"X"]
[]
[null,"Mortars/Ahesive",null,null,"3-1/2 Gallon",null,"Pail",null,null,"Pre-Mixed Adhesive Mortar",null,null,null,null,null,null,"Stock",null,{"$f":"IF(Suggested=\"Yes\",AA259,AG259)","v":299.85000000000002},"EA",{"$f":"+Instructions!$B$3","v":"I"},null,{"$f":"+Instructions!$C$22","v":0},{"$f":"ROUND($AA259*(1-W259)+0.004999,2)","v":299.85000000000002},null,"new",299.85000000000002,{"$f":"+W259","v":0},{"$f":"+X259","v":299.85000000000002},{"$f":"(AG259-AC259)/AG259","v":0},null,1,{"$f":"SUM(AJ259:AL259)+AE259","v":299.85000000000002},null,null,{"$f":"ROUND(AC259/(1-VLOOKUP(AF259,Group,2,FALSE)),2)","v":299.85000000000002},{"$f":"IF(VLOOKUP(AF259,Group,5,FALSE)=\"YES\",VLOOKUP(ROUND(ROUND(AJ259,1)-AJ259,2),Round,2,FALSE)+VLOOKUP(AF259,Group,6,FALSE),0)","v":0},{"$f":"IF(VLOOKUP(AF259,Group,7,FALSE)=\"\",0,ROUND(AJ259-0.04999,1)-AJ259+AM259)","v":0},{"$f":"IF(VLOOKUP(AF259,Group,7,FALSE)=\"\",\"\",VLOOKUP(AF259,Group,7,FALSE))","v":""},null,"X"]
[null,null,null,null,null,null,null,null,null,null,null,null,null,null,null,null,null,null,null,null,null,null,null,null,null,null,null,null,null,null,null,null,null,null,null,null,null,null,null,null,"X"]
[null,null,null,"Notes:","A revolutionary, ready-to-use adhesive that meets the highest performance requirements of a cementitious adhesive mortar (ANSI A118.15).",null,null,null,null,null,null,null,null,null,null,null,null,null,null,null,null,null,null,null,null,null,null,null,null,null,null,null,null,null,null,null,null,null,null,null,"X"]
[null,null,null,null,"Ideal for both Large and Heavy Tile and thin-bed installations.  No mixing or water required.  For interior and exterior installation of ceramic tile,",null,null,null,null,null,null,null,null,null,null,null,null,null,null,null,null,null,null,null,null,null,null,null,null,null,null,null,null,null,null,null,null,null,null,null,"X"]
[null,null,null,null,"porcelain tile, glass tile, stone, quarry tile, pavers, and brick.  MULTIMAX™ 1 Pre-Mixed Adhesive Mortar features non-sag performance on",null,null,null,null,null,null,null,null,null,null,null,null,null,null,null,null,null,null,null,null,null,null,null,null,null,null,null,null,null,null,null,null,null,null,null,"X"]
[null,null,null,null,"walls and maximum buildup of up to ¾\" without shrinkage on floors.  It has a smooth, easy-to-towel consistency.",null,null,null,null,null,null,null,null,null,null,null,null,null,null,null,null,null,null,null,null,null,null,null,null,null,null,null,null,null,null,null,null,null,null,null,"X"]
[null,null,null,null,null,null,null,null,null,null,null,null,null,null,null,null,null,null,null,null,null,null,null,null,null,null,null,null,null,null,null,null,null,null,null,null,null,null,null,null,"X"]
[null,null,null,null,null,null,"Approximate Coverage per 3-1/2 Gallon Pail",null,null,null,null,null,null,null,null,null,null,null,null,null,null,null,null,null,null,null,null,null,null,null,null,null,null,null,null,null,null,null,null,null,"X"]
[null,null,null,null,null,null,"NOTCH TROWEL",null,null,null,null,"COVERAGE",null,null,null,null,null,null,null,null,null,null,null,null,null,null,null,null,null,null,null,null,null,null,null,null,null,null,null,null,"X"]
[null,null,null,null,null,null,"1/4\" x 1/4\"",null,null,null,null,"64 sq ft",null,null,null,null,null,null,null,null,null,null,null,null,null,null,null,null,null,null,null,null,null,null,null,null,null,null,null,null,"X"]
[null,null,null,null,null,null,"1/4\" x 3/8\"",null,null,null,null,"42 sq ft"]
[null,null,null," ",null,null,"1/2\" x 1/2\"",null,null,null,null,"32 sq ft",null,null,null,null,null,null,null,null,null,null,null,null,null,null,null,null,null,null,null,null,null,null,null,null,null,null,null,null,"X"]
[]
[null,null,null,"289 Multimax Lite",null,null,null,null,null,null,null,null,null,null,null,null,null,"Item # Lookup:","LT0289",null,null,null,null,null,null,null,null,null,null,null,null,null,null,null,null,null,null,null,null,null,"X"]
[]
[null,"Mortars/Ahesive",null,null,"25 lb",null,"Bag",null,"Grey",null,null,null,null,null,null,null,"Stock",null,{"$f":"IF(Suggested=\"Yes\",AA274,AG274)","v":91.75},"EA",{"$f":"+Instructions!$B$3","v":"I"},null,{"$f":"+Instructions!$C$22","v":0},{"$f":"ROUND($AA274*(1-W274)+0.004999,2)","v":91.75},null,"",91.75,{"$f":"+W274","v":0},{"$f":"+X274","v":91.75},{"$f":"(AG274-AC274)/AG274","v":0},null,1,{"$f":"SUM(AJ274:AL274)+AE274","v":91.75},null,null,{"$f":"ROUND(AC274/(1-VLOOKUP(AF274,Group,2,FALSE)),2)","v":91.75},{"$f":"IF(VLOOKUP(AF274,Group,5,FALSE)=\"YES\",VLOOKUP(ROUND(ROUND(AJ274,1)-AJ274,2),Round,2,FALSE)+VLOOKUP(AF274,Group,6,FALSE),0)","v":0},{"$f":"IF(VLOOKUP(AF274,Group,7,FALSE)=\"\",0,ROUND(AJ274-0.04999,1)-AJ274+AM274)","v":0},{"$f":"IF(VLOOKUP(AF274,Group,7,FALSE)=\"\",\"\",VLOOKUP(AF274,Group,7,FALSE))","v":""},null,"X"]
[null,"Mortars/Ahesive",null,null,"25 lb",null,"Bag",null,"White",null,null,null,null,null,null,null,"Stock",null,{"$f":"IF(Suggested=\"Yes\",AA275,AG275)","v":101.75},"EA",{"$f":"+Instructions!$B$3","v":"I"},null,{"$f":"+Instructions!$C$22","v":0},{"$f":"ROUND($AA275*(1-W275)+0.004999,2)","v":101.75},null,"",101.75,{"$f":"+W275","v":0},{"$f":"+X275","v":101.75},{"$f":"(AG275-AC275)/AG275","v":0},null,1,{"$f":"SUM(AJ275:AL275)+AE275","v":101.75},null,null,{"$f":"ROUND(AC275/(1-VLOOKUP(AF275,Group,2,FALSE)),2)","v":101.75},{"$f":"IF(VLOOKUP(AF275,Group,5,FALSE)=\"YES\",VLOOKUP(ROUND(ROUND(AJ275,1)-AJ275,2),Round,2,FALSE)+VLOOKUP(AF275,Group,6,FALSE),0)","v":0},{"$f":"IF(VLOOKUP(AF275,Group,7,FALSE)=\"\",0,ROUND(AJ275-0.04999,1)-AJ275+AM275)","v":0},{"$f":"IF(VLOOKUP(AF275,Group,7,FALSE)=\"\",\"\",VLOOKUP(AF275,Group,7,FALSE))","v":""},null,"X"]
[null,null,null,null,null,null,null,null,null,null,null,null,null,null,null,null,null,null,null,null,null,null,null,null,null,null,null,null,null,null,null,null,null,null,null,null,null,null,null,null,"X"]
[null,null,"continued on next page",null,null,null,null,null,null,null,null,null,null,null,null,null,null,null,null,null,null,null,null,null,null,null,null,null,null,null,null,null,null,null,null,null,null,null,null,null,"X"]
["x",null,null,"289 Multimax Lite - continued  ",null,null,null,null,null,null,null,null,null,null,null,null,null,"Item # Lookup:","LT0289",null,null,null,null,null,null,null,null,null,null,null,null,null,null,null,null,null,null,null,null,null,"X"]
[null,null,null,null,null,null,null,null,null,null,null,null,null,null,null,null,null,null,null,null,null,null,null,null,null,null,null,null,null,null,null,null,null,null,null,null,null,null,null,null,"X"]
[null,null,null,"Notes:",null,null,"Lightweight one-step polymer fortified Large and Heavy Tile mortar for interior and exterior installation of ceramic tile, porcelain tile,",null,null,null,null,null,null,null,null,null,null,null,null,null,null,null,null,null,null,null,null,null,null,null,null,null,null,null,null,null,null,null,null,null,"X"]
[null,null,null,null,null,null,"glass tile, stone, quarry tile, pavers and brick.  Features maximum non-sag performance on walls and maximum buildup of up to",null,null,null,null,null,null,null,null,null,null,null,null,null,null,null,null,null,null,null,null,null,null,null,null,null,null,null,null,null,null,null,null,null,"X"]
[null,null,null,null,null,null,"¾\" without shrinkage on floors.  Is free of silica sand and has a smooth lightweight easy-to trowel consistency and a long open time",null,null,null,null,null,null,null,null,null,null,null,null,null,null,null,null,null,null,null,null,null,null,null,null,null,null,null,null,null,null,null,null,null,"X"]
[null,null,null,null,null,null,"for ease of installation.  The robust formula is reinforced with Kevlar for maximum strength and durability, exceeding ANSI A118.15",null,null,null,null,null,null,null,null,null,null,null,null,null,null,null,null,null,null,null,null,null,null,null,null,null,null,null,null,null,null,null,null,null,"X"]
[null,null,null,null,null,null,"requirements.  Utilizes LATICRETE HYDROMATIC CURE CHEMISTRY.  This technology accelerates the hydration process to",null,null,null,null,null,null,null,null,null,null,null,null,null,null,null,null,null,null,null,null,null,null,null,null,null,null,null,null,null,null,null,null,null,"X"]
[null,null,null,null,null,null,"rapidly consume the water in the system, allowing the material to cure in a predictable manner.",null,null,null,null,null,null,null,null,null,null,null,null,null,null,null,null,null,null,null,null,null,null,null,null,null,null,null,null,null,null,null,null,null,"X"]
[null,null,null,null,null,null,null,null,null,null,null,null,null,null,null,null,null,null,null,null,null,null,null,null,null,null,null,null,null,null,null,null,null,null,null,null,null,null,null,null,"X"]
[null,null,null,null,null,null,"Approximate Coverage per 25 lb Bag",null,null,null,null,null,null,null,null,null,null,null,null,null,null,null,null,null,null,null,null,null,null,null,null,null,null,null,null,null,null,null,null,null,"X"]
[null,null,null,null,null,null,"NOTCH TROWEL",null,null,null,null,"COVERAGE",null,null,null,null,null,null,null,null,null,null,null,null,null,null,null,null,null,null,null,null,null,null,null,null,null,null,null,null,"X"]
[null,null,null,null,null,null,"Wall Application 4.9 qts of water",null,null,null,null,null,null,null,null,null,null,null,null,null,null,null,null,null,null,null,null,null,null,null,null,null,null,null,null,null,null,null,null,null,"X"]
[null,null,null,null,null,null,"1/4\" x 3/8\"",null,null,null,null,"50-60 sq ft",null,null,null,null,null,null,null,null,null,null,null,null,null,null,null,null,null,null,null,null,null,null,null,null,null,null,null,null,"X"]
[null,null,null,null,null,null,"Large and Heavy Tile Application 5.1 qts of Water",null,null,null,null,null,null,null,null,null,null,null,null,null,null,null,null,null,null,null,null,null,null,null,null,null,null,null,null,null,null,null,null,null,"X"]
[null,null,null,null,null,null,"1/2\" x 1/2\"",null,null,null,null,"40-50 sq ft",null,null,null,null,null,null,null,null,null,null,null,null,null,null,null,null,null,null,null,null,null,null,null,null,null,null,null,null,"X"]
[null,null,null,null,null,null,"Thin Bed Applications 5.3 qts of Water",null,null,null,null,null,null,null,null,null,null,null,null,null,null,null,null,null,null,null,null,null,null,null,null,null,null,null,null,null,null,null,null,null,"X"]
[null,null,null,null,null,null,"1/4\" x 1/4\"",null,null,null,null,"85-95 sq ft",null,null,null,null,null,null,null,null,null,null,null,null,null,null,null,null,null,null,null,null,null,null,null,null,null,null,null,null,"X"]
[null,null,null,null,null,null,"1/4\" x 3/8\"",null,null,null,null,"60-70 sq ft",null,null,null,null,null,null,null,null,null,null,null,null,null,null,null,null,null,null,null,null,null,null,null,null,null,null,null,null,"X"]
[null,null,null,null,null,null,null,null,null,null,null,null,null,null,null,null,null,null,null,null,null,null,null,null,null,null,null,null,null,null,null,null,null,null,null,null,null,null,null,null,"X"]
[null,null,null,"4-XLT",null,null,null,null,null,null,null,null,null,null,null,null,null,"Item # Lookup:","LT4XLT",null,null,null,null,null,null,null,null,null,null,null,null,null,null,null,null,null,null,null,null,null,"X"]
[]
[null,"Mortars/Ahesive",null,null,"50 lb",null,"Bag",null,"Grey",null,null,null,null,null," ",null,"Stock",null,{"$f":"IF(Suggested=\"Yes\",AA299,AG299)","v":50.4},"EA",{"$f":"+Instructions!$B$3","v":"I"},null,{"$f":"+Instructions!$C$22","v":0},{"$f":"ROUND($AA299*(1-W299)+0.004999,2)","v":50.4},null,"",50.4,{"$f":"+W299","v":0},{"$f":"+X299","v":50.4},{"$f":"(AG299-AC299)/AG299","v":0},null,1,{"$f":"SUM(AJ299:AL299)+AE299","v":50.4},null,null,{"$f":"ROUND(AC299/(1-VLOOKUP(AF299,Group,2,FALSE)),2)","v":50.4},{"$f":"IF(VLOOKUP(AF299,Group,5,FALSE)=\"YES\",VLOOKUP(ROUND(ROUND(AJ299,1)-AJ299,2),Round,2,FALSE)+VLOOKUP(AF299,Group,6,FALSE),0)","v":0},{"$f":"IF(VLOOKUP(AF299,Group,7,FALSE)=\"\",0,ROUND(AJ299-0.04999,1)-AJ299+AM299)","v":0},{"$f":"IF(VLOOKUP(AF299,Group,7,FALSE)=\"\",\"\",VLOOKUP(AF299,Group,7,FALSE))","v":""},null,"X"]
[null,"Mortars/Ahesive",null,null,"50 lb",null,"Bag",null,"White",null,null,null,null,null,null,null,"Stock",null,{"$f":"IF(Suggested=\"Yes\",AA300,AG300)","v":56.3},"EA",{"$f":"+Instructions!$B$3","v":"I"},null,{"$f":"+Instructions!$C$22","v":0},{"$f":"ROUND($AA300*(1-W300)+0.004999,2)","v":56.3},null,"",56.3,{"$f":"+W300","v":0},{"$f":"+X300","v":56.3},{"$f":"(AG300-AC300)/AG300","v":0},null,1,{"$f":"SUM(AJ300:AL300)+AE300","v":56.3},null,null,{"$f":"ROUND(AC300/(1-VLOOKUP(AF300,Group,2,FALSE)),2)","v":56.3},{"$f":"IF(VLOOKUP(AF300,Group,5,FALSE)=\"YES\",VLOOKUP(ROUND(ROUND(AJ300,1)-AJ300,2),Round,2,FALSE)+VLOOKUP(AF300,Group,6,FALSE),0)","v":0},{"$f":"IF(VLOOKUP(AF300,Group,7,FALSE)=\"\",0,ROUND(AJ300-0.04999,1)-AJ300+AM300)","v":0},{"$f":"IF(VLOOKUP(AF300,Group,7,FALSE)=\"\",\"\",VLOOKUP(AF300,Group,7,FALSE))","v":""},null,"X"]
[null,null,null,null,null,null,null,null,null,null,null,null,null,null,null,null,null,null,null,null,null,null,null,null,null,null,null,null,null,null,null,null,null,null,null,null,null,null,null,null,"X"]
[null,null,null,"Notes:","Laticrete 4-XLT is a multi-use, polymer fortified adhesive mortar offering tremendous utility including non-sag wall installations, medium bed",null,null,null,null,null,null,null,null,null,null,null,null,null,null,null,null,null,null,null,null,null,null,null,null,null,null,null,null,null,null,null,null,null,null,null,"X"]
[null,null,null,null,"build up to 3/4\" & thin-set applications on floors.  Laticrete 4-XLT is built on the Laticrete Water Dispersion Technology™ (WDT) platform which",null,null,null,null,null,null,null,null,null,null,null,null,null,null,null,null,null,null,null,null,null,null,null,null,null,null,null,null,null,null,null,null,null,null,null,"X"]
[null,null,null,null,"provides for the complete dispersion of water within the mix allowing users to achieve the desired application consistency.",null,null,null,null,null,null,null,null,null,null,null,null,null,null,null,null,null,null,null,null,null,null,null,null,null,null,null,null,null,null,null,null,null,null,null,"X"]
[null,null,null,null,"Exceeds both ANSI A118.4 and A118.11.",null,null,null,null,null,null,null,null,null,null,null,null,null,null,null,null,null,null,null,null,null,null,null,null,null,null,null,null,null,null,null,null,null,null,null,"X"]
[]
[null,null,null,null,null,null,"Approximate Coverage per 50 lb Bag",null,null,null,null,null,null,null,null,null,null,null,null,null,null,null,null,null,null,null,null,null,null,null,null,null,null,null,null,null,null,null,null,null,"X"]
[null,null,null,null,null,null,"NOTCH TROWEL",null,null,null,null,"COVERAGE",null,null,null,null,null,null,null,null,null,null,null,null,null,null,null,null,null,null,null,null,null,null,null,null,null,null,null,null,"X"]
[null,null,null,null,null,null,"1/4\" x 1/4\"",null,null,null,null,"80-95 sq ft",null,null,null,null,null,null," ",null,null,null,null,null,null,null,null,null,null,null,null,null,null,null,null,null,null,null,null,null,"X"]
[null,null,null,null,null,null,"1/4\" x 3/8\"",null,null,null,null,"60-70 sq ft",null,null,null,null,null,null,null,null,null,null,null,null,null,null,null,null,null,null,null,null,null,null,null,null,null,null,null,null,"X"]
[null,null,null,null,null,null,"1/2\" x 1/2\"",null,null,null,null,"40-47 sq ft",null,null,null,null,null,null,null,null,null,null,null,null,null,null,null,null,null,null,null,null,null,null,null,null,null,null,null,null,"X"]
[]
[null,null,null,"4-XLT Rapid",null,null,null,null,null,null,null,null,null,null,null,null,null,"Item # Lookup:","LT4XLT",null,null,null,null,null,null,null,null,null,null,null,null,null,null,null,null,null,null,null,null,null,"X"]
[]
[null,"Mortars/Ahesive",null,null,"50 lb",null,"Bag",null,"Grey","Rapid",null,null,null,null," ",null,null,null,{"$f":"IF(Suggested=\"Yes\",AA315,AG315)","v":95.15},"EA",{"$f":"+Instructions!$B$3","v":"I"},null,{"$f":"+Instructions!$C$22","v":0},{"$f":"ROUND($AA315*(1-W315)+0.004999,2)","v":95.15},null,"",95.15,{"$f":"+W315","v":0},{"$f":"+X315","v":95.15},{"$f":"(AG315-AC315)/AG315","v":0},null,1,{"$f":"SUM(AJ315:AL315)+AE315","v":95.15},null,null,{"$f":"ROUND(AC315/(1-VLOOKUP(AF315,Group,2,FALSE)),2)","v":95.15},{"$f":"IF(VLOOKUP(AF315,Group,5,FALSE)=\"YES\",VLOOKUP(ROUND(ROUND(AJ315,1)-AJ315,2),Round,2,FALSE)+VLOOKUP(AF315,Group,6,FALSE),0)","v":0},{"$f":"IF(VLOOKUP(AF315,Group,7,FALSE)=\"\",0,ROUND(AJ315-0.04999,1)-AJ315+AM315)","v":0},{"$f":"IF(VLOOKUP(AF315,Group,7,FALSE)=\"\",\"\",VLOOKUP(AF315,Group,7,FALSE))","v":""},null,"X"]
[null,"Mortars/Ahesive",null,null,"50 lb",null,"Bag",null,"White","Rapid",null,null,null,null,null,null,null,null,{"$f":"IF(Suggested=\"Yes\",AA316,AG316)","v":103.7},"EA",{"$f":"+Instructions!$B$3","v":"I"},null,{"$f":"+Instructions!$C$22","v":0},{"$f":"ROUND($AA316*(1-W316)+0.004999,2)","v":103.7},null,"",103.7,{"$f":"+W316","v":0},{"$f":"+X316","v":103.7},{"$f":"(AG316-AC316)/AG316","v":0},null,1,{"$f":"SUM(AJ316:AL316)+AE316","v":103.7},null,null,{"$f":"ROUND(AC316/(1-VLOOKUP(AF316,Group,2,FALSE)),2)","v":103.7},{"$f":"IF(VLOOKUP(AF316,Group,5,FALSE)=\"YES\",VLOOKUP(ROUND(ROUND(AJ316,1)-AJ316,2),Round,2,FALSE)+VLOOKUP(AF316,Group,6,FALSE),0)","v":0},{"$f":"IF(VLOOKUP(AF316,Group,7,FALSE)=\"\",0,ROUND(AJ316-0.04999,1)-AJ316+AM316)","v":0},{"$f":"IF(VLOOKUP(AF316,Group,7,FALSE)=\"\",\"\",VLOOKUP(AF316,Group,7,FALSE))","v":""},null,"X"]
[null,null,null,null,null,null,null,null,null,null,null,null,null,null,null,null,null,null,null,null,null,null,null,null,null,null,null,null,null,null,null,null,null,null,null,null,null,null,null,null,"X"]
[null,null,null,"Notes:","Laticrete 4-XLT Rapid is a fast setting, multi-use, polymer fortified adhesive mortar for large format tile installations.  It offers tremendous "]
[null,null,null,null,"utility for non-sag wall installations, medium bed build up & thin-set applications on floors.  Laticrete 4-XLT Rapid is built on Laticrete Water"]
[null,null,null,null,"Dispersion Technology™ (WDT) platform. WDT provides for the complete dispersion of water within the mix allowing users to achieve the "]
[null,null,null," ","desired application consistency."]
[null,null,null,null,null,null,null,null,null,null,null,null,null,null,null,null,null,null,null,null,null,null,null,null,null,null,null,null,null,null,null,null,null,null,null,null,null,null,null,null,"X"]
[null,null,null,null,null,null,"Approximate Coverage per 50 lb Bag",null,null,null,null,null,null,null,null,null,null,null,null,null,null,null,null,null,null,null,null,null,null,null,null,null,null,null,null,null,null,null,null,null,"X"]
[null,null,null,null,null,null,"NOTCH TROWEL",null,null,null,null,"COVERAGE",null,null,null,null,null,null,null,null,null,null,null,null,null,null,null,null,null,null,null,null,null,null,null,null,null,null,null,null,"X"]
[null,null,null,null,null,null,"For Thin Beds",null,null,null,null,null,null,null,null,null,null,null,null,null,null,null,null,null,null,null,null,null,null,null,null,null,null,null,null,null,null,null,null,null,"X"]
[null,null,null,null,null,null,"1/4\" x 1/4\"",null,null,null,null,"80-95 sq ft",null,null,null,null,null,null,null,null,null,null,null,null,null,null,null,null,null,null,null,null,null,null,null,null,null,null,null,null,"X"]
[null,null,null,null,null,null,"1/4\" x 3/8\"",null,null,null,null,"60-70 sq ft",null,null,null,null," ",null,null,null,null,null,null,null,null,null,null,null,null,null,null,null,null,null,null,null,null,null,null,null,"X"]
[null,null,null,null,null,null,"For Medium Beds",null,null,null,null,null,null,null,null,null,null,null,null,null,null,null,null,null,null,null,null,null,null,null,null,null,null,null,null,null,null,null,null,null,"X"]
[null,null,null,null,null,null,"1/2\" x 1/2\"",null,null,null,null,"40-47 sq ft",null,null,null,null,null,null,null,null,null,null,null,null,null,null,null,null,null,null,null,null,null,null,null,null,null,null,null,null,"X"]
[null,null,null,null,null,null,null,null,null,null,null,null,null,null,null,null,null,null,null,null,null,null,null,null,null,null,null,null,null,null,null,null,null,null,null,null,null,null,null,null,"X"]
[null,null,null,"LHT Large & Heavy Tile Mortar",null,null,null,null,null,null,null,null,null,null,null,null,null,"Item # Lookup:","LTLHT",null,null,null,null,null,null,null,null,null,null,null,null,null,null,null,null,null,null,null,null,null,"X"]
[]
[null,"Mortars/Ahesive",null,null,"50 lb",null,"Bag",null,"Grey",null,null,null,null," ",null,null,null,null,{"$f":"IF(Suggested=\"Yes\",AA333,AG333)","v":33.5},"EA",{"$f":"+Instructions!$B$3","v":"I"},null,{"$f":"+Instructions!$C$22","v":0},{"$f":"ROUND($AA333*(1-W333)+0.004999,2)","v":33.5},null,"",33.5,{"$f":"+W333","v":0},{"$f":"+X333","v":33.5},{"$f":"(AG333-AC333)/AG333","v":0},null,1,{"$f":"SUM(AJ333:AL333)+AE333","v":33.5},null,null,{"$f":"ROUND(AC333/(1-VLOOKUP(AF333,Group,2,FALSE)),2)","v":33.5},{"$f":"IF(VLOOKUP(AF333,Group,5,FALSE)=\"YES\",VLOOKUP(ROUND(ROUND(AJ333,1)-AJ333,2),Round,2,FALSE)+VLOOKUP(AF333,Group,6,FALSE),0)","v":0},{"$f":"IF(VLOOKUP(AF333,Group,7,FALSE)=\"\",0,ROUND(AJ333-0.04999,1)-AJ333+AM333)","v":0},{"$f":"IF(VLOOKUP(AF333,Group,7,FALSE)=\"\",\"\",VLOOKUP(AF333,Group,7,FALSE))","v":""},null,"X"]
[null,"Mortars/Ahesive",null,null,"50 lb",null,"Bag",null,"White",null,null,null,null,null,null,null,"Stock",null,{"$f":"IF(Suggested=\"Yes\",AA334,AG334)","v":35.65},"EA",{"$f":"+Instructions!$B$3","v":"I"},null,{"$f":"+Instructions!$C$22","v":0},{"$f":"ROUND($AA334*(1-W334)+0.004999,2)","v":35.65},null,"",35.65,{"$f":"+W334","v":0},{"$f":"+X334","v":35.65},{"$f":"(AG334-AC334)/AG334","v":0},null,1,{"$f":"SUM(AJ334:AL334)+AE334","v":35.65},null,null,{"$f":"ROUND(AC334/(1-VLOOKUP(AF334,Group,2,FALSE)),2)","v":35.65},{"$f":"IF(VLOOKUP(AF334,Group,5,FALSE)=\"YES\",VLOOKUP(ROUND(ROUND(AJ334,1)-AJ334,2),Round,2,FALSE)+VLOOKUP(AF334,Group,6,FALSE),0)","v":0},{"$f":"IF(VLOOKUP(AF334,Group,7,FALSE)=\"\",0,ROUND(AJ334-0.04999,1)-AJ334+AM334)","v":0},{"$f":"IF(VLOOKUP(AF334,Group,7,FALSE)=\"\",\"\",VLOOKUP(AF334,Group,7,FALSE))","v":""},null,"X"]
[null,null,null,null,null,null,null,null,null,null,null,null,null,null,null,null,null,null,null,null,null,null,null,null,null,null,null,null,null,null,null,null,null,null,null,null,null,null,null,null,"X"]
[null,null,null,"Notes:","A polymer modified large and heavy tile mortar specifically formulated to provide a one-step installation for large format ceramic tile,"]
[null,null,null,null,"porcelain tile, marble and stone on floors."]
[null,null,null,null,null,null,null,null,null,null,null,null,null,null,null,null,null,null,null,null,null,null,null,null,null,null,null,null,null,null,null,null,null,null,null,null,null,null,null,null,"X"]
[null,null,null,null,null,null,"Approximate Coverage per 50 lb Bag",null,null,null,null,null,null,null,null,null,null,null,null,null,null,null,null,null,null,null,null,null,null,null,null,null,null,null,null,null,null,null,null,null,"X"]
[null,null,null,null,null,null,"NOTCH TROWEL",null,null,null,null,"COVERAGE",null,null,null,null,null,null,null,null,null,null,null,null,null,null,null,null,null,null,null,null,null,null,null,null,null,null,null,null,"X"]
[null,null,null,null,null,null,"1/2\" x 1/2\"",null,null,null,null,"40-50 sq ft",null,null,null,null,null,null,null,null,null,null,null,null,null,null,null,null,null,null,null,null,null,null,null,null,null,null,null,null,"X"]
[null,null,null,null,null,null,null,null,null,null,null,null,null,null,null,null,null,null,null,null,null,null,null,null,null,null,null,null,null,null,null,null,null,null,null,null,null,null,null,null,"X"]
[null,null,null,"LHT Plus Large & Heavy Tile Mortar",null,null,null,null,null,null,null,null,null,null,null,null,null,"Item # Lookup:","LTLHTPLUS",null,null,null,null,null,null,null,null,null,null,null,null,null,null,null,null,null,null,null,null,null,"X"]
[]
[null,"Mortars/Ahesive",null,null,"50 lb",null,"Bag",null,"Grey",null,null,null,null,null,null,null,"Stock",null,{"$f":"IF(Suggested=\"Yes\",AA345,AG345)","v":37.25},"EA",{"$f":"+Instructions!$B$3","v":"I"},null,{"$f":"+Instructions!$C$22","v":0},{"$f":"ROUND($AA345*(1-W345)+0.004999,2)","v":37.25},null,"",37.25,{"$f":"+W345","v":0},{"$f":"+X345","v":37.25},{"$f":"(AG345-AC345)/AG345","v":0},null,1,{"$f":"SUM(AJ345:AL345)+AE345","v":37.25},null,null,{"$f":"ROUND(AC345/(1-VLOOKUP(AF345,Group,2,FALSE)),2)","v":37.25},{"$f":"IF(VLOOKUP(AF345,Group,5,FALSE)=\"YES\",VLOOKUP(ROUND(ROUND(AJ345,1)-AJ345,2),Round,2,FALSE)+VLOOKUP(AF345,Group,6,FALSE),0)","v":0},{"$f":"IF(VLOOKUP(AF345,Group,7,FALSE)=\"\",0,ROUND(AJ345-0.04999,1)-AJ345+AM345)","v":0},{"$f":"IF(VLOOKUP(AF345,Group,7,FALSE)=\"\",\"\",VLOOKUP(AF345,Group,7,FALSE))","v":""},null,"X"]
[null,"Mortars/Ahesive",null,null,"50 lb",null,"Bag",null,"White",null,null,null,null,null,null,null,null,null,{"$f":"IF(Suggested=\"Yes\",AA346,AG346)","v":39.85},"EA",{"$f":"+Instructions!$B$3","v":"I"},null,{"$f":"+Instructions!$C$22","v":0},{"$f":"ROUND($AA346*(1-W346)+0.004999,2)","v":39.85},null,"",39.85,{"$f":"+W346","v":0},{"$f":"+X346","v":39.85},{"$f":"(AG346-AC346)/AG346","v":0},null,1,{"$f":"SUM(AJ346:AL346)+AE346","v":39.85},null,null,{"$f":"ROUND(AC346/(1-VLOOKUP(AF346,Group,2,FALSE)),2)","v":39.85},{"$f":"IF(VLOOKUP(AF346,Group,5,FALSE)=\"YES\",VLOOKUP(ROUND(ROUND(AJ346,1)-AJ346,2),Round,2,FALSE)+VLOOKUP(AF346,Group,6,FALSE),0)","v":0},{"$f":"IF(VLOOKUP(AF346,Group,7,FALSE)=\"\",0,ROUND(AJ346-0.04999,1)-AJ346+AM346)","v":0},{"$f":"IF(VLOOKUP(AF346,Group,7,FALSE)=\"\",\"\",VLOOKUP(AF346,Group,7,FALSE))","v":""},null,"X"]
[null,null,null,null,null,null,null,null,null,null,null,null,null,null,null,null,null,null,null,null,null,null,null,null,null,null,null,null,null,null,null,null,null,null,null,null,null,null,null,null,"X"]
[null,null,null,"Notes:","A polymer modified large and heavy tile mortar specifically formulated to provide a one-step installation for large format ceramic tile,"]
[null,null,null,null,"porcelain tile, marble and stone on floors.  Approved for use over exterior glue plywood for interior installations."]
[null,null,null,null,null,null,null,null,null,null,null,null,null,null,null,null,null,null,null,null,null,null,null,null,null,null,null,null,null,null,null,null,null,null,null,null,null,null,null,null,"X"]
[null,null,null,null,null,null,"Approximate Coverage per 50 lb Bag",null,null,null,null,null,null,null,null,null,null,null,null,null,null,null,null,null,null,null,null,null,null,null,null,null,null,null,null,null,null,null,null,null,"X"]
[null,null,null,null,null,null,"NOTCH TROWEL",null,null,null,null,"COVERAGE",null,null,null,null,null,null,null,null,null,null,null,null,null,null,null,null,null,null,null,null,null,null,null,null,null,null,null,null,"X"]
[null,null,null,null,null,null,"1/2\" x 1/2\"",null,null,null,null,"40-50 sq ft",null,null,null,null,null,null,null,null,null,null,null,null,null,null,null,null,null,null,null,null,null,null,null,null,null,null,null,null,"X"]
[null,null,null,null,null,null,null,null,null,null,null,null,null,null,null,null,null,null,null,null,null,null,null,null,null,null,null,null,null,null,null,null,null,null,null,null,null,null,null,null,"X"]
[null,null,null,"Sure Set LHT",null,null,null,null,null,null,null,null,null,null,null,null,null,"Item # Lookup:","LTSSLHT",null,null,null,null,null,null,null,null,null,null,null,null,null,null,null,null,null,null,null,null,null,"X"]
[]
[null,"Mortars/Ahesive",null,null,"44 lb",null,"Bag",null,"Grey",null,null,null,null,null,null,null,"Stock",null,{"$f":"IF(Suggested=\"Yes\",AA357,AG357)","v":31.15},"EA",{"$f":"+Instructions!$B$3","v":"I"},null,{"$f":"+Instructions!$C$22","v":0},{"$f":"ROUND($AA357*(1-W357)+0.004999,2)","v":31.15},null,"YES",31.15,{"$f":"+W357","v":0},{"$f":"+X357","v":31.15},{"$f":"(AG357-AC357)/AG357","v":0},null,1,{"$f":"SUM(AJ357:AL357)+AE357","v":31.15},null,null,{"$f":"ROUND(AC357/(1-VLOOKUP(AF357,Group,2,FALSE)),2)","v":31.15},{"$f":"IF(VLOOKUP(AF357,Group,5,FALSE)=\"YES\",VLOOKUP(ROUND(ROUND(AJ357,1)-AJ357,2),Round,2,FALSE)+VLOOKUP(AF357,Group,6,FALSE),0)","v":0},{"$f":"IF(VLOOKUP(AF357,Group,7,FALSE)=\"\",0,ROUND(AJ357-0.04999,1)-AJ357+AM357)","v":0},{"$f":"IF(VLOOKUP(AF357,Group,7,FALSE)=\"\",\"\",VLOOKUP(AF357,Group,7,FALSE))","v":""},null,"X"]
[null,"Mortars/Ahesive",null,null,"44 lb",null,"Bag",null,"White",null,null,null,null,null,null,null,"Stock",null,{"$f":"IF(Suggested=\"Yes\",AA358,AG358)","v":33.85},"EA",{"$f":"+Instructions!$B$3","v":"I"},null,{"$f":"+Instructions!$C$22","v":0},{"$f":"ROUND($AA358*(1-W358)+0.004999,2)","v":33.85},null,"YES",33.85,{"$f":"+W358","v":0},{"$f":"+X358","v":33.85},{"$f":"(AG358-AC358)/AG358","v":0},null,1,{"$f":"SUM(AJ358:AL358)+AE358","v":33.85},null,null,{"$f":"ROUND(AC358/(1-VLOOKUP(AF358,Group,2,FALSE)),2)","v":33.85},{"$f":"IF(VLOOKUP(AF358,Group,5,FALSE)=\"YES\",VLOOKUP(ROUND(ROUND(AJ358,1)-AJ358,2),Round,2,FALSE)+VLOOKUP(AF358,Group,6,FALSE),0)","v":0},{"$f":"IF(VLOOKUP(AF358,Group,7,FALSE)=\"\",0,ROUND(AJ358-0.04999,1)-AJ358+AM358)","v":0},{"$f":"IF(VLOOKUP(AF358,Group,7,FALSE)=\"\",\"\",VLOOKUP(AF358,Group,7,FALSE))","v":""},null,"X"]
[null,null,null,null,null,null,null,null,null,null,null,null,null,null,null,null,null,null,null,null,null,null,null,null,null,null,null,null,null,null,null,null,null,null,null,null,null,null,null,null,"X"]
[null,null,"continued on next page",null,null,null,null,null,null,null,null,null,null,null,null,null,null,null,null,null,null,null,null,null,null,null,null,null,null,null,null,null,null,null,null,null,null,null,null,null,"X"]
["x",null,null,"Sure Set LHT - continued  ",null,null,null,null,null,null,null,null,null,null,null,null,null,"Item # Lookup:","LTSSLHT",null,null,null,null,null,null,null,null,null,null,null,null,null,null,null,null,null,null,null,null,null,"X"]
[null,null,null,null,null,null,null,null,null,null,null,null,null,null,null,null,null,null,null,null,null,null,null,null,null,null,null,null,null,null,null,null,null,null,null,null,null,null,null,null,"X"]
[null,null,null,"Notes:","Designed for performance and ease of use, this versatile adhesive mortar is the ideal solution for a wide range of tile and stone"]
[null,null,null,null,"installations. With non-sag and non-slump performance, this tile adhesive is perfect for both vertical and floor applications, including"]
[null,null,null,null,"large and heavy tiles (LHT), while meeting ANSI A118.4HT and ANSI A118.11 for use over plywood and various other substrates."]
[null,null,null,null,null,null,null,null,null,null,null,null,null,null,null,null,null,null,null,null,null,null,null,null,null,null,null,null,null,null,null,null,null,null,null,null,null,null,null,null,"X"]
[null,null,null,null,null,null,"Approximate Coverage per 44 lb Bag",null,null,null,null,null,null,null,null,null,null,null,null,null,null,null,null,null,null,null,null,null,null,null,null,null,null,null,null,null,null,null,null,null,"X"]
[null,null,null,null,null,null,"NOTCH TROWEL",null,null,null,null,"COVERAGE",null,null,null,null,null,null,null,null,null,null,null,null,null,null,null,null,null,null,null,null,null,null,null,null,null,null,null,null,"X"]
[null,null,null,null,null,null,"1/4\" x 1/4\"",null,null,null,null,"70-86 sq ft",null,null,null,null,null,null,null,null,null,null,null,null,null,null,null,null,null,null,null,null,null,null,null,null,null,null,null,null,"X"]
[null,null,null,null,null,null,"1/4\" x 3/8\"",null,null,null,null,"53-62 sq ft",null,null,null,null,null,null,null,null,null,null,null,null,null,null,null,null,null,null,null,null,null,null,null,null,null,null,null,null,"X"]
[null,null,null,null,null,null,"1/2\" x 1/2\"",null,null,null,null,"35-43 sq ft",null,null,null,null,null,null,null,null,null,null,null,null,null,null,null,null,null,null,null,null,null,null,null,null,null,null,null,null,"X"]
[null,null,null,null,null,null,"3/4\" Half Loop",null,null,null,null,"35-43 sq ft",null,null,null,null,null,null,null,null,null,null,null,null,null,null,null,null,null,null,null,null,null,null,null,null,null,null,null,null,"X"]
[]
[null,null," ","296 Glass Tile Adhesive Lite",null,null,null,null,null,null,null,null,null,null,null,null,null,"Item # Lookup:","LT0296",null,null,null,null,null,null,null,null,null,null,null,null,null,null,null,null,null,null,null,null,null,"X"]
[]
[null,"Mortars/Ahesive",null,null,"12.5 LB",null,"Bag",null,"White",null,null,null,null,null,null,null,"Stock",null,{"$f":"IF(Suggested=\"Yes\",AA376,AG376)","v":56.45},"EA",{"$f":"+Instructions!$B$3","v":"I"},null,{"$f":"+Instructions!$C$22","v":0},{"$f":"ROUND($AA376*(1-W376)+0.004999,2)","v":56.45},null,"",56.45,{"$f":"+W376","v":0},{"$f":"+X376","v":56.45},{"$f":"(AG376-AC376)/AG376","v":0},null,1,{"$f":"SUM(AJ376:AL376)+AE376","v":56.45},null,null,{"$f":"ROUND(AC376/(1-VLOOKUP(AF376,Group,2,FALSE)),2)","v":56.45},{"$f":"IF(VLOOKUP(AF376,Group,5,FALSE)=\"YES\",VLOOKUP(ROUND(ROUND(AJ376,1)-AJ376,2),Round,2,FALSE)+VLOOKUP(AF376,Group,6,FALSE),0)","v":0},{"$f":"IF(VLOOKUP(AF376,Group,7,FALSE)=\"\",0,ROUND(AJ376-0.04999,1)-AJ376+AM376)","v":0},{"$f":"IF(VLOOKUP(AF376,Group,7,FALSE)=\"\",\"\",VLOOKUP(AF376,Group,7,FALSE))","v":""},null,"X"]
[null,null,null,null,null,null,null,null,null,null,null,null,null,null,null,null,null,null,null,null,null,null,null,null,null,null,null,null,null,null,null,null,null,null,null,null,null,null,null,null,"X"]
[null,null,null,"Notes:","Glass Tile Adhesive Lite is a lightweight non-sag, polymer fortified adhesive mortar that is specifically formulated for use in glass tile applications.",null,null,null,null,null,null,null,null,null,null,null,null,null,null,null,null,null,null,null,null,null,null,null,null,null,null,null,null,null,null,null,null,null,null,null,"X"]
[null,null,null,null,"Glass Tile Adhesive Lite contains no respirable crystalline silica levels that exceed the OSHA action level and has a smooth easy-to-trowel",null,null,null,null,null,null,null,null,null,null,null,null,null,null,null,null,null,null,null,null,null,null,null,null,null,null,null,null,null,null,null,null,null,null,null,"X"]
[null,null,null,null,"consistency and long open time for ease of installation.  The robust formula exceeds ANSI A118.15 requirements.  Glass Tile Adhesive Lite",null,null,null,null,null,null,null,null,null,null,null,null,null,null,null,null,null,null,null,null,null,null,null,null,null,null,null,null,null,null,null,null,null,null,null,"X"]
[null,null,null," ","produces an ultra-white finish that enhances the look of glass mosaics, glass tile and most any translucent tile or stone.  In addition to containing",null,null,null,null,null,null,null,null,null,null,null,null,null,null,null,null,null,null,null,null,null,null,null,null,null,null,null,null,null,null,null,null,null,null,null,"X"]
[null,null,null,null,"antimicrobial protection, Glass Tile Adhesive Lite is GREENGUARD GOLD certified for low VOC.  Glass Tile Adhesive Lite can also be used",null,null,null,null,null,null,null,null,null,null,null,null,null,null,null,null,null,null,null,null,null,null,null,null,null,null,null,null,null,null,null,null,null,null,null,"X"]
[null,null,null,null,"with porcelain or ceramic tile.",null,null,null,null,null,null,null,null,null,null,null,null,null,null,null,null,null,null,null,null,null,null,null,null,null,null,null,null,null,null,null,null,null,null,null,"X"]
[null,null,null,null,null,null,null,null,null,null,null,null,null,null,null,null,null,null,null,null,null,null,null,null,null,null,null,null,null,null,null,null,null,null,null,null,null,null,null,null,"X"]
[null,null,null,null,null,null,"Approximate Coverage per 12.5 lb Bag",null,null,null,null,null,null,null,null,null,null,null,null,null,null,null,null,null,null,null,null,null,null,null,null,null,null,null,null,null,null,null,null,null,"X"]
[null,null,null,null,null,null,"NOTCH TROWEL",null,null,null,"COVERAGE",null,null,null,null,null,null,null,null,null,null,null,null,null,null,null,null,null,null,null,null,null,null,null,null,null,null,null,null,null,"X"]
[null,null,null,null,null,null,"1/4\" x 1/4\"",null,null,null,"38-42 sq ft",null,null,null,null,null,null,null,null,null,null,null,null,null,null,null,null,null,null,null,null,null,null,null,null,null,null,null,null,null,"X"]
[null,null,null,null,null,null,"1/4\" x 3/8\"",null,null,null,"25-30 sq ft",null,null,null,null,null,null,null,null,null,null,null,null,null,null,null,null,null,null,null,null,null,null,null,null,null,null,null,null,null,"X"]
[null,null,null,null,null,null,"1/8\" x 3/16\"",null,null,null,"75-85 sq ft",null,null,null,null,null,null,null,null,null,null,null,null,null,null,null,null,null,null,null,null,null,null,null,null,null,null,null,null,null,"X"]
[null,null,null,null,null,null,null,null,null,null,null,null,null,null,null,null,null,null,null,null,null,null,null,null,null,null,null,null,null,null,null,null,null,null,null,null,null,null,null,null,"X"]
[null,null,null,"LATAPOXY EPOXY ADHESIVES",null,null,null,null,null,null,null,null,null,null,null,null,null,null,null,null,null,null,null,null,null,null,null,null,null,null,null,null,null,null,null,null,null,null,null,null,"X"]
[]
[null,null,null,"300 Epoxy Adhesive",null,null,null,null,null,null,null,null,null,null,null,null,null,"Item # Lookup:","LT03002UNIT",null,null,null,null,null,null,null,null,null,null,null,null,null,null,null,null,null,null,null,null,null,"X"]
[]
[null,"Mortars/Ahesive",null,null,"#2 Unit",null,"Pail",null,null,null,"(makes 1.8 gallons of mortar)",null,null,null,null,null,"Stock",null,{"$f":"IF(Suggested=\"Yes\",AA395,AG395)","v":421},"EA",{"$f":"+Instructions!$B$3","v":"I"},null,{"$f":"+Instructions!$C$22","v":0},{"$f":"ROUND($AA395*(1-W395)+0.004999,2)","v":421},null,"",421,{"$f":"+W395","v":0},{"$f":"+X395","v":421},{"$f":"(AG395-AC395)/AG395","v":0},null,1,{"$f":"SUM(AJ395:AL395)+AE395","v":421},null,null,{"$f":"ROUND(AC395/(1-VLOOKUP(AF395,Group,2,FALSE)),2)","v":421},{"$f":"IF(VLOOKUP(AF395,Group,5,FALSE)=\"YES\",VLOOKUP(ROUND(ROUND(AJ395,1)-AJ395,2),Round,2,FALSE)+VLOOKUP(AF395,Group,6,FALSE),0)","v":0},{"$f":"IF(VLOOKUP(AF395,Group,7,FALSE)=\"\",0,ROUND(AJ395-0.04999,1)-AJ395+AM395)","v":0},{"$f":"IF(VLOOKUP(AF395,Group,7,FALSE)=\"\",\"\",VLOOKUP(AF395,Group,7,FALSE))","v":""},null,"X"]
[null,null,null,null,null,null,null,null,null,null,null,null,null,null,null,null,null,null,null,null,null,null,null,null,null,null,null,null,null,null,null,null,null,null,null,null,null,null,null,null,"X"]
[null,null,null,"Notes:","A high-strength, 3-part 100% solids epoxy adhesive formulated for chemical resistant installations of quarry tile, brick & packing house tile.  ",null,null,null,null,null,null,null,null,null,null,null,null,null,null,null,null,null,null,null,null,null,null,null,null,null,null,null,null,null,null,null,null,null,null,null,"X"]
[null,null,null,null,"Recommended for mesh mount glass mosaics & resin backed tiles & stones.   ",null,null,null,null,null,null,null,null,null,null,null,null,null,null,null,null,null,null,null,null,null,null,null,null,null,null,null,null,null,null,null,null,null,null,null,"X"]
[null,null,null,null,null,null,null,null,null,null,null,null,null,null,null,null,null,null,null,null,null,null,null,null,null,null,null,null,null,null,null,null,null,null,null,null,null,null,null,null,"X"]
[null,null,null,null,null,null,"Approximate Coverage Per #2 Unit",null,null,null,null,null,null,null,null,null,null,null,null,null,null,null,null,null,null,null,null,null,null,null,null,null,null,null,null,null,null,null,null,null,"X"]
[null,null,null,null,null,null,"NOTCH TROWEL",null,null,null,"COVERAGE",null,null,null,null,null,null,null,null,null,null,null,null,null,null,null,null,null,null,null,null,null,null,null,null,null,null,null,null,null,"X"]
[null,null,null,null,null,null,"1/16\" V-Notch",null,null,null,"180-200 Sq Ft",null,null,null,null,null,null,null,null,null,null,null,null,null,null,null,null,null,null,null,null,null,null,null,null,null,null,null,null,null,"X"]
[null,null,null,null,null,null,"1/8\" x 1/8\" Square",null,null,null,"60-70 Sq Ft",null,null,null,null,null,null,null,null,null,null,null,null,null,null,null,null,null,null,null,null,null,null,null,null,null,null,null,null,null,"X"]
[null,null,null,null,null,null,"3/16\" V-Notch",null,null,null,"70-80 Sq Ft",null,null,null,null,null,null,null,null,null,null,null,null,null,null,null,null,null,null,null,null,null,null,null,null,null,null,null,null,null,"X"]
[null,null,null,null,null,null,"1/4\" x 1/4\" Square",null,null,null,"30-35 Sq Ft",null,null,null,null,null,null,null,null,null,null,null,null,null,null,null,null,null,null,null,null,null,null,null,null,null,null,null,null,null,"X"]
[]
[null,null,null,"Biogreen 300 Epoxy Adhesive",null,null,null,null,null,null,null,null,null,null,null,null,null,"Item # Lookup:","LT03042UNIT",null,null,null,null,null,null,null,null,null,null,null,null,null,null,null,null,null,null,null,null,null,"X"]
[]
[null,"Mortars/Ahesive",null,null,"#2 Unit",null,"Pail",null,null,null,"(makes 1.9 gallons of mortar)",null,null,null,null,null,null,null,{"$f":"IF(Suggested=\"Yes\",AA409,AG409)","v":457.1},"EA",{"$f":"+Instructions!$B$3","v":"I"},null,{"$f":"+Instructions!$C$22","v":0},{"$f":"ROUND($AA409*(1-W409)+0.004999,2)","v":457.1},null,"",457.1,{"$f":"+W409","v":0},{"$f":"+X409","v":457.1},{"$f":"(AG409-AC409)/AG409","v":0},null,1,{"$f":"SUM(AJ409:AL409)+AE409","v":457.1},null,null,{"$f":"ROUND(AC409/(1-VLOOKUP(AF409,Group,2,FALSE)),2)","v":457.1},{"$f":"IF(VLOOKUP(AF409,Group,5,FALSE)=\"YES\",VLOOKUP(ROUND(ROUND(AJ409,1)-AJ409,2),Round,2,FALSE)+VLOOKUP(AF409,Group,6,FALSE),0)","v":0},{"$f":"IF(VLOOKUP(AF409,Group,7,FALSE)=\"\",0,ROUND(AJ409-0.04999,1)-AJ409+AM409)","v":0},{"$f":"IF(VLOOKUP(AF409,Group,7,FALSE)=\"\",\"\",VLOOKUP(AF409,Group,7,FALSE))","v":""},null,"X"]
[null,null,null,null,null,null,null,null,null,null,null,null,null,null,null,null,null,null,null,null,null,null,null,null,null,null,null,null,null,null,null,null,null,null,null,null,null,null,null,null,"X"]
[null,null,null,"Notes:","High-strength, chemical resistant epoxy adhesive for installing tile & stone, made with bio-based material.  Bio-based materials are derived",null,null,null,null,null,null,null,null,null,null,null,null,null,null,null,null,null,null,null,null,null,null,null,null,null,null,null,null,null,null,null,null,null,null,null,"X"]
[null,null,null,null,"from plants & other renewable agricultural, marine, & forestry materials.  These products provide an alternative to conventional non-renewable",null,null,null,null,null,null,null,null,null,null,null,null,null,null,null,null,null,null,null,null,null,null,null,null,null,null,null,null,null,null,null,null,null,null,null,"X"]
[null,null,null,null,"materials such as petroleum derived products, contribute to a cleaner environment & may contribute to LEED V4 points.  Offers the performance",null,null,null,null,null,null,null,null,null,null,null,null,null,null,null,null,null,null,null,null,null,null,null,null,null,null,null,null,null,null,null,null,null,null,null,"X"]
[null,null,null,null,"you have come to rely on from LATAPOXY 300 Adhesive with the additional enhancement of a faster cure time.  BIOGREEN 300 is designed",null,null,null,null,null,null,null,null,null,null,null,null,null,null,null,null,null,null,null,null,null,null,null,null,null,null,null,null,null,null,null,null,null,null,null,"X"]
[null,null,null," ","for your most demanding installations of tile & stone, exceeding both ANSI A118.3 and ISO 13007 R2 requirements for epoxy adhesives.",null,null,null,null,null,null,null,null,null,null,null,null,null,null,null,null,null,null,null,null,null,null,null,null,null,null,null,null,null,null,null,null,null,null,null,"X"]
[null,null,null,null,null,null,null,null,null,null,null,null,null,null,null,null,null,null,null,null,null,null,null,null,null,null,null,null,null,null,null,null,null,null,null,null,null,null,null,null,"X"]
[null,null,null,null,null,null,"Approximate Coverage Per #2 Unit",null,null,null,null,null,null,null,null,null,null,null,null,null,null,null,null,null,null,null,null,null,null,null,null,null,null,null,null,null,null,null,null,null,"X"]
[null,null,null,null,null,null,"NOTCH TROWEL",null,null,null,"COVERAGE",null,null,null,null,null,null,null,null,null,null,null,null,null,null,null,null,null,null,null,null,null,null,null,null,null,null,null,null,null,"X"]
[null,null,null,null,null,null,"1/16\" V-Notch",null,null,null,"180-200 Sq Ft",null,null,null,null,null,null,null,null,null,null,null,null,null,null,null,null,null,null,null,null,null,null,null,null,null,null,null,null,null,"X"]
[null,null,null,null,null,null,"1/8\" x 1/8\" Square",null,null,null,"60-70 Sq Ft",null,null,null,null,null,null,null,null,null,null,null,null,null,null,null,null,null,null,null,null,null,null,null,null,null,null,null,null,null,"X"]
[null,null,null,null,null,null,"3/16\" V-Notch",null,null,null,"70-80 Sq Ft",null,null,null,null,null,null,null,null,null,null,null,null,null,null,null,null,null,null,null,null,null,null,null,null,null,null,null,null,null,"X"]
[null,null,null,null,null,null,"1/4\" x 1/4\" Square",null,null,null,"30-35 Sq Ft",null,null,null,null,null,null,null,null,null,null,null,null,null,null,null,null,null,null,null,null,null,null,null,null,null,null,null,null,null,"X"]
[null,null,null,null,null,null,null,null,null,null,null,null,null,null,null,null,null,null,null,null,null,null,null,null,null,null,null,null,null,null,null,null,null,null,null,null,null,null,null,null,"X"]
[null,null,null,"310 Cordless Mixer",null,null,null,null,null,null,null,null,null,null,null,null,null,"Item # Lookup:","LT0310",null,null,null,null,null,null,null,null,null,null,null,null,null,null,null,null,null,null,null,null,null,"X"]
[]
[null,"Other Items",null,null,"14.4 Volt",null,"RT8480310",null,null,"  Cordless Mixer, Battery Charger & Battery",null,null,null,null,null,null,null,null,{"$f":"IF(Suggested=\"Yes\",AA426,AG426)","v":1616.1},"EA",{"$f":"+Instructions!$B$3","v":"I"},null,{"$f":"+Instructions!$C$22","v":0},{"$f":"ROUND($AA426*(1-W426)+0.004999,2)","v":1616.1},null,"",1616.1,{"$f":"+W426","v":0},1616.1,{"$f":"(AG426-AC426)/AG426","v":0},null,7,{"$f":"SUM(AJ426:AL426)+AE426","v":1616.1},null,null,{"$f":"ROUND(AC426/(1-VLOOKUP(AF426,Group,2,FALSE)),2)","v":1616.1},{"$f":"IF(VLOOKUP(AF426,Group,5,FALSE)=\"YES\",VLOOKUP(ROUND(ROUND(AJ426,1)-AJ426,2),Round,2,FALSE)+VLOOKUP(AF426,Group,6,FALSE),0)","v":0},{"$f":"IF(VLOOKUP(AF426,Group,7,FALSE)=\"\",0,ROUND(AJ426-0.04999,1)-AJ426+AM426)","v":0},{"$f":"IF(VLOOKUP(AF426,Group,7,FALSE)=\"\",\"\",VLOOKUP(AF426,Group,7,FALSE))","v":""},null,"X"]
[null,"Other Items",null,null,"600 ml",null,"S-310AB-CC-10",null,null,"  310 Epoxy Cartridge Pack",null,null,null,null,null,"15 EA/CTN",null,null,{"$f":"IF(Suggested=\"Yes\",AA427,AG427)","v":84.9},"EA",{"$f":"+Instructions!$B$3","v":"I"},null,{"$f":"+Instructions!$C$22","v":0},{"$f":"ROUND($AA427*(1-W427)+0.004999,2)","v":84.9},null,"",84.9,0,84.9,{"$f":"(AG427-AC427)/AG427","v":0},null,7,{"$f":"SUM(AJ427:AL427)+AE427","v":84.9},null,null,{"$f":"ROUND(AC427/(1-VLOOKUP(AF427,Group,2,FALSE)),2)","v":84.9},{"$f":"IF(VLOOKUP(AF427,Group,5,FALSE)=\"YES\",VLOOKUP(ROUND(ROUND(AJ427,1)-AJ427,2),Round,2,FALSE)+VLOOKUP(AF427,Group,6,FALSE),0)","v":0},{"$f":"IF(VLOOKUP(AF427,Group,7,FALSE)=\"\",0,ROUND(AJ427-0.04999,1)-AJ427+AM427)","v":0},{"$f":"IF(VLOOKUP(AF427,Group,7,FALSE)=\"\",\"\",VLOOKUP(AF427,Group,7,FALSE))","v":""},null,"X"]
[null,"Other Items",null,null,"600 ml",null,"S-310AB-CC-10-1",null,null,"  310 Rapid Epoxy Cartridge Pack",null,null,null,null,null,"15 EA/CTN",null,null,{"$f":"IF(Suggested=\"Yes\",AA428,AG428)","v":108.45},"EA",{"$f":"+Instructions!$B$3","v":"I"},null,{"$f":"+Instructions!$C$22","v":0},{"$f":"ROUND($AA428*(1-W428)+0.004999,2)","v":108.45},null,"",108.45,0,108.45,{"$f":"(AG428-AC428)/AG428","v":0},null,7,{"$f":"SUM(AJ428:AL428)+AE428","v":108.45},null,null,{"$f":"ROUND(AC428/(1-VLOOKUP(AF428,Group,2,FALSE)),2)","v":108.45},{"$f":"IF(VLOOKUP(AF428,Group,5,FALSE)=\"YES\",VLOOKUP(ROUND(ROUND(AJ428,1)-AJ428,2),Round,2,FALSE)+VLOOKUP(AF428,Group,6,FALSE),0)","v":0},{"$f":"IF(VLOOKUP(AF428,Group,7,FALSE)=\"\",0,ROUND(AJ428-0.04999,1)-AJ428+AM428)","v":0},{"$f":"IF(VLOOKUP(AF428,Group,7,FALSE)=\"\",\"\",VLOOKUP(AF428,Group,7,FALSE))","v":""},null,"X"]
[null,"Other Items",null,null,null,null,"RT8480500",null,null,"  310 Mixing Nozzle (Disposable)",null,null,null,null,null,"12 EA/CTN",null,null,{"$f":"IF(Suggested=\"Yes\",AA429,AG429)","v":20.5},"EA",{"$f":"+Instructions!$B$3","v":"I"},null,{"$f":"+Instructions!$C$22","v":0},{"$f":"ROUND($AA429*(1-W429)+0.004999,2)","v":20.5},null,"",20.5,0,20.5,{"$f":"(AG429-AC429)/AG429","v":0},null,7,{"$f":"SUM(AJ429:AL429)+AE429","v":20.5},null,null,{"$f":"ROUND(AC429/(1-VLOOKUP(AF429,Group,2,FALSE)),2)","v":20.5},{"$f":"IF(VLOOKUP(AF429,Group,5,FALSE)=\"YES\",VLOOKUP(ROUND(ROUND(AJ429,1)-AJ429,2),Round,2,FALSE)+VLOOKUP(AF429,Group,6,FALSE),0)","v":0},{"$f":"IF(VLOOKUP(AF429,Group,7,FALSE)=\"\",0,ROUND(AJ429-0.04999,1)-AJ429+AM429)","v":0},{"$f":"IF(VLOOKUP(AF429,Group,7,FALSE)=\"\",\"\",VLOOKUP(AF429,Group,7,FALSE))","v":""},null,"X"]
[]
[null,null,null,null,null,null,"Approximate dab diameter required to achieve 10% coverage with 5 dabs:",null,null,null,null,null,null,null,null,null,null,null,null,null,null,null,null,null,null,null,null,null,null,null,null,null,null,null,null,null,null,null,null,null,"X"]
[null,null,null,null,null,null,"Tile/Stone Size",null,null,null,null,null,null,"Dab Diameter",null,null,null,null,null,null,null,null,null,null,null,null,null,null,null,null,null,null,null,null,null,null,null,null,null,null,"X"]
[null,null,null,null,null,null,"12\" x 12\"",null,null,null,null,null,null,"2\"",null,null,null,null,null,null,null,null,null,null,null,null,null,null,null,null,null,null,null,null,null,null,null,null,null,null,"X"]
[null,null,null,null,null,null,"24\" x 24\"",null,null,null,null,null,null,"4\"",null,null,null,null,null,null,null,null,null,null,null,null,null,null,null,null,null,null,null,null,null,null,null,null,null,null,"X"]
[null,null,null,null,null,null,"36\" x 36\"",null,null,null,null,null,null,"6\"",null,null,null,null,null,null,null,null,null,null,null,null,null,null,null,null,null,null,null,null,null,null,null,null,null,null,"X"]
[null,null,null,null,null,null,null,null,null,null,null,null,null,null,null,null,null,null,null,null,null,null,null,null,null,null,null,null,null,null,null,null,null,null,null,null,null,null,null,null,"X"]
[null,null,null,"Notes:","Triple your productivity of vertical stone & tile installations & dramatically reduce labor costs with this exclusive dual component cordless ",null,null,null,null,null,null,null,null,null,null,null,null,null,null,null,null,null,null,null,null,null,null,null,null,null,null,null,null,null,null,null,null,null,null,null,"X"]
[null,null,null,null,"mixer.  Quickly & easily dispenses LATAPOXY 310 Stone Adhesive onto tile, porcelain & stone veneers.  Hundreds of square feet can be ",null,null,null,null,null,null,null,null,null,null,null,null,null,null,null,null,null,null,null,null,null,null,null,null,null,null,null,null,null,null,null,null,null,null,null,"X"]
[null,null,null,null,"installed per day with less effort & greater success with this system.    ",null,null,null,null,null,null,null,null,null,null,null,null,null,null,null,null,null,null,null,null,null,null,null,null,null,null,null,null,null,null,null,null,null,null,null,"X"]
[null,null,null,null,null,null,null,null,null,null,null,null,null,null,null,null,null,null,null,null,null,null,null,null,null,null,null,null,null,null,null,null,null,null,null,null,null,null,null,null,"X"]
[null,null,null,"310 Stone Adhesive",null,null,null,null,null,null,null,null,null,null,null,null,null,"Item # Lookup:","LT0310",null,null,null,null,null,null,null,null,null,null,null,null,null,null,null,null,null,null,null,null,null,"X"]
[]
[null,"Mortars/Ahesive",null,null,"1 Liter",null,"S-310AB-NC-08",null,null,null,"Mini Unit Kit",null,null,null,null,"8 EA/CTN",null,null,{"$f":"IF(Suggested=\"Yes\",AA443,AG443)","v":105.45},"EA",{"$f":"+Instructions!$B$3","v":"I"},null,{"$f":"+Instructions!$C$22","v":0},{"$f":"ROUND($AA443*(1-W443)+0.004999,2)","v":105.45},null,"",105.45,{"$f":"+W443","v":0},{"$f":"+X443","v":105.45},{"$f":"(AG443-AC443)/AG443","v":0},null,1,{"$f":"SUM(AJ443:AL443)+AE443","v":105.45},null,null,{"$f":"ROUND(AC443/(1-VLOOKUP(AF443,Group,2,FALSE)),2)","v":105.45},{"$f":"IF(VLOOKUP(AF443,Group,5,FALSE)=\"YES\",VLOOKUP(ROUND(ROUND(AJ443,1)-AJ443,2),Round,2,FALSE)+VLOOKUP(AF443,Group,6,FALSE),0)","v":0},{"$f":"IF(VLOOKUP(AF443,Group,7,FALSE)=\"\",0,ROUND(AJ443-0.04999,1)-AJ443+AM443)","v":0},{"$f":"IF(VLOOKUP(AF443,Group,7,FALSE)=\"\",\"\",VLOOKUP(AF443,Group,7,FALSE))","v":""},null,"X"]
[null,"Mortars/Ahesive",null,null,"10 Liter",null,"S-310AB-NC-10",null,null,null,"Full Unit Kit",null,null,null,null,null,null,null,{"$f":"IF(Suggested=\"Yes\",AA444,AG444)","v":865.05},"EA",{"$f":"+Instructions!$B$3","v":"I"},null,{"$f":"+Instructions!$C$22","v":0},{"$f":"ROUND($AA444*(1-W444)+0.004999,2)","v":865.05},null,"",865.05,{"$f":"+W444","v":0},{"$f":"+X444","v":865.05},{"$f":"(AG444-AC444)/AG444","v":0},null,1,{"$f":"SUM(AJ444:AL444)+AE444","v":865.05},null,null,{"$f":"ROUND(AC444/(1-VLOOKUP(AF444,Group,2,FALSE)),2)","v":865.05},{"$f":"IF(VLOOKUP(AF444,Group,5,FALSE)=\"YES\",VLOOKUP(ROUND(ROUND(AJ444,1)-AJ444,2),Round,2,FALSE)+VLOOKUP(AF444,Group,6,FALSE),0)","v":0},{"$f":"IF(VLOOKUP(AF444,Group,7,FALSE)=\"\",0,ROUND(AJ444-0.04999,1)-AJ444+AM444)","v":0},{"$f":"IF(VLOOKUP(AF444,Group,7,FALSE)=\"\",\"\",VLOOKUP(AF444,Group,7,FALSE))","v":""},null,"X"]
[null,null,null,null,null,null,null,null,null,null," "]
[null,null,null,"310 Rapid Stone Adhesive",null,null,null,null,null,null,null,null,null,null,null,null,null,"Item # Lookup:","LT0310R",null,null,null,null,null,null,null,null,null,null,null,null,null,null,null,null,null,null,null,null,null,"X"]
[]
[null,"Mortars/Ahesive",null,null,"1 Liter",null,"S-310AB-NC-08-1",null,null,null,"Mini Unit Kit",null,null,null,null,null,"Stock",null,{"$f":"IF(Suggested=\"Yes\",AA448,AG448)","v":141.5},"EA",{"$f":"+Instructions!$B$3","v":"I"},null,{"$f":"+Instructions!$C$22","v":0},{"$f":"ROUND($AA448*(1-W448)+0.004999,2)","v":141.5},null,"",141.5,{"$f":"+W448","v":0},{"$f":"+X448","v":141.5},{"$f":"(AG448-AC448)/AG448","v":0},null,1,{"$f":"SUM(AJ448:AL448)+AE448","v":141.5},null,null,{"$f":"ROUND(AC448/(1-VLOOKUP(AF448,Group,2,FALSE)),2)","v":141.5},{"$f":"IF(VLOOKUP(AF448,Group,5,FALSE)=\"YES\",VLOOKUP(ROUND(ROUND(AJ448,1)-AJ448,2),Round,2,FALSE)+VLOOKUP(AF448,Group,6,FALSE),0)","v":0},{"$f":"IF(VLOOKUP(AF448,Group,7,FALSE)=\"\",0,ROUND(AJ448-0.04999,1)-AJ448+AM448)","v":0},{"$f":"IF(VLOOKUP(AF448,Group,7,FALSE)=\"\",\"\",VLOOKUP(AF448,Group,7,FALSE))","v":""},null,"X"]
[null,"Mortars/Ahesive",null,null,"10 Liter",null,"S-310AB-NC-10-1",null,null,null,"Full Unit Kit",null,null,null,null,null,null,null,{"$f":"IF(Suggested=\"Yes\",AA449,AG449)","v":1171.2},"EA",{"$f":"+Instructions!$B$3","v":"I"},null,{"$f":"+Instructions!$C$22","v":0},{"$f":"ROUND($AA449*(1-W449)+0.004999,2)","v":1171.2},null,"",1171.2,{"$f":"+W449","v":0},{"$f":"+X449","v":1171.2},{"$f":"(AG449-AC449)/AG449","v":0},null,1,{"$f":"SUM(AJ449:AL449)+AE449","v":1171.2},null,null,{"$f":"ROUND(AC449/(1-VLOOKUP(AF449,Group,2,FALSE)),2)","v":1171.2},{"$f":"IF(VLOOKUP(AF449,Group,5,FALSE)=\"YES\",VLOOKUP(ROUND(ROUND(AJ449,1)-AJ449,2),Round,2,FALSE)+VLOOKUP(AF449,Group,6,FALSE),0)","v":0},{"$f":"IF(VLOOKUP(AF449,Group,7,FALSE)=\"\",0,ROUND(AJ449-0.04999,1)-AJ449+AM449)","v":0},{"$f":"IF(VLOOKUP(AF449,Group,7,FALSE)=\"\",\"\",VLOOKUP(AF449,Group,7,FALSE))","v":""},null,"X"]
[null,null,null,null,null,null,null,null,null,null,null,null,null,null,null,null,null,null,null,null,null,null,null,null,null,null,null,null,null,null,null,null,null,null,null,null,null,null,null,null,"X"]
[null,null,null,null,null,null,"Approximate Coverage per 1 Liter Unit",null,null,null,null,null,null,null,null,null,null,null,null,null,null,null,null,null,null,null,null,null,null,null,null,null,null,null,null,null,null,null,null,null,"X"]
[null,null,null,null,null,null,"AVERAGE INCHES OUT OF PLUMB",null,null,"LATAPOXY 310 STONE ADHESIVE THICKNESS",null,null,null,"AT 10% COVERAGE",null,null,null,null,null,null,null,null,null,null,null,null,null,null,null,null,null,null,null,null,null,null,null,null,null,null,"X"]
[null,null,null,null,null,null,null,null,null,null,null,null,null,null,null,null,null,null,null,null,null,null,null,null,null,null,null,null,null,null,null,null,null,null,null,null,null,null,null,null,"X"]
[null,null,null,null,null,null,"Plumb Wall",null,null,"1/8\" Thick",null,null,null,"30-32  sq ft",null,null,null,null,null,null,null,null,null,null,null,null,null,null,null,null,null,null,null,null,null,null,null,null,null,null,"X"]
[null,null,null,null,null,null,"1/4\"",null,null,"1/4\" Thick",null,null,null,"15-17 sq ft",null,null,null,null,null,null,null,null,null,null,null,null,null,null,null,null,null,null,null,null,null,null,null,null,null,null,"X"]
[null,null,null,null,null,null,"1/2\"",null,null,"1/2\" Thick",null,null,null,"7-1/2-8 sq ft",null,null,null,null,null,null,null,null,null,null,null,null,null,null,null,null,null,null,null,null,null,null,null,null,null,null,"X"]
[]
[null,null,null,"MULTIPURPOSE BONDING PRIMER",null,null,null,null,null,null,null,null,null,null,null,null,null,null,null,null,null,null,null,null,null,null,null,null,null,null,null,null,null,null,null,null,null,null,null,null,"X"]
[]
[null,null,null,"Prime-N-Bond",null,null,null,null,null,null,null,null,null,null,null,null,null,"Item # Lookup:","LT0095",null,null,null,null,null,null,null,null,null,null,null,null,null,null,null,null,null,null,null,null,null,"X"]
[]
[null,"Underlayment",null,null,"1 Gallon",null,"Pail",null,null,null,null,null,null,null,null,null,"Stock",null,{"$f":"IF(Suggested=\"Yes\",AA462,AG462)","v":106.6},"EA",{"$f":"+Instructions!$B$3","v":"I"},null,{"$f":"+Instructions!$C$22","v":0},{"$f":"ROUND($AA462*(1-W462)+0.004999,2)","v":106.6},null,"",106.6,{"$f":"+W462","v":0},{"$f":"+X462","v":106.6},{"$f":"(AG462-AC462)/AG462","v":0},null,6,{"$f":"SUM(AJ462:AL462)+AE462","v":106.6},null,null,{"$f":"ROUND(AC462/(1-VLOOKUP(AF462,Group,2,FALSE)),2)","v":106.6},{"$f":"IF(VLOOKUP(AF462,Group,5,FALSE)=\"YES\",VLOOKUP(ROUND(ROUND(AJ462,1)-AJ462,2),Round,2,FALSE)+VLOOKUP(AF462,Group,6,FALSE),0)","v":0},{"$f":"IF(VLOOKUP(AF462,Group,7,FALSE)=\"\",0,ROUND(AJ462-0.04999,1)-AJ462+AM462)","v":0},{"$f":"IF(VLOOKUP(AF462,Group,7,FALSE)=\"\",\"\",VLOOKUP(AF462,Group,7,FALSE))","v":""},null,"X"]
[null,"Underlayment",null,null,"3.5 Gallon",null,"Pail",null,null,null,null,null,null,null,null,null,null,null,{"$f":"IF(Suggested=\"Yes\",AA463,AG463)","v":339},"EA",{"$f":"+Instructions!$B$3","v":"I"},null,{"$f":"+Instructions!$C$22","v":0},{"$f":"ROUND($AA463*(1-W463)+0.004999,2)","v":339},null,"",339,{"$f":"+W463","v":0},{"$f":"+X463","v":339},{"$f":"(AG463-AC463)/AG463","v":0},null,6,{"$f":"SUM(AJ463:AL463)+AE463","v":339},null,null,{"$f":"ROUND(AC463/(1-VLOOKUP(AF463,Group,2,FALSE)),2)","v":339},{"$f":"IF(VLOOKUP(AF463,Group,5,FALSE)=\"YES\",VLOOKUP(ROUND(ROUND(AJ463,1)-AJ463,2),Round,2,FALSE)+VLOOKUP(AF463,Group,6,FALSE),0)","v":0},{"$f":"IF(VLOOKUP(AF463,Group,7,FALSE)=\"\",0,ROUND(AJ463-0.04999,1)-AJ463+AM463)","v":0},{"$f":"IF(VLOOKUP(AF463,Group,7,FALSE)=\"\",\"\",VLOOKUP(AF463,Group,7,FALSE))","v":""},null,"X"]
[null,null,null,null,null,null,null,null,null,null,null,null,null,null,null,null,null,null,null,null,null,null,null,null,null,null,null,null,null,null,null,null,null,null,null,null,null,null,null,null,"X"]
[null,null,null,"Notes:","Versatile, ready-to-use, single coat, low VOC primer designed to enhance the adhesion of mortars to many smooth and nonabsorptive substrates",null,null,null,null,null,null,null,null,null,null,null,null,null,null,null,null,null,null,null,null,null,null,null,null,null,null,null,null,null,null,null,null,null,null,null,"X"]
[null,null,null,null,"that can be difficult to bond to.  PRIME-N-BOND also improves bonding of self-leveling underlayments (SLUs) over cementitious substrates.",null,null,null,null,null,null,null,null,null,null,null,null,null,null,null,null,null,null,null,null,null,null,null,null,null,null,null,null,null,null,null,null,null,null,null,"X"]
[null,null,null,null,"Approximate Coverage, (varies depending on substrate):  1 Gallon Pail:  150 – 300 sq ft, 3.5 Gallon Pail:  525-1050 sq ft.",null,null,null,null,null,null,null,null,null,null,null,null,null,null,null,null,null,null,null,null,null,null,null,null,null,null,null,null,null,null,null,null,null,null,null,"X"]
[]
[null,null,null,"THIN-SET AND MORTAR ADDITIVES",null,null,null,null,null,null,null,null,null,null,null,null,null,null,null,null,null,null,null,null,null,null,null,null,null,null,null,null,null,null,null,null,null,null,null,null,"X"]
[]
[null,null,null,"333 Super Flexible Additive",null,null,null,null,null,null,null,null,null,null,null,null,null,"Item # Lookup:","LT0333",null,null,null,null,null,null,null,null,null,null,null,null,null,null,null,null,null,null,null,null,null,"X"]
[]
[null,"Additives"," ",null,"5 Gallon",null,"Pail",null,null,null,null,null,null,null,null,null,"Stock",null,{"$f":"IF(Suggested=\"Yes\",AA473,AG473)","v":263.55},"EA",{"$f":"+Instructions!$B$3","v":"I"},null,{"$f":"+Instructions!$C$22","v":0},{"$f":"ROUND($AA473*(1-W473)+0.004999,2)","v":263.55},null,"",263.55,{"$f":"+W473","v":0},{"$f":"+X473","v":263.55},{"$f":"(AG473-AC473)/AG473","v":0},null,4,{"$f":"SUM(AJ473:AL473)+AE473","v":263.55},null,null,{"$f":"ROUND(AC473/(1-VLOOKUP(AF473,Group,2,FALSE)),2)","v":263.55},{"$f":"IF(VLOOKUP(AF473,Group,5,FALSE)=\"YES\",VLOOKUP(ROUND(ROUND(AJ473,1)-AJ473,2),Round,2,FALSE)+VLOOKUP(AF473,Group,6,FALSE),0)","v":0},{"$f":"IF(VLOOKUP(AF473,Group,7,FALSE)=\"\",0,ROUND(AJ473-0.04999,1)-AJ473+AM473)","v":0},{"$f":"IF(VLOOKUP(AF473,Group,7,FALSE)=\"\",\"\",VLOOKUP(AF473,Group,7,FALSE))","v":""},null,"X"]
["x",null,null,null,null,null,null,null,null,null,null,null,null,null,null,null,null,null,null,null,null,null,null,null,null,null,null,null,null,null,null,null,null,null,null,null,null,null,null,null,"X"]
[null,null,null,"Notes:","Mixes with all Laticrete pre-bagged non-modified thin-set mortars for installation over concrete, brick, block, portland cement backer board, ",null,null,null,null,null,null,null,null,null,null,null,null,null,null,null,null,null,null,null,null,null,null,null,null,null,null,null,null,null,null,null,null,null,null,null,"X"]
[null,null,null,null,"existing ceramic tile, cement terrazzo, exterior glue plywood*, gypsum wallboard*, vinyl tile*, linoleum*, plastic laminates* & non-water soluble ",null,null,null,null,null,null,null,null,null,null,null,null,null,null,null,null,null,null,null,null,null,null,null,null,null,null,null,null,null,null,null,null,null,null,null,"X"]
[null,null,null,null,"cut back adhesives*.  (* interiors only)  Approximate coverage per gallon using a 1/4\" x 1/4\" notched trowel is 35-40 square feet.    ",null,null,null,null,null,null,null,null,null,null,null,null,null,null,null,null,null,null,null,null,null,null,null,null,null,null,null,null,null,null,null,null,null,null,null,"X"]
[null,null,null,null,null,null,null,null,null,null,null,null,null,null,null,null,null,null,null,null,null,null,null,null,null,null,null,null,null,null,null,null,null,null,null,null,null,null,null,null,"X"]
["x",null,null,"3701 Mortar Admix",null,null,null,null,null,null,null,null,null,null,null,null,null,"Item # Lookup:","LT37015GAL",null,null,null,null,null,null,null,null,null,null,null,null,null,null,null,null,null,null,null,null,null,"X"]
[]
[null,"Additives",null,null,"5 Gallon",null,"Pail",null,null,null,null,null,null,null,null,null,"Stock",null,{"$f":"IF(Suggested=\"Yes\",AA481,AG481)","v":368.85},"EA",{"$f":"+Instructions!$B$3","v":"I"},null,{"$f":"+Instructions!$C$22","v":0},{"$f":"ROUND($AA481*(1-W481)+0.004999,2)","v":368.85},null,"",368.85,{"$f":"+W481","v":0},{"$f":"+X481","v":368.85},{"$f":"(AG481-AC481)/AG481","v":0},null,4,{"$f":"SUM(AJ481:AL481)+AE481","v":368.85},null,null,{"$f":"ROUND(AC481/(1-VLOOKUP(AF481,Group,2,FALSE)),2)","v":368.85},{"$f":"IF(VLOOKUP(AF481,Group,5,FALSE)=\"YES\",VLOOKUP(ROUND(ROUND(AJ481,1)-AJ481,2),Round,2,FALSE)+VLOOKUP(AF481,Group,6,FALSE),0)","v":0},{"$f":"IF(VLOOKUP(AF481,Group,7,FALSE)=\"\",0,ROUND(AJ481-0.04999,1)-AJ481+AM481)","v":0},{"$f":"IF(VLOOKUP(AF481,Group,7,FALSE)=\"\",\"\",VLOOKUP(AF481,Group,7,FALSE))","v":""},null,"X"]
["x",null,null,null,null,null,null,null,null,null,null,null,null,null,null,null,null,null,null,null,null,null,null,null,null,null,null,null,null,null,null,null,null,null,null,null,null,null,null,null,"X"]
[null,null,null,"Notes:","Laticrete 3701 Mortar Admix is a specially designed latex admixture for use with thin-set mortars, cement grouts, cement mortar beds & ",null,null,null,null,null,null,null,null,null,null,null,null,null,null,null,null,null,null,null,null,null,null,null,null,null,null,null,null,null,null,null,null,null,null,null,"X"]
[null,null,null,null,"other cement mixes.  When used in place of water, it improves the working & physical properties of any cement mix & provides an econom-",null,null,null,null,null,null,null,null,null,null,null,null,null,null,null,null,null,null,null,null,null,null,null,null,null,null,null,null,null,null,null,null,null,null,null,"X"]
[null,null,null,null,"ical & easy way to make a permanent, trouble-free installation of ceramic tile, brick & natural stone.  For mortar beds & screeds, mix with ",null,null,null,null,null,null,null,null,null,null,null,null,null,null,null,null,null,null,null,null,null,null,null,null,null,null,null,null,null,null,null,null,null,null,null,"X"]
[null,null,null,null,"Laticrete 226 Thick Bed Mortar Mix.          ",null,null,null,null,null,null,null,null,null,null,null,null,null,null,null,null,null,null,null,null,null,null,null,null,null,null,null,null,null,null,null,null,null,null,null,"X"]
[]
[null,null,"GROUTS",null,null,null,null,null,null,null,null,null,null,null,null,null,null,null,null,null,null,null,null,null,null,null,null,null,null,null,null,null,null,null,null,null,null,null,null,null,"X"]
[]
[null,null,null,"1500 Sanded Grout",null,null,null,null,null,null,null,null,null,null,null,null,null,"Item # Lookup:","LT15",null,null,null,null,null,null,null,null,null,null,null,null,null,null,null,null,null,null,null,null,null,"X"]
[]
[null,null,null,"Colors:","17 Marble Beige",null,null,"40 Latte",null,null,"            88 Silver Shadow",null,null,null,null,null,null,null,null,null,null,null,null,null,null,null,null,null,null,null,null,null,null,null,null,null,null,null,null,null,"X"]
[null,null,null,null,"23 Antique White",null,null,"44 Bright White",null,null,"            89 Smoke Grey",null,null,null,null,null,null,null,null,null,null,null,null,null,null,null,null,null,null,null,null,null,null,null,null,null,null,null,null,null,"X"]
[null,null,null,null,"39 Mushroom",null,null,"78 Sterling Silver",null,null,"            90 Light Pewter",null,null,null,null,null,null,null,null,null,null,null,null,null,null,null,null,null,null,null,null,null,null,null,null,null,null,null,null,null,"X"]
[]
[null,"Regular Grouts",null,null,"25 LB",null,"Bag",null,null,null,null,null,null,null,null,null,null,null,{"$f":"IF(Suggested=\"Yes\",AA496,AG496)","v":57.75},"EA",{"$f":"+Instructions!$B$3","v":"I"},null,{"$f":"+Instructions!$C$22","v":0},{"$f":"ROUND($AA496*(1-W496)+0.004999,2)","v":57.75},null,"",57.75,{"$f":"+W496","v":0},{"$f":"+X496","v":57.75},{"$f":"(AG496-AC496)/AG496","v":0},null,2,{"$f":"SUM(AJ496:AL496)+AE496","v":57.75},null,null,{"$f":"ROUND(AC496/(1-VLOOKUP(AF496,Group,2,FALSE)),2)","v":57.75},{"$f":"IF(VLOOKUP(AF496,Group,5,FALSE)=\"YES\",VLOOKUP(ROUND(ROUND(AJ496,1)-AJ496,2),Round,2,FALSE)+VLOOKUP(AF496,Group,6,FALSE),0)","v":0},{"$f":"IF(VLOOKUP(AF496,Group,7,FALSE)=\"\",0,ROUND(AJ496-0.04999,1)-AJ496+AM496)","v":0},{"$f":"IF(VLOOKUP(AF496,Group,7,FALSE)=\"\",\"\",VLOOKUP(AF496,Group,7,FALSE))","v":""},null,"X"]
[]
[null,"Regular Grouts",null,null,"25 LB",null,"Bag",null,"24 Natural Grey",null,null,null,null,null,null,null,null,null,{"$f":"IF(Suggested=\"Yes\",AA498,AG498)","v":40.25},"EA",{"$f":"+Instructions!$B$3","v":"I"},null,{"$f":"+Instructions!$C$22","v":0},{"$f":"ROUND($AA498*(1-W498)+0.004999,2)","v":40.25},null,"",40.25,{"$f":"+W498","v":0},{"$f":"+X498","v":40.25},{"$f":"(AG498-AC498)/AG498","v":0},null,2,{"$f":"SUM(AJ498:AL498)+AE498","v":40.25},null,null,{"$f":"ROUND(AC498/(1-VLOOKUP(AF498,Group,2,FALSE)),2)","v":40.25},{"$f":"IF(VLOOKUP(AF498,Group,5,FALSE)=\"YES\",VLOOKUP(ROUND(ROUND(AJ498,1)-AJ498,2),Round,2,FALSE)+VLOOKUP(AF498,Group,6,FALSE),0)","v":0},{"$f":"IF(VLOOKUP(AF498,Group,7,FALSE)=\"\",0,ROUND(AJ498-0.04999,1)-AJ498+AM498)","v":0},{"$f":"IF(VLOOKUP(AF498,Group,7,FALSE)=\"\",\"\",VLOOKUP(AF498,Group,7,FALSE))","v":""},null,"X"]
["x",null,null,null,null,null,null,null,null,null,null,null,null,null,null,null,null,null,null,null,null,null,null,null,null,null,null,null,null,null,null,null,null,null,null,null,null,null,null,null,"X"]
[null,null,null,"Note:","For dense, durable grout joints from 1/16\" to 1/2\".",null,null,null,null,null,null,null,null,null,null,null,null,null,null,null,null,null,null,null,null,null,null,null,null,null,null,null,null,null,null,null,null,null,null,null,"X"]
["x",null,null,null,null,null,null,null,null,null,null,null,null,null,null,null,null,null,null,null,null,null,null,null,null,null,null,null,null,null,null,null,null,null,null,null,null,null,null,null,"X"]
[null,null,null,null,null,null,"Approximate Square Foot Coverage per 25 lb Bag",null,null,null,null,null,null,null,null,null,null,null,null,null,null,null,null,null,null,null,null,null,null,null,null,null,null,null,null,null,null,null,null,null,"X"]
[null,null,null,null,null,null,"TILE SIZE",null,null,null,"JOINT WIDTH",null,null,null,null,null,null,null,null,null,null,null,null,null,null,null,null,null,null,null,null,null,null,null,null,null,null,null,null,null,"X"]
[null,null,null,null,null,null,null,null,null,null,"1/16\"","1/8\"","1/4\"","3/8\"","1/2\"",null," ",null,null,null,null,null,null,null,null,null,null,null,null,null,null,null,null,null,null,null,null,null,null,null,"X"]
[null,null,null,null,null,null,"1 x 1 x 1/4\"",null,null,null,100,51,28,20,16,null,null,null,null,null,null,null,null,null,null,null,null,null,null,null,null,null,null,null,null,null,null,null,null,null,"X"]
[null,null,null,null,null,null,"2 x 2 x 1/4\"",null,null,null,196,100,51,36,28,null,null,null,null,null,null,null,null,null,null,null,null,null,null,null,null,null,null,null,null,null,null,null,null,null,"X"]
[null,null,null,null,null,null,"4-1/4 x 4-1/4 x 5/16\"",null,null,null,331,167,85,57,44,null,null,null,null,null,null,null,null,null,null,null,null,null,null,null,null,null,null,null,null,null,null,null,null,null,"X"]
[null,null,null,null,null,null,"6 x 6 x 1/2\"",null,null,null,291,146,74,50,38,null,null,null,null,null,null,null,null,null,null,null,null,null,null,null,null,null,null,null,null,null,null,null,null,null,"X"]
[null,null,null,null,null,null,"12 x 12 x 3/8\"",null,null,null,774,388,195,131,99,null,null,null,null,null,null,null,null,null,null,null,null,null,null,null,null,null,null,null,null,null,null,null,null,null,"X"]
[null,null,null," ",null,null,"13 x 13 x 3/8\"",null,null,null,839,420,211,141,107,null,null,null,null,null,null,null,null,null,null,null,null,null,null,null,null,null,null,null,null,null,null,null,null,null,"X"]
[null,null," ",null,null,null,"16 x 16 x 3/8\"",null,null,null,1032,517,259,174,131,null,null,null,null,null,null,null,null,null,null,null,null,null,null,null,null,null,null,null,null,null,null,null,null,null,"X"]
[null,null,null,null,null,null,"18 x 18 x 3/8\"",null,null,null,1160,581,292,195,147,null,null,null,null,null,null,null,null,null,null,null,null,null,null,null,null,null,null,null,null,null,null,null,null,null,"X"]
["x",null,null,null,null,null,null,null,null,null,null,null,null,null,null,null,null,null,null,null,null,null,null,null,null,null,null,null,null,null,null,null,null,null,null,null,null,null,null,null,"X"]
["x",null,null,"1600 Unsanded Grout  ",null,null,null,null,null,null,null,null,null,null,null,null,null,"Item # Lookup:","LT16",null,null,null,null,null,null,null,null,null,null,null,null,null,null,null,null,null,null,null,null,null,"X"]
[]
[null,null,null,"Colors:","17 Marble Beige",null,null,"39 Mushroom",null,null,"         88 Silver Shadow",null,null,null,null,null,null,null,null,null,null,null,null,null,null,null,null,null,null,null,null,null,null,null,null,null,null,null,null,null,"X"]
[null,null,null,null,"23 Antique White",null,null,"40 Latte",null,null,"         89 Smoke Grey",null,null,null,null,null,null,null,null,null,null,null,null,null,null,null,null,null,null,null,null,null,null,null,null,null,null,null,null,null,"X"]
[null,null,null,null,"24 Natural Grey",null,null,"78 Sterling Silver",null,null,"         90 Light Pewter",null,null,null,null,null,null,null,null,null,null,null,null,null,null,null,null,null,null,null,null,null,null,null,null,null,null,null,null,null,"X"]
[]
[null,"Regular Grouts",null,null,"8 LB",null,"Box",null,null,null,null,null,null,null,null,"4 EA/CTN",null,null,{"$f":"IF(Suggested=\"Yes\",AA520,AG520)","v":43.4},"EA",{"$f":"+Instructions!$B$3","v":"I"},null,{"$f":"+Instructions!$C$22","v":0},{"$f":"ROUND($AA520*(1-W520)+0.004999,2)","v":43.4},null,"",43.4,{"$f":"+W520","v":0},{"$f":"+X520","v":43.4},{"$f":"(AG520-AC520)/AG520","v":0},null,2,{"$f":"SUM(AJ520:AL520)+AE520","v":43.4},null,null,{"$f":"ROUND(AC520/(1-VLOOKUP(AF520,Group,2,FALSE)),2)","v":43.4},{"$f":"IF(VLOOKUP(AF520,Group,5,FALSE)=\"YES\",VLOOKUP(ROUND(ROUND(AJ520,1)-AJ520,2),Round,2,FALSE)+VLOOKUP(AF520,Group,6,FALSE),0)","v":0},{"$f":"IF(VLOOKUP(AF520,Group,7,FALSE)=\"\",0,ROUND(AJ520-0.04999,1)-AJ520+AM520)","v":0},{"$f":"IF(VLOOKUP(AF520,Group,7,FALSE)=\"\",\"\",VLOOKUP(AF520,Group,7,FALSE))","v":""},null,"X"]
[]
[null,"Regular Grouts",null,null,"8 LB",null,"Box",null,"44 Bright White",null,null,null,null,null,null,null,"Stock",null,{"$f":"IF(Suggested=\"Yes\",AA522,AG522)","v":29.25},"EA",{"$f":"+Instructions!$B$3","v":"I"},null,{"$f":"+Instructions!$C$22","v":0},{"$f":"ROUND($AA522*(1-W522)+0.004999,2)","v":29.25},null,"",29.25,{"$f":"+W522","v":0},{"$f":"+X522","v":29.25},{"$f":"(AG522-AC522)/AG522","v":0},null,2,{"$f":"SUM(AJ522:AL522)+AE522","v":29.25},null,null,{"$f":"ROUND(AC522/(1-VLOOKUP(AF522,Group,2,FALSE)),2)","v":29.25},{"$f":"IF(VLOOKUP(AF522,Group,5,FALSE)=\"YES\",VLOOKUP(ROUND(ROUND(AJ522,1)-AJ522,2),Round,2,FALSE)+VLOOKUP(AF522,Group,6,FALSE),0)","v":0},{"$f":"IF(VLOOKUP(AF522,Group,7,FALSE)=\"\",0,ROUND(AJ522-0.04999,1)-AJ522+AM522)","v":0},{"$f":"IF(VLOOKUP(AF522,Group,7,FALSE)=\"\",\"\",VLOOKUP(AF522,Group,7,FALSE))","v":""},null,"X"]
[null,"Regular Grouts",null,null,"25 LB",null,"Bag",null,"44 Bright White",null,null,null,null,null,null,null,"Stock",null,{"$f":"IF(Suggested=\"Yes\",AA523,AG523)","v":49.25},"EA",{"$f":"+Instructions!$B$3","v":"I"},null,{"$f":"+Instructions!$C$22","v":0},{"$f":"ROUND($AA523*(1-W523)+0.004999,2)","v":49.25},null,"",49.25,{"$f":"+W523","v":0},{"$f":"+X523","v":49.25},{"$f":"(AG523-AC523)/AG523","v":0},null,2,{"$f":"SUM(AJ523:AL523)+AE523","v":49.25},null,null,{"$f":"ROUND(AC523/(1-VLOOKUP(AF523,Group,2,FALSE)),2)","v":49.25},{"$f":"IF(VLOOKUP(AF523,Group,5,FALSE)=\"YES\",VLOOKUP(ROUND(ROUND(AJ523,1)-AJ523,2),Round,2,FALSE)+VLOOKUP(AF523,Group,6,FALSE),0)","v":0},{"$f":"IF(VLOOKUP(AF523,Group,7,FALSE)=\"\",0,ROUND(AJ523-0.04999,1)-AJ523+AM523)","v":0},{"$f":"IF(VLOOKUP(AF523,Group,7,FALSE)=\"\",\"\",VLOOKUP(AF523,Group,7,FALSE))","v":""},null,"X"]
["x",null,null,null,null,null,null,null,null,null,null,null,null,null,null,null,null,null,null,null,null,null,null,null,null,null,null,null,null,null,null,null,null,null,null,null,null,null,null,null,"X"]
[null,null,null,"Note:","For dense, durable grout joints less than 1/8\".",null,null,null,null,null,null,null,null,null,null,null,null,null,null,null,null,null,null,null,null,null,null,null,null,null,null,null,null,null,null,null,null,null,null,null,"X"]
[null,null,null,null,null,null,null,null,null,null,null,null,null,null,null,null,null,null,null,null,null,null,null,null,null,null,null,null,null,null,null,null,null,null,null,null,null,null,null,null,"X"]
[null,null,"continued on next page",null,null,null,null,null,null,null,null,null,null,null,null,null,null,null,null,null,null,null,null,null,null,null,null,null,null,null,null,null,null,null,null,null,null,null,null,null,"X"]
["x",null,null,"1600 Unsanded Grout - continued  ",null,null,null,null,null,null,null,null,null,null,null,null,null,"Item # Lookup:","LT16",null,null,null,null,null,null,null,null,null,null,null,null,null,null,null,null,null,null,null,null,null,"X"]
[null,null,null,null,null,null,null,null,null,null,null,null,null,null,null,null,null,null,null,null,null,null,null,null,null,null,null,null,null,null,null,null,null,null,null,null,null,null,null,null,"X"]
[null,null,null," ",null,null,null,null,null,"Approx. Square Foot Coverage per 8 lb Box",null,null,null,null,null,null,null,null,null,null,null,null,null,null,null,null,null,null,null,null,null,null,null,null,null,null,null,null,null,null,"X"]
[null,null," ",null,null,null,null,null,null,"TILE SIZE",null,null,"JOINT WIDTH",null,null,null,null,null,null,null,null,null,null,null,null,null,null,null,null,null,null,null,null,null,null,null,null,null,null,null,"X"]
[null,null,null," ",null,null,null,null,null,null,null,null,"1/16\"","1/8\"",null,null,null,null,null,null,null,null,null,null,null,null,null,null,null,null,null,null,null,null,null,null,null,null,null,null,"X"]
[null,null,null,null,null,null,null,null,null,"4-1/4 x 4-1/4 x 5/16\"",null,null,144,72,null,null,null,null,null,null,null,null,null,null,null,null,null,null,null,null,null,null,null,null,null,null,null,null,null,null,"X"]
[null,null,null,null,null,null,null,null,null,"6 x 6 x 5/16\"",null,null,202,102,null,null,null,null,null,null,null,null,null,null,null,null,null,null,null,null,null,null,null,null,null,null,null,null,null,null,"X"]
[null,null,null,null,null,null,null,null,null,null,null,null,null,null,null,null,null,null,null,null,null,null,null,null,null,null,null,null,null,null,null,null,null,null,null,null,null,null,null,null,"X"]
[null,null,null,"2300 Ready-To-Use Grout",null,null,null,null,null,null,null,null,null,null,null,null,null,"Item # Lookup:","LT23"]
[]
[null,null,null,"Colors:","03 Silk",null,null,"35 Mocha",null,null,null,"57 Hot Cocoa",null,null," 87 Stormy Grey",null,null,null,null,null,null,null,null,null,null,null,null,null,null,null,null,null,null,null,null,null,null,null,null,null,"X"]
[null,null,null,null,"09 Frosty",null,null,"39 Mushroom",null,null,null,"58 Terra Cotta",null,null," 88 Silver Shadow",null,null,null,null,null,null,null,null,null,null,null,null,null,null,null,null,null,null,null,null,null,null,null,null,null,"X"]
[null,null,null,null,"17 Marble Beige",null,null,"40 Latte",null,null,null,"59 Espresso",null,null," 89 Smoke Grey",null,null,null,null,null,null,null,null,null,null,null,null,null,null,null,null,null,null,null,null,null,null,null,null,null,"X"]
[null,null,null,null,"18 Sauterne",null,null,"42 Platinum",null,null,null,"60 Dusty Grey",null,null," 90 Light Pewter",null,null,null,null,null,null,null,null,null,null,null,null,null,null,null,null,null,null,null,null,null,null,null,null,null,"X"]
[null,null,null,null,"22 Midnight Black",null,null,"44 Bright White",null,null,null,"61 Parchment",null,null," 91 Slate Grey",null,null,null,null,null,null,null,null,null,null,null,null,null,null,null,null,null,null,null,null,null,null,null,null,null,"X"]
[null,null,null,null,"23 Antique White",null,null,"45 Raven",null,null,null,"66 Chestnut Brown",null,null," 93 Fossil",null,null,null,null,null,null,null,null,null,null,null,null,null,null,null,null,null,null,null,null,null,null,null,null,null,"X"]
[null,null,null,null,"24 Natural Grey",null,null,"46 Quarry Red",null,null,null,"67 Autumn Green",null,null," 94 Walnut",null,null,null,null,null,null,null,null,null,null,null,null,null,null,null,null,null,null,null,null,null,null,null,null,null,"X"]
[null,null,null,null,"27 Hemp",null,null,"52 Toasted Almond",null,null,null,"78 Sterling Silver",null,null," 95 Mink",null,null,null,null,null,null,null,null,null,null,null,null,null,null,null,null,null,null,null,null,null,null,null,null,null,"X"]
[null,null,null,null,"30 Sand Beige",null,null,"53 Twilight Blue",null,null,null,"81 Butter Cream",null,null," 96 Steamship",null,null,null,null,null,null,null,null,null,null,null,null,null,null,null,null,null,null,null,null,null,null,null,null,null,"X"]
[null,null,null,null,"34 Sandstone",null,null,"56 Desert Khaki",null,null,null,"85 Almond",null,null," 97 Iron",null,null,null,null,null,null,null,null,null,null,null,null,null,null,null,null,null,null,null,null,null,null,null,null,null,"X"]
[]
[null,"Epoxy Grouts",null,null,"14.8 LB",null,"Pail",null,null,null,null,null,null,null,null,null,null,null,{"$f":"IF(Suggested=\"Yes\",AA549,AG549)","v":143.9},"EA",{"$f":"+Instructions!$B$3","v":"I"},null,{"$f":"+Instructions!$C$22","v":0},{"$f":"ROUND($AA549*(1-W549)+0.004999,2)","v":143.9},null,"",143.9,{"$f":"+W549","v":0},{"$f":"+X549","v":143.9},{"$f":"(AG549-AC549)/AG549","v":0},null,3,{"$f":"SUM(AJ549:AL549)+AE549","v":143.9},null,null,{"$f":"ROUND(AC549/(1-VLOOKUP(AF549,Group,2,FALSE)),2)","v":143.9},{"$f":"IF(VLOOKUP(AF549,Group,5,FALSE)=\"YES\",VLOOKUP(ROUND(ROUND(AJ549,1)-AJ549,2),Round,2,FALSE)+VLOOKUP(AF549,Group,6,FALSE),0)","v":0},{"$f":"IF(VLOOKUP(AF549,Group,7,FALSE)=\"\",0,ROUND(AJ549-0.04999,1)-AJ549+AM549)","v":0},{"$f":"IF(VLOOKUP(AF549,Group,7,FALSE)=\"\",\"\",VLOOKUP(AF549,Group,7,FALSE))","v":""},null,"X"]
[]
[null,null,null,"Color:","00 Translucent",null,null,null,null,null,null,null,null,null,null,null,null,null,null,null,null,null,null,null,null,null,null,null,null,null,null,null,null,null,null,null,null,null,null,null,"X"]
[]
[null,"Epoxy Grouts",null,null,"14.8 LB",null,"Pail",null,null,null,null,null,null,null,null,null,null,null,{"$f":"IF(Suggested=\"Yes\",AA553,AG553)","v":176.45},"EA",{"$f":"+Instructions!$B$3","v":"I"},null,{"$f":"+Instructions!$C$22","v":0},{"$f":"ROUND($AA553*(1-W553)+0.004999,2)","v":176.45},null,"",176.45,{"$f":"+W553","v":0},{"$f":"+X553","v":176.45},{"$f":"(AG553-AC553)/AG553","v":0},null,3,{"$f":"SUM(AJ553:AL553)+AE553","v":176.45},null,null,{"$f":"ROUND(AC553/(1-VLOOKUP(AF553,Group,2,FALSE)),2)","v":176.45},{"$f":"IF(VLOOKUP(AF553,Group,5,FALSE)=\"YES\",VLOOKUP(ROUND(ROUND(AJ553,1)-AJ553,2),Round,2,FALSE)+VLOOKUP(AF553,Group,6,FALSE),0)","v":0},{"$f":"IF(VLOOKUP(AF553,Group,7,FALSE)=\"\",0,ROUND(AJ553-0.04999,1)-AJ553+AM553)","v":0},{"$f":"IF(VLOOKUP(AF553,Group,7,FALSE)=\"\",\"\",VLOOKUP(AF553,Group,7,FALSE))","v":""},null,"X"]
[]
[null,null,null,null,null,null,"Approximate Square Foot Coverage per 14.8 LB Pail"]
[null,null,null,null,null,null,"TILE SIZE",null,null,null,"JOINT WIDTH"]
[null,null,null,null,null,null,null,null,null,null,"1/16\"","1/8\"","3/16\"","1/4\"","3/8\"","1/2\""]
[null,null,null,null,null,null,"1 x 1 x 1/4\"",null,null,null,56,31,22,18,14,12]
[null,null,null,null,null,null,"2 x 2 x 1/4\"",null,null,null,108,56,39,31,22,18]
[null,null,null,null,null,null,"6 x 6 x 1/4\"",null,null,null,316,160,108,82,52,44]
[null,null,null,null,null,null,"8 x 8 x 3/8\"",null,null,null,279,140,95,72,49,38]
[null,null,null,null,null,null,"12 x 12 x 3/8\"",null,null,null,415,210,140,106,72,55]
[null,null," ",null,null,null,"18 x 18 x 3/8\"",null,null,null,623,312,210,158,106,81]
[null,null,null,null,null,null,"6 x 24 x 3/8\"",null,null,null,332,168,114,86,59,45]
[null,null,null,null,null,null,"12 x 24 x 3/8\"",null,null,null,552,278,186,140,95,72]
[]
[null,null,null,"Notes:","An advanced professional-grade, ready-to-use premixed grout that delivers superior color consistency combined with excellent stain resistance."]
[null,null,null,null,null,null,null,null,null,null,null,null,null,null,null,null,null,null,null,null,null,null,null,null,null,null,null,null,null,null,null,null,null,null,null,null,null,null,null,null,"X"]
[null,null,null,"2500 PermaColor Grout",null,null,null,null,null,null,null,null,null,null,null,null,null,"Item # Lookup:","LT25",null,null,null,null,null,null,null,null,null,null,null,null,null,null,null,null,null,null,null,null,null,"X"]
["x",null,null,null,null,null,null,null,null,null,null,null,null,null,null,null,null,null,null,null,null,null,null,null,null,null,null,null,null,null,null,null,null,null,null,null,null,null,null,null,"X"]
[null,null,null,"Colors:","03 Silk",null,null,"35 Mocha",null,null,null,"57 Hot Cocoa",null,null," 87 Stormy Grey"]
[null,null,null,null,"09 Frosty",null,null,"39 Mushroom",null,null,null,"58 Terra Cotta",null,null," 88 Silver Shadow"]
[null,null,null,null,"17 Marble Beige",null,null,"40 Latte",null,null,null,"59 Espresso",null,null," 89 Smoke Grey"]
[null,null,null,null,"18 Sauterne",null,null,"42 Platinum",null,null,null,"60 Dusty Grey",null,null," 90 Light Pewter",null,null," "]
[null,null,null,null,"22 Midnight Black",null,null,"44 Bright White",null,null,null,"61 Parchment",null,null," 91 Slate Grey"]
[null,null,null,null,"23 Antique White",null,null,"45 Raven",null,null,null,"66 Chestnut Brown",null,null," 93 Fossil"]
[null,null,null,null,"24 Natural Grey",null,null,"46 Quarry Red",null,null,null,"67 Autumn Green",null,null," 94 Walnut"]
[null,null,null,null,"27 Hemp",null,null,"52 Toasted Almond",null,null,null,"78 Sterling Silver",null,null," 95 Mink"]
[null,null,null,null,"30 Sand Beige",null,null,"53 Twilight Blue",null,null,null,"81 Butter Cream",null,null," 96 Steamship"]
[null,null,null,null,"34 Sandstone",null,null,"56 Desert Khaki",null,null,null,"85 Almond",null,null," 97 Iron"]
["x",null,null,null,null,null,null,null,null,null,null,null,null,null,null,null,null,null,null,null,null,null,null,null,null,null,null,null,null,null,null,null,null,null,null,null,null,null,null,null,"X"]
[null,"Regular Grouts",null,null,"25 LB",null,"Bag",null,null,null,null,null,null,null,null,null,"Stock",null,{"$f":"IF(Suggested=\"Yes\",AA582,AG582)","v":74.349999999999994},"EA",{"$f":"+Instructions!$B$3","v":"I"},null,{"$f":"+Instructions!$C$22","v":0},{"$f":"ROUND($AA582*(1-W582)+0.004999,2)","v":74.349999999999994},null,"",74.349999999999994,{"$f":"+W582","v":0},{"$f":"+X582","v":74.349999999999994},{"$f":"(AG582-AC582)/AG582","v":0},null,2,{"$f":"SUM(AJ582:AL582)+AE582","v":74.349999999999994},null,null,{"$f":"ROUND(AC582/(1-VLOOKUP(AF582,Group,2,FALSE)),2)","v":74.349999999999994},{"$f":"IF(VLOOKUP(AF582,Group,5,FALSE)=\"YES\",VLOOKUP(ROUND(ROUND(AJ582,1)-AJ582,2),Round,2,FALSE)+VLOOKUP(AF582,Group,6,FALSE),0)","v":0},{"$f":"IF(VLOOKUP(AF582,Group,7,FALSE)=\"\",0,ROUND(AJ582-0.04999,1)-AJ582+AM582)","v":0},{"$f":"IF(VLOOKUP(AF582,Group,7,FALSE)=\"\",\"\",VLOOKUP(AF582,Group,7,FALSE))","v":""},null,"X"]
[null,null,null,null,null,null,null,null,null,null,null,null,null,null,null,null,null,null,null,null,null,null,null,null,null,null,null,null,null,null,null,null,null,null,null,null,null,null,null,null,"X"]
[null,null,null,null,null,null,"Approximate Square Foot Coverage per 25 lb Bag",null,null,null,null,null,null,null,null,null,null,null,null,null,null,null,null,null,null,null,null,null,null,null,null,null,null,null,null,null,null,null,null,null,"X"]
[null,null,null,null,null,null,"TILE SIZE",null,null,null,"JOINT WIDTH",null,null,null,null,null,null,null,null,null,null,null,null,null,null,null,null,null,null,null,null,null,null,null,null,null,null,null,null,null,"X"]
[null,null,null,null,null,null,null,null,null,null,"1/16\"","1/8\"","1/4\"","3/8\"","1/2\"",null," ",null,null,null,null,null,null,null,null,null,null,null,null,null,null,null,null,null,null,null,null,null,null,null,"X"]
[null,null,null,null,null,null,"1 x 1 x 1/4\"",null,null,null,103,53,29,21,17,null,null,null,null,null,null,null,null,null,null,null,null,null,null,null,null,null,null,null,null,null,null,null,null,null,"X"]
[null,null,null,null,null,null,"2 x 2 x 1/4\"",null,null,null,204,103,53,37,29,null,null,null,null,null,null,null,null,null,null,null,null,null,null,null,null,null,null,null,null,null,null,null,null,null,"X"]
[null,null,null,null,null,null,"3 x 6 x 5/16\"",null,null,null,323,163,82,56,42,null,null,null,null,null,null,null,null,null,null,null,null,null,null,null,null,null,null,null,null,null,null,null,null,null,"X"]
[null,null,null,null,null,null,"4-1/2 x 4-1/2 x 5/16\"",null,null,null,363,173,93,59,48,null,null,null,null,null,null,null,null,null,null,null,null,null,null,null,null,null,null,null,null,null,null,null,null,null,"X"]
[null,null,null,null,null,null,"6 x 24 x 3/8\"",null,null,null,643,322,162,108,82,null,null,null,null,null,null,null,null,null,null,null,null,null,null,null,null,null,null,null,null,null,null,null,null,null,"X"]
[null,null,null," ",null,null,"12 x 24 x 3/8\"",null,null,null,1070,536,269,180,135,null,null,null,null,null,null,null,null,null,null,null,null,null,null,null,null,null,null,null,null,null,null,null,null,null,"X"]
[null,null,null,null,null,null,"24 x 24 x 3/8\"",null,null,null,1605,804,403,269,202,null,null,null,null,null,null,null,null,null,null,null,null,null,null,null,null,null,null,null,null,null,null,null,null,null,"X"]
[null,null,null,null,null,null,"12 x 36 x 3/8\"",null,null,null,1204,603,302,202,152,null,null,null,null,null,null,null,null,null,null,null,null,null,null,null,null,null,null,null,null,null,null,null,null,null,"X"]
[]
[null,null,null,"Notes:","The maximum performance available in a cement-based grout.  Provides consistent color, Microban to resist stain-causing mold & mildew.  ",null,null,null,null,null,null,null,null,null,null,null,null,null,null,null,null,null,null,null,null,null,null,null,null,null,null,null,null,null,null,null,null,null,null,null,"X"]
[null,null,null,null,"Contains Kevlar for strength & durability.  Laticrete PermaColor Grout is easy to install, just mix with water, no additive required.  Ideal for ",null,null,null,null,null,null,null,null,null,null,null,null,null,null,null,null,null,null,null,null,null,null,null,null,null,null,null,null,null,null,null,null,null,null,null,"X"]
[null,null,null,null,"both floors & walls-joints 1/16\" to 1/2\".  For both interior & exterior applications.  ",null,null,null,null,null,null,null,null,null,null,null,null,null,null,null,null,null,null,null,null,null,null,null,null,null,null,null,null,null,null,null,null,null,null,null,"X"]
[null,null,null,null,null,null,null,null,null,null,null,null,null,null,null,null,null,null,null,null,null,null,null,null,null,null,null,null,null,null,null,null,null,null,null,null,null,null,null,null,"X"]
[null,null,null,"2600 PermaColor Select Base Grout",null,null,null,null,null,null,null,null,null,null,null,null,null,"Item # Lookup:","LT26",null,null,null,null,null,null,null,null,null,null,null,null,null,null,null,null,null,null,null,null,null,"X"]
["x",null,null,null,null,null,null,null,null,null,null,null,null,null,null,null,null,null,null,null,null,null,null,null,null,null,null,null,null,null,null,null,null,null,null,null,null,null,null,null,"X"]
[null,"Regular Grouts",null,null,"8 LB",null,"Box",null,"NS Base Grout - Unsanded/Smooth Formula",null,null,null,null,null,null,null,"Stock",null,{"$f":"IF(Suggested=\"Yes\",AA602,AG602)","v":42.7},"EA",{"$f":"+Instructions!$B$3","v":"I"},null,{"$f":"+Instructions!$C$22","v":0},{"$f":"ROUND($AA602*(1-W602)+0.004999,2)","v":42.7},null,"",42.7,{"$f":"+W602","v":0},42.7,{"$f":"(AG602-AC602)/AG602","v":0},null,2,{"$f":"SUM(AJ602:AL602)+AE602","v":42.7},null,null,{"$f":"ROUND(AC602/(1-VLOOKUP(AF602,Group,2,FALSE)),2)","v":42.7},{"$f":"IF(VLOOKUP(AF602,Group,5,FALSE)=\"YES\",VLOOKUP(ROUND(ROUND(AJ602,1)-AJ602,2),Round,2,FALSE)+VLOOKUP(AF602,Group,6,FALSE),0)","v":0},{"$f":"IF(VLOOKUP(AF602,Group,7,FALSE)=\"\",0,ROUND(AJ602-0.04999,1)-AJ602+AM602)","v":0},{"$f":"IF(VLOOKUP(AF602,Group,7,FALSE)=\"\",\"\",VLOOKUP(AF602,Group,7,FALSE))","v":""},null,"X"]
[null,"Regular Grouts",null,null,"10 LB",null,"Bag",null,"Regular Base Grout",null,null,null,null,null,null,null,"Stock",null,{"$f":"IF(Suggested=\"Yes\",AA603,AG603)","v":37.700000000000003},"EA",{"$f":"+Instructions!$B$3","v":"I"},null,{"$f":"+Instructions!$C$22","v":0},{"$f":"ROUND($AA603*(1-W603)+0.004999,2)","v":37.700000000000003},null,"",37.700000000000003,0,37.700000000000003,{"$f":"(AG603-AC603)/AG603","v":0},null,2,{"$f":"SUM(AJ603:AL603)+AE603","v":37.700000000000003},null,null,{"$f":"ROUND(AC603/(1-VLOOKUP(AF603,Group,2,FALSE)),2)","v":37.700000000000003},{"$f":"IF(VLOOKUP(AF603,Group,5,FALSE)=\"YES\",VLOOKUP(ROUND(ROUND(AJ603,1)-AJ603,2),Round,2,FALSE)+VLOOKUP(AF603,Group,6,FALSE),0)","v":0},{"$f":"IF(VLOOKUP(AF603,Group,7,FALSE)=\"\",0,ROUND(AJ603-0.04999,1)-AJ603+AM603)","v":0},{"$f":"IF(VLOOKUP(AF603,Group,7,FALSE)=\"\",\"\",VLOOKUP(AF603,Group,7,FALSE))","v":""},null,"X"]
[null,"Regular Grouts",null,null,"20 LB",null,"Bag",null,"Regular Base Grout",null,null,null,null,null,null,null,"Stock",null,71,"EA",{"$f":"+Instructions!$B$3","v":"I"},null,{"$f":"+Instructions!$C$22","v":0},71,null,"",71,0,71,0,null,2,71,null,null,71,0,0,"",null,"X"]
[null,null,null,null,null,null,null,null,null,null,null,null,null,null,null,null,null,null,null,null,null,null,null,null,null,null,null,null,null,null,null,null,null,null,null,null,null,null,null,null,"X"]
[null,"Regular Grouts",null,null,"64 oz",null,null,null,"Mixing Jug",null,null,null,null,null,null,null,"Stock",null,{"$f":"IF(Suggested=\"Yes\",AA606,AG606)","v":11.4},"EA",{"$f":"+Instructions!$B$3","v":"I"},null,{"$f":"+Instructions!$C$22","v":0},{"$f":"ROUND($AA606*(1-W606)+0.004999,2)","v":11.4},null,"",11.4,{"$f":"+W606","v":0},{"$f":"+X606","v":11.4},{"$f":"(AG606-AC606)/AG606","v":0},null,2,{"$f":"SUM(AJ606:AL606)+AE606","v":11.4},null,null,{"$f":"ROUND(AC606/(1-VLOOKUP(AF606,Group,2,FALSE)),2)","v":11.4},{"$f":"IF(VLOOKUP(AF606,Group,5,FALSE)=\"YES\",VLOOKUP(ROUND(ROUND(AJ606,1)-AJ606,2),Round,2,FALSE)+VLOOKUP(AF606,Group,6,FALSE),0)","v":0},{"$f":"IF(VLOOKUP(AF606,Group,7,FALSE)=\"\",0,ROUND(AJ606-0.04999,1)-AJ606+AM606)","v":0},{"$f":"IF(VLOOKUP(AF606,Group,7,FALSE)=\"\",\"\",VLOOKUP(AF606,Group,7,FALSE))","v":""},null,"X"]
[null,null,null,null,null,null,null,null,null,null,null,null,null,null,null,null,null,null,null,null,null,null,null,null,null,null,null,null,null,null,null,null,null,null,null,null,null,null,null,null,"X"]
["x",null,null,null,null,null,null,null,null,null,null,null,null,null,null,null,null,null,null,null,null,null,null,null,null,null,null,null,null,null,null,null,null,null,null,null,null,null,null,null,"X"]
[null,null,"continued on next page",null,null,null,null,null,null,null,null,null,null,null,null,null,null,null,null,null,null,null,null,null,null,null,null,null,null,null,null,null,null,null,null,null,null,null,null,null,"X"]
["x",null,null,"2600 PermaColor Select Base Grout - continued  ",null,null,null,null,null,null,null,null,null,null,null,null,null,"Item # Lookup:","LT26",null,null,null,null,null,null,null,null,null,null,null,null,null,null,null,null,null,null,null,null,null,"X"]
["x",null,null,null,null,null,null,null,null,null,null,null,null,null,null,null,null,null,null,null,null,null,null,null,null,null,null,null,null,null,null,null,null,null,null,null,null,null,null,null,"X"]
[null,null,null,"Approximate Square Foot Coverage Regular Base per 10 lb Bag",null,null,null,null,null,null,null,null,"Approximate Square Foot Coverage NS Base per 8 lb Box",null,null,null,null,null,null,null,null,null,null,null,null,null,null,null,null,null,null,null,null,null,null,null,null,null,null,null,"X"]
[null,null,null,"TILE SIZE",null,"JOINT WIDTH",null,null,null,null,null,null,"TILE SIZE",null,null,null,"JOINT WIDTH",null,null,null,null,null,null,null,null,null,null,null,null,null,null,null,null,null,null,null,null,null,null,null,"X"]
[null,null,null,null,null,"1/16\"",null,"1/8\"",null,"3/16\"","1/4\"","1/2\"",null,null,null,null,"1/16\"","1/8\"","3/16\"","1/4\"",null,null,null,null,null,null,null,null,null,null,null,null,null,null,null,null,null,null,null,null,"X"]
[null,null,null,"1 x 1 x 1/4\"",null,41,null,21,null,15,11,7,"1 x 1 x 1/4\"",null,null,null,34,17,12,9,null,null,null,null,null,null,null,null,null,null,null,null,null,null,null,null,null,null,null,null,"X"]
[null,null,null,"2 x 2 x 1/4\"",null,81,null,41,null,28,21,11,"2 x 2 x 1/4\"",null,null,null,66,34,23,17,null,null,null,null,null,null,null,null,null,null,null,null,null,null,null,null,null,null,null,null,"X"]
[null,null,null,"3 x 6 x 5/16\"",null,129,null,65,null,44,33,17,"4-1/4 x 4-1/4 x 5/16\"",null,null,null,111,56,37,28,null,null,null,null,null,null,null,null,null,null,null,null,null,null,null,null,null,null,null,null,"X"]
[null,null,null,"4-1/2 x 4-1/2 x 5/16\"",null,145,null,73,null,49,37,19,"6 x 6 x 5/16\"",null,null,null,156,79,53,40,null,null,null,null,null,null,null,null,null,null,null,null,null,null,null,null,null,null,null,null,"X"]
[null,null,null,"6 x 24 x 3/8\"",null,257,null,129,null,86,65,33,"12 x 12 x 3/8\"",null,null,null,261,131,87,66,null,null,null,null,null,null,null,null,null,null,null,null,null,null,null,null,null,null,null,null,"X"]
[null,null,null,"12 x 24 x 3/8\"",null,428,null,214,null,143,108,54,"24 x 24 x 3/8\"",null,null,null,520,261,173,131,null,null,null,null,null,null,null,null,null,null,null,null,null,null,null,null,null,null,null,null,"X"]
[null,null,null,"24 x 24 x 3/8\"",null,642,null,321,null,214,161,81,null,null,null,null,null,null,null,null,null,null,null,null,null,null,null,null,null,null,null,null,null,null,null,null,null,null,null,null,"X"]
[null,null,null,"12 x 36 x 3/8\"",null,482,null,241,null,160,121,61,null,null,null,null,null,null,null,null,null,null,null,null,null,null,null,null,null,null,null,null,null,null,null,null,null,null,null,null,"X"]
[null,null,null,null,null,null,null,null,null,null,null,null,null,null,null,null,null,null,null,null,null,null,null,null,null,null,null,null,null,null,null,null,null,null,null,null,null,null,null,null,"X"]
[null,null,null,"Notes:","An advanced high performance cement grout that offers the industry's first dispensable dry pigment solution.  PermaColor Select is",null,null,null,null,null,null,null,null,null,null,null,null,null,null,null,null,null,null,null,null,null,null,null,null,null,null,null,null,null,null,null,null,null,null,null,"X"]
[null,null,null,null,"designed for virtually all types of residential and commercial installations and offers optimum performance on the most demanding exterior",null,null,null,null,null,null,null,null,null,null,null,null,null,null,null,null,null,null,null,null,null,null,null,null,null,null,null,null,null,null,null,null,null,null,null,"X"]
[null,null,null,null,"or interior applications.  Easy to mix, grout and clean, PermaColor Select is fast setting and is suitable for joints 1/16\" to 1/2\" wide on floors",null,null,null,null,null,null,null,null,null,null,null,null,null,null,null,null,null,null,null,null,null,null,null,null,null,null,null,null,null,null,null,null,null,null,null,"X"]
[null,null,null,null,"or walls.  PermaColor NS Base Grout, (Non-Sanded), is for joints up to 1/4\" between soft bisque glazed wall tile, non-vitreous clay tile, marble,",null,null,null,null,null,null,null,null,null,null,null,null,null,null,null,null,null,null,null,null,null,null,null,null,null,null,null,null,null,null,null,null,null,null,null,"X"]
[null,null,null,null,"stone and porcelain or glass.  PermaColor Select offers the following industry leading performance features & benefits:  Exceeds ANSI A118.7",null,null,null,null,null,null,null,null,null,null,null,null,null,null,null,null,null,null,null,null,null,null,null,null,null,null,null,null,null,null,null,null,null,null,null,"X"]
[null,null,null,null,"& achieves ISO 13007-4 CG2FAW.  Enhanced Stain resistance - equipped with STONETECH Sealer Technology.  Vibrant consistent color -",null,null,null,null,null,null,null,null,null,null,null,null,null,null,null,null,null,null,null,null,null,null,null,null,null,null,null,null,null,null,null,null,null,null,null,"X"]
[null,null,null,null,"resists efflorescence.  Reinforced with Kevlar - crack & shrink resistant.  Fast setting - ready for foot traffic in 3 hours.  ",null,null,null,null,null,null,null,null,null,null,null,null,null,null,null,null,null,null,null,null,null,null,null,null,null,null,null,null,null,null,null,null,null,null,null,"X"]
["x",null,null,null,null,null,null,null,null,null,null,null,null,null,null,null,null,null,null,null,null,null,null,null,null,null,null,null,null,null,null,null,null,null,null,null,null,null,null,null,"X"]
[null,null,null,"2600 PermaColor Select Color Pack/Kit",null,null,null,null,null,null,null,null,null,null,null,null,null,"Item # Lookup:","LT26",null,null,null,null,null,null,null,null,null,null,null,null,null,null,null,null,null,null,null,null,null,"X"]
["x",null,null,null,null,null,null,null,null,null,null,null,null,null,null,null,null,null,null,null,null,null,null,null,null,null,null,null,null,null,null,null,null,null,null,null,null,null,null,null,"X"]
[null,null,"     Laticrete Color:"]
[null,null,null,null,"03 Silk"]
["x",null,null,null,null,null,null,null,null,null,null,null,null,null,null,null,null,null,null,null,null,null,null,null,null,null,null,null,null,null,null,null,null,null,null,null,null,null,null,null,"X"]
[null,"Regular Grouts",null,null,"Single Packet",null,null,null,null,null,null,null,null,null,null,null,"Stock",null,{"$f":"IF(Suggested=\"Yes\",AA637,AG637)","v":8.65},"EA",{"$f":"+Instructions!$B$3","v":"I"},null,{"$f":"+Instructions!$C$22","v":0},{"$f":"ROUND($AA637*(1-W637)+0.004999,2)","v":8.65},null,"",8.65,{"$f":"+W637","v":0},{"$f":"+X637","v":8.65},{"$f":"(AG637-AC637)/AG637","v":0},null,2,{"$f":"SUM(AJ637:AL637)+AE637","v":8.65},null,null,{"$f":"ROUND(AC637/(1-VLOOKUP(AF637,Group,2,FALSE)),2)","v":8.65},{"$f":"IF(VLOOKUP(AF637,Group,5,FALSE)=\"YES\",VLOOKUP(ROUND(ROUND(AJ637,1)-AJ637,2),Round,2,FALSE)+VLOOKUP(AF637,Group,6,FALSE),0)","v":0},{"$f":"IF(VLOOKUP(AF637,Group,7,FALSE)=\"\",0,ROUND(AJ637-0.04999,1)-AJ637+AM637)","v":0},{"$f":"IF(VLOOKUP(AF637,Group,7,FALSE)=\"\",\"\",VLOOKUP(AF637,Group,7,FALSE))","v":""},null,"X"]
["x",null,null,null,null,null,null,null,null,null,null,null,null,null,null,null,null,null,null,null,null,null,null,null,null,null,null,null,null,null,null,null,null,null,null,null,null,null,null,null,"X"]
[null,null,"     Laticrete Colors:"]
[null,null,null,null,"09 Frosty",null,null,"39 Mushroom",null,null,null,"58 Terra Cotta",null,null," 88 Silver Shadow"]
[null,null,null,null,"17 Marble Beige",null,null,"40 Latte",null,null,null,"59 Espresso",null,null," 89 Smoke Grey"]
[null,null,null,null,"18 Sauterne",null,null,"42 Platinum",null,null,null,"60 Dusty Grey",null,null," 90 Light Pewter"]
[null,null,null,null,"22 Midnight Black",null,null,"44 Bright White",null,null,null,"61 Parchment",null,null," 91 Slate Grey",null,null," "]
[null,null,null,null,"23 Antique White",null,null,"45 Raven",null,null,null,"66 Chestnut Brown",null,null," 93 Fossil"]
[null,null,null,null,"24 Natural Grey",null,null,"46 Quarry Red",null,null,null,"67 Autumn Green",null,null," 94 Walnut"]
[null,null,null,null,"27 Hemp",null,null,"52 Toasted Almond",null,null,null,"78 Sterling Silver",null,null," 95 Mink"]
[null,null,null,null,"30 Sand Beige",null,null,"53 Twilight Blue",null,null,null,"81 Butter Cream",null,null," 96 Steamship"]
[null,null,null,null,"34 Sandstone",null,null,"56 Desert Khaki",null,null,null,"85 Almond",null,null," 97 Iron"]
[null,null,null,null,"35 Mocha",null,null,"57 Hot Cocoa",null,null,null,"87 Stormy Grey"]
["x",null,null,null,null,null,null,null,null,null,null,null,null,null,null,null,null,null,null,null,null,null,null,null,null,null,null,null,null,null,null,null,null,null,null,null,null,null,null,null,"X"]
[null,"Regular Grouts",null,null,"Single Packet",null,null,null,null,null,null,null,null,null,null,null,"Stock",null,{"$f":"IF(Suggested=\"Yes\",AA651,AG651)","v":8.1999999999999993},"EA",{"$f":"+Instructions!$B$3","v":"I"},null,{"$f":"+Instructions!$C$22","v":0},{"$f":"ROUND($AA651*(1-W651)+0.004999,2)","v":8.1999999999999993},null,"",8.1999999999999993,{"$f":"+W651","v":0},{"$f":"+X651","v":8.1999999999999993},{"$f":"(AG651-AC651)/AG651","v":0},null,2,{"$f":"SUM(AJ651:AL651)+AE651","v":8.1999999999999993},null,null,{"$f":"ROUND(AC651/(1-VLOOKUP(AF651,Group,2,FALSE)),2)","v":8.1999999999999993},{"$f":"IF(VLOOKUP(AF651,Group,5,FALSE)=\"YES\",VLOOKUP(ROUND(ROUND(AJ651,1)-AJ651,2),Round,2,FALSE)+VLOOKUP(AF651,Group,6,FALSE),0)","v":0},{"$f":"IF(VLOOKUP(AF651,Group,7,FALSE)=\"\",0,ROUND(AJ651-0.04999,1)-AJ651+AM651)","v":0},{"$f":"IF(VLOOKUP(AF651,Group,7,FALSE)=\"\",\"\",VLOOKUP(AF651,Group,7,FALSE))","v":""},null,"X"]
[null,null,null,null,null,null,null,null,null,null,null,null,null,null,null,null,null,null,null,null,null,null,null,null,null,null,null,null,null,null,null,null,null,null,null,null,null,null,null,null,"X"]
[null,null,"     Bostik Color:         ",null,null,null,null,null,null,null,null,null,null,null,null," "]
[null,null,null,null,"Antique White"]
["x",null,null,null,null,null,null,null,null,null,null,null,null,null,null,null,null,null,null,null,null,null,null,null,null,null,null,null,null,null,null,null,null,null,null,null,null,null,null,null,"X"]
[null,"Regular Grouts",null,null,"Single Packet",null,null,null,null,null,null,null,null,null,null,"20 EA/CTN",null,null,{"$f":"IF(Suggested=\"Yes\",AA656,AG656)","v":10.85},"EA",{"$f":"+Instructions!$B$3","v":"I"},null,{"$f":"+Instructions!$C$22","v":0},{"$f":"ROUND($AA656*(1-W656)+0.004999,2)","v":10.85},null,"",10.85,{"$f":"+W656","v":0},{"$f":"+X656","v":10.85},{"$f":"(AG656-AC656)/AG656","v":0},null,2,{"$f":"SUM(AJ656:AL656)+AE656","v":10.85},null,null,{"$f":"ROUND(AC656/(1-VLOOKUP(AF656,Group,2,FALSE)),2)","v":10.85},{"$f":"IF(VLOOKUP(AF656,Group,5,FALSE)=\"YES\",VLOOKUP(ROUND(ROUND(AJ656,1)-AJ656,2),Round,2,FALSE)+VLOOKUP(AF656,Group,6,FALSE),0)","v":0},{"$f":"IF(VLOOKUP(AF656,Group,7,FALSE)=\"\",0,ROUND(AJ656-0.04999,1)-AJ656+AM656)","v":0},{"$f":"IF(VLOOKUP(AF656,Group,7,FALSE)=\"\",\"\",VLOOKUP(AF656,Group,7,FALSE))","v":""},null,"X"]
[]
[null,null,"     Custom Building Products Colors:  "]
[null,null,null,null,"Alabaster",null,"Earth",null,null,"Shadow",null,"        Warm Gray"]
[null,null,null,null,"Charcoal",null,"Khaki",null,null,"Snow White",null,"        Winter Grey"]
[null,null,null,null,"Cool White",null,"Pewter",null,null,"Steel Blue"]
[null,null,null,null,"Dove Gray",null,"Sable Brown",null,null,"Tobacco Brown"]
["x",null,null,null,null,null,null,null,null,null,null,null,null,null,null,null,null,null,null,null,null,null,null,null,null,null,null,null,null,null,null,null,null,null,null,null,null,null,null,null,"X"]
[null,"Regular Grouts",null,null,"Kit",null,null,null,null,null,null,null,null,null,null,"10 EA/CTN",null,"a",{"$f":"IF(Suggested=\"Yes\",AA664,AG664)","v":21.65},"EA",{"$f":"+Instructions!$B$3","v":"I"},null,{"$f":"+Instructions!$C$22","v":0},{"$f":"ROUND($AA664*(1-W664)+0.004999,2)","v":21.65},null,"",21.65,{"$f":"+W664","v":0},{"$f":"+X664","v":21.65},{"$f":"(AG664-AC664)/AG664","v":0},null,2,{"$f":"SUM(AJ664:AL664)+AE664","v":21.65},null,null,{"$f":"ROUND(AC664/(1-VLOOKUP(AF664,Group,2,FALSE)),2)","v":21.65},{"$f":"IF(VLOOKUP(AF664,Group,5,FALSE)=\"YES\",VLOOKUP(ROUND(ROUND(AJ664,1)-AJ664,2),Round,2,FALSE)+VLOOKUP(AF664,Group,6,FALSE),0)","v":0},{"$f":"IF(VLOOKUP(AF664,Group,7,FALSE)=\"\",0,ROUND(AJ664-0.04999,1)-AJ664+AM664)","v":0},{"$f":"IF(VLOOKUP(AF664,Group,7,FALSE)=\"\",\"\",VLOOKUP(AF664,Group,7,FALSE))","v":""},null,"X"]
[]
[null,null,"     Custom Building Products Colors:  "]
[null,null,null,null,"Arctic White",null,"Bright White",null,null,"Driftwood",null,"Natural Grey"]
[null,null,null,null,"Ash",null,"Cape Gray",null,null,"Graystone",null,"Oyster Gray",null,null,null,null,null,"  "]
[null,null,null,null,"Bleached Wood",null,"Coffee Bean",null,null,"Light Smoke",null,"Platinum"]
[null,null,null,null,"Bone",null,"Delorean Grey",null,null,"Mushroom",null,"Rolling Fog"]
["x",null,null,null,null,null,null,null,null,null,null,null,null,null,null,null,null,null,null,null,null,null,null,null,null,null,null,null,null,null,null,null,null,null,null,null,null,null,null,null,"X"]
[null,"Regular Grouts",null,null,"Single Packet",null,null,null,null,null,null,null,null,null,null,"20 EA/CTN",null,null,{"$f":"IF(Suggested=\"Yes\",AA672,AG672)","v":10.85},"EA",{"$f":"+Instructions!$B$3","v":"I"},null,{"$f":"+Instructions!$C$22","v":0},{"$f":"ROUND($AA672*(1-W672)+0.004999,2)","v":10.85},null,"",10.85,{"$f":"+W672","v":0},{"$f":"+X672","v":10.85},{"$f":"(AG672-AC672)/AG672","v":0},null,2,{"$f":"SUM(AJ672:AL672)+AE672","v":10.85},null,null,{"$f":"ROUND(AC672/(1-VLOOKUP(AF672,Group,2,FALSE)),2)","v":10.85},{"$f":"IF(VLOOKUP(AF672,Group,5,FALSE)=\"YES\",VLOOKUP(ROUND(ROUND(AJ672,1)-AJ672,2),Round,2,FALSE)+VLOOKUP(AF672,Group,6,FALSE),0)","v":0},{"$f":"IF(VLOOKUP(AF672,Group,7,FALSE)=\"\",0,ROUND(AJ672-0.04999,1)-AJ672+AM672)","v":0},{"$f":"IF(VLOOKUP(AF672,Group,7,FALSE)=\"\",\"\",VLOOKUP(AF672,Group,7,FALSE))","v":""},null,"X"]
["x",null,null,null,null,null,null,null,null,null,null,null,null,null,null,null,null,null,null,null,null,null,null,null,null,null,null,null,null,null,null,null,null,null,null,null,null,null,null,null,"X"]
[null,null,"     Mapei Colors:"]
[null,null,null,null,"Alabaster",null,"Charcoal",null,null," Pewter",null,null,null,null,null,null," "]
[null,null,null,null,"Avalanche",null,"Cobblestone",null,null," Sahara Beige"]
[null,null,null,null,"Biscuit",null,"Frost",null,null," Warm Grey"]
["x",null,null,null,null,null,null,null,null,null,null,null,null,null,null,null,null,null,null,null,null,null,null,null,null,null,null,null,null,null,null,null,null,null,null,null,null,null,null,null,"X"]
[null,"Regular Grouts",null,null,"Single Packet",null,null,null,null,null,null,null,null,null,null,"20 EA/CTN",null,null,{"$f":"IF(Suggested=\"Yes\",AA679,AG679)","v":10.85},"EA",{"$f":"+Instructions!$B$3","v":"I"},null,{"$f":"+Instructions!$C$22","v":0},{"$f":"ROUND($AA679*(1-W679)+0.004999,2)","v":10.85},null,"",10.85,{"$f":"+W679","v":0},{"$f":"+X679","v":10.85},{"$f":"(AG679-AC679)/AG679","v":0},null,2,{"$f":"SUM(AJ679:AL679)+AE679","v":10.85},null,null,{"$f":"ROUND(AC679/(1-VLOOKUP(AF679,Group,2,FALSE)),2)","v":10.85},{"$f":"IF(VLOOKUP(AF679,Group,5,FALSE)=\"YES\",VLOOKUP(ROUND(ROUND(AJ679,1)-AJ679,2),Round,2,FALSE)+VLOOKUP(AF679,Group,6,FALSE),0)","v":0},{"$f":"IF(VLOOKUP(AF679,Group,7,FALSE)=\"\",0,ROUND(AJ679-0.04999,1)-AJ679+AM679)","v":0},{"$f":"IF(VLOOKUP(AF679,Group,7,FALSE)=\"\",\"\",VLOOKUP(AF679,Group,7,FALSE))","v":""},null,"X"]
["x",null,null,null,null,null,null,null,null,null,null,null,null,null,null,null,null,null,null,null,null,null,null,null,null,null,null,null,null,null,null,null,null,null,null,null,null,null,null,null,"X"]
[null,null,"     Tec Colors:"]
[null,null,null,null,"Bright White",null,"  Light Pewter",null,null,"  Silverado",null,"Summer Wheat"]
[null,null,null,null,"Dove Gray",null,"  Pearl",null,null,"  Smoke"]
["x",null,null,null,null,null,null,null,null,null,null,null,null,null,null,null,null,null,null,null,null,null,null,null,null,null,null,null,null,null,null,null,null,null,null,null,null,null,null,null,"X"]
[null,"Regular Grouts",null,null,"Single Packet",null,null,null,null,null,null,null,null,null,null,"20 EA/CTN",null,null,{"$f":"IF(Suggested=\"Yes\",AA685,AG685)","v":10.85},"EA",{"$f":"+Instructions!$B$3","v":"I"},null,{"$f":"+Instructions!$C$22","v":0},{"$f":"ROUND($AA685*(1-W685)+0.004999,2)","v":10.85},null,"",10.85,{"$f":"+W685","v":0},{"$f":"+X685","v":10.85},{"$f":"(AG685-AC685)/AG685","v":0},null,2,{"$f":"SUM(AJ685:AL685)+AE685","v":10.85},null,null,{"$f":"ROUND(AC685/(1-VLOOKUP(AF685,Group,2,FALSE)),2)","v":10.85},{"$f":"IF(VLOOKUP(AF685,Group,5,FALSE)=\"YES\",VLOOKUP(ROUND(ROUND(AJ685,1)-AJ685,2),Round,2,FALSE)+VLOOKUP(AF685,Group,6,FALSE),0)","v":0},{"$f":"IF(VLOOKUP(AF685,Group,7,FALSE)=\"\",0,ROUND(AJ685-0.04999,1)-AJ685+AM685)","v":0},{"$f":"IF(VLOOKUP(AF685,Group,7,FALSE)=\"\",\"\",VLOOKUP(AF685,Group,7,FALSE))","v":""},null,"X"]
[]
[null,null,"    PERMACOLOR Select ANYCOLOR Custom Color"]
["x",null,null,null,null,null,null,null,null,null,null,null,null,null,null,null,null,null,null,null,null,null,null,null,null,null,null,null,null,null,null,null,null,null,null,null,null,null,null,null,"X"]
[null,"Regular Grouts",null,null,"Single Packet",null,null,null,null,null,null,null,null,null,null,"20 EA/CTN",null,"b",{"$f":"IF(Suggested=\"Yes\",AA689,AG689)","v":64.849999999999994},"EA",{"$f":"+Instructions!$B$3","v":"I"},null,{"$f":"+Instructions!$C$22","v":0},{"$f":"ROUND($AA689*(1-W689)+0.004999,2)","v":64.849999999999994},null,"",64.849999999999994,{"$f":"+W689","v":0},{"$f":"+X689","v":64.849999999999994},{"$f":"(AG689-AC689)/AG689","v":0},null,2,{"$f":"SUM(AJ689:AL689)+AE689","v":64.849999999999994},null,null,{"$f":"ROUND(AC689/(1-VLOOKUP(AF689,Group,2,FALSE)),2)","v":64.849999999999994},{"$f":"IF(VLOOKUP(AF689,Group,5,FALSE)=\"YES\",VLOOKUP(ROUND(ROUND(AJ689,1)-AJ689,2),Round,2,FALSE)+VLOOKUP(AF689,Group,6,FALSE),0)","v":0},{"$f":"IF(VLOOKUP(AF689,Group,7,FALSE)=\"\",0,ROUND(AJ689-0.04999,1)-AJ689+AM689)","v":0},{"$f":"IF(VLOOKUP(AF689,Group,7,FALSE)=\"\",\"\",VLOOKUP(AF689,Group,7,FALSE))","v":""},null,"X"]
[null,null,null,null,null,null,null,null,null,null,null,null,null,null,null,null,null,null,null,null,null,null,null,null,null,null,null,null,null,null,null,null,null,null,null,null,null,null,null,null,"X"]
["x",null,null,null,null,null,null,null,null,null,null,null,null,null,null,null,null,null,null,null,null,null,null,null,null,null,null,null,null,null,null,null,null,null,null,null,null,null,null,null,"X"]
[null,null,"continued on next page",null,null,null,null,null,null,null,null,null,null,null,null,null,null,null,null,null,null,null,null,null,null,null,null,null,null,null,null,null,null,null,null,null,null,null,null,null,"X"]
["x",null,null,"2600 PermaColor Select Color Pack/Kit - continued  ",null,null,null,null,null,null,null,null,null,null,null,null,null,"Item # Lookup:","LT26",null,null,null,null,null,null,null,null,null,null,null,null,null,null,null,null,null,null,null,null,null,"X"]
[]
[null,null,null,"Notes:","The new color Single Packet is designed specifically for use with new 10 LB bag of the PermaColor Select - Base Grout.",null,null,null,null,null,null,null,null,null,null,null,null,null,null,null,null,null,null,null,null,null,null,null,null,null,null,null,null,null,null,null,null,null,null,null,"X"]
[null,null,null,null,null,null,"Use 1 color Single Packet per 10 LB bag of Regular Base Grout or 8 LB Box NS Base Grout.",null,null,null,null,null,null,null,null,null,null,null,null,null,null,null,null,null,null,null,null,null,null,null,null,null,null,null,null,null,null,null,null,null,"X"]
[null,null,null,null,null,null,"Use 2 color Single Packets per 20 LB bag of Regular Base Grout.",null,null,null,null,null,null,null,null,null,null,null,null,null,null,null,null,null,null,null,null,null,null,null,null,null,null,null,null,null,null,null,null,null,"X"]
[null,null,null,null,"(The new Single Packets can also be used with the original bases, 1 packet for the 12.5 LB and 2 packets for the 25 LB sizes."]
[null,null,null,null,"The original color kits (2 packets per carton) still can be used with the new Permacolor Select 10 LB Base, just use 1 color packet.)"]
[null,null,null,null,"a) The Color Kit contains two color packets that are designed specifically for use with PermaColor Select - Base Grout.",null,null,null,null,null,null,null,null,null,null,null,null,null,null,null,null,null,null,null,null,null,null,null,null,null,null,null,null,null,null,null,null,null,null,null,"X"]
[null,null,null,null,null,null,"Use 1 color Packet when mixing with 8 or 10 LB Box of PermaColor Select - Base Grout."]
[null,null,null,null,null,null,"Use 2 color Packets when mixing with 20 LB Bag of PermaColor Select - Base Grout."]
[null,null,null,null,"b)  PERMACOLOR Select AnyColor can be matched to any color in the vast Benjamin Moore® or Sherwin-Williams® palettes.",null,null,null,null,null,null,null,null,null,null,null,null,null,null,null,null,null,null,null,null,null,null,null,null,null,null,null,null,null,null,null,null,null,null,null,"X"]
["x",null,null,null,null,null,null,null,null,null,null,null,null,null,null,null,null,null,null,null,null,null,null,null,null,null,null,null,null,null,null,null,null,null,null,null,null,null,null,null,"X"]
[null,null,null,"1200 SpectraLOCK PRO Premium Grout Part AB Liquids",null,null,null,null,null,null,null,null,null,null,null,null,null,"Item # Lookup:","LT1200",null,null,null,null,null,null,null,null,null,null,null,null,null,null,null,null,null,null,null,null,null,"X"]
[]
[null,"Epoxy Grouts",null,null,"Mini Unit",null,"Pail",null,"Part AB Liquids",null,null,null,null,null,null,null,"Stock",null,{"$f":"IF(Suggested=\"Yes\",AA707,AG707)","v":64.05},"EA",{"$f":"+Instructions!$B$3","v":"I"},null,{"$f":"+Instructions!$C$22","v":0},{"$f":"ROUND($AA707*(1-W707)+0.004999,2)","v":64.05},null,"",64.05,{"$f":"+W707","v":0},64.05,{"$f":"(AG707-AC707)/AG707","v":0},null,3,{"$f":"SUM(AJ707:AL707)+AE707","v":64.05},null,null,{"$f":"ROUND(AC707/(1-VLOOKUP(AF707,Group,2,FALSE)),2)","v":64.05},{"$f":"IF(VLOOKUP(AF707,Group,5,FALSE)=\"YES\",VLOOKUP(ROUND(ROUND(AJ707,1)-AJ707,2),Round,2,FALSE)+VLOOKUP(AF707,Group,6,FALSE),0)","v":0},{"$f":"IF(VLOOKUP(AF707,Group,7,FALSE)=\"\",0,ROUND(AJ707-0.04999,1)-AJ707+AM707)","v":0},{"$f":"IF(VLOOKUP(AF707,Group,7,FALSE)=\"\",\"\",VLOOKUP(AF707,Group,7,FALSE))","v":""},null,"X"]
[null,"Epoxy Grouts",null,null,"Full Unit",null,"Pail",null,"Part AB Liquids",null,null,null,null,null,null,null,"Stock",null,{"$f":"IF(Suggested=\"Yes\",AA708,AG708)","v":208.25},"EA",{"$f":"+Instructions!$B$3","v":"I"},null,{"$f":"+Instructions!$C$22","v":0},{"$f":"ROUND($AA708*(1-W708)+0.004999,2)","v":208.25},null,"",208.25,0,208.25,{"$f":"(AG708-AC708)/AG708","v":0},null,3,{"$f":"SUM(AJ708:AL708)+AE708","v":208.25},null,null,{"$f":"ROUND(AC708/(1-VLOOKUP(AF708,Group,2,FALSE)),2)","v":208.25},{"$f":"IF(VLOOKUP(AF708,Group,5,FALSE)=\"YES\",VLOOKUP(ROUND(ROUND(AJ708,1)-AJ708,2),Round,2,FALSE)+VLOOKUP(AF708,Group,6,FALSE),0)","v":0},{"$f":"IF(VLOOKUP(AF708,Group,7,FALSE)=\"\",0,ROUND(AJ708-0.04999,1)-AJ708+AM708)","v":0},{"$f":"IF(VLOOKUP(AF708,Group,7,FALSE)=\"\",\"\",VLOOKUP(AF708,Group,7,FALSE))","v":""},null,"X"]
[null,"Epoxy Grouts",null,null,"Commercial Unit",null,"Carton",null,"Part AB Liquids",null,null,null,null,null,null,null,"Stock","a",{"$f":"IF(Suggested=\"Yes\",AA709,AG709)","v":478.85},"EA",{"$f":"+Instructions!$B$3","v":"I"},null,{"$f":"+Instructions!$C$22","v":0},{"$f":"ROUND($AA709*(1-W709)+0.004999,2)","v":478.85},null,"",478.85,0,478.85,{"$f":"(AG709-AC709)/AG709","v":0},null,3,{"$f":"SUM(AJ709:AL709)+AE709","v":478.85},null,null,{"$f":"ROUND(AC709/(1-VLOOKUP(AF709,Group,2,FALSE)),2)","v":478.85},{"$f":"IF(VLOOKUP(AF709,Group,5,FALSE)=\"YES\",VLOOKUP(ROUND(ROUND(AJ709,1)-AJ709,2),Round,2,FALSE)+VLOOKUP(AF709,Group,6,FALSE),0)","v":0},{"$f":"IF(VLOOKUP(AF709,Group,7,FALSE)=\"\",0,ROUND(AJ709-0.04999,1)-AJ709+AM709)","v":0},{"$f":"IF(VLOOKUP(AF709,Group,7,FALSE)=\"\",\"\",VLOOKUP(AF709,Group,7,FALSE))","v":""},null,"X"]
[null,null,null,null,null,null,null,null,null,null,null,null,null,null,null,null,null,null,null,null,null,null,null,null,null,null,null,null,null,null,null,null,null,null,null,null,null,null,null,null,"X"]
[null,null,null,"Notes:","Provides unmatched performance with incredible ease of use.  For Floors and Walls.  Never needs sealing.",null,null,null,null,null,null,null,null,null,null,null,null,null,null,null,null,null,null,null,null,null,null,null,null,null,null,null,null,null,null,null,null,null,null,null,"X"]
[null,null,null,null,"a) Contains 4 Full Units of Part AB Liquids.",null,null,null,null,null,null,null,null,null,null,null,null,null,null,null,null,null,null,null,null,null,null,null,null,null,null,null,null,null,null,null,null,null,null,null,"X"]
[null,null,null,null,null,null,null,null,null,null,null,null,null,null,null,null,null,null,null,null,null,null,null,null,null,null,null,null,null,null,null,null,null,null,null,null,null,null,null,null,"X"]
[null,null,null,"1200 SpectraLOCK Grout Part C",null,null,null,null,null,null,null,null,null,null,null,null,null,"Item # Lookup:","LT12",null,null,null,null,null,null,null,null,null,null,null,null,null,null,null,null,null,null,null,null,null,"X"]
[]
[null," ",null,"Colors:","03 Silk",null,null,"35 Mocha",null,null,null,"57 Hot Cocoa",null,null," 87 Stormy Grey",null,null,null,null,null,null,null,null,null,null,null,null,null,null,null,null,null,null,null,null,null,null,null,null,null,"X"]
[null,null,null,null,"09 Frosty",null,null,"39 Mushroom",null,null,null,"58 Terra Cotta",null,null," 88 Silver Shadow",null,null,null,null,null,null,null,null,null,null,null,null,null,null,null,null,null,null,null,null,null,null,null,null,null,"X"]
[null,null," ",null,"17 Marble Beige",null,null,"40 Latte",null,null,null,"59 Espresso",null,null," 89 Smoke Grey",null,null,null,null,null,null,null,null,null,null,null,null,null,null,null,null,null,null,null,null,null,null,null,null,null,"X"]
[null,null,null,null,"18 Sauterne",null,null,"42 Platinum",null,null,null,"60 Dusty Grey",null,null," 90 Light Pewter",null,null,null,null,null,null,null,null,null,null,null,null,null,null,null,null,null,null,null,null,null,null,null,null,null,"X"]
[null,null,null,null,"22 Midnight Black",null,null,"44 Bright White",null,null,null,"61 Parchment",null,null," 91 Slate Grey",null,null,null,null,null,null,null,null,null,null,null,null,null,null,null,null,null,null,null,null,null,null,null,null,null,"X"]
[null,null,null,null,"23 Antique White",null,null,"45 Raven",null,null,null,"66 Chestnut Brown",null,null," 93 Fossil",null,null,null,null,null,null,null,null,null,null,null,null,null,null,null,null,null,null,null,null,null,null,null,null,null,"X"]
[null,null,null,null,"24 Natural Grey",null,null,"46 Quarry Red",null,null,null,"67 Autumn Green",null,null," 94 Walnut",null,null,null,null,null,null,null,null,null,null,null,null,null,null,null,null,null,null,null,null,null,null,null,null,null,"X"]
[null,null,null,null,"27 Hemp",null,null,"52 Toasted Almond",null,null,null,"78 Sterling Silver",null,null," 95 Mink",null,null,null,null,null,null,null,null,null,null,null,null,null,null,null,null,null,null,null,null,null,null,null,null,null,"X"]
[null,null,null,null,"30 Sand Beige",null,null,"53 Twilight Blue",null,null,null,"81 Butter Cream",null,null," 96 Steamship",null,null,null,null,null,null,null,null,null,null,null,null,null,null,null,null,null,null,null,null,null,null,null,null,null,"X"]
[null,null,null,null,"34 Sandstone",null,null,"56 Desert Khaki",null,null,null,"85 Almond",null,null," 97 Iron",null,null,null,null,null,null,null,null,null,null,null,null,null,null,null,null,null,null,null,null,null,null,null,null,null,"X"]
["x",null,null,null,null,null,null,null,null,null,null,null,null,null,null,null,null,null,null,null,null,null,null,null,null,null,null,null,null,null,null,null,null,null,null,null,null,null,null,null,"X"]
[null,"Epoxy Grouts",null,null,"2 LB Unit",null,"Carton",null,"Part C Powder",null,null,null,null,null,null,null,"Stock",null,{"$f":"IF(Suggested=\"Yes\",AA727,AG727)","v":12.6},"EA",{"$f":"+Instructions!$B$3","v":"I"},null,{"$f":"+Instructions!$C$22","v":0},{"$f":"ROUND($AA727*(1-W727)+0.004999,2)","v":12.6},null,"",12.6,{"$f":"+W727","v":0},{"$f":"+X727","v":12.6},{"$f":"(AG727-AC727)/AG727","v":0},null,3,{"$f":"SUM(AJ727:AL727)+AE727","v":12.6},null,null,{"$f":"ROUND(AC727/(1-VLOOKUP(AF727,Group,2,FALSE)),2)","v":12.6},{"$f":"IF(VLOOKUP(AF727,Group,5,FALSE)=\"YES\",VLOOKUP(ROUND(ROUND(AJ727,1)-AJ727,2),Round,2,FALSE)+VLOOKUP(AF727,Group,6,FALSE),0)","v":0},{"$f":"IF(VLOOKUP(AF727,Group,7,FALSE)=\"\",0,ROUND(AJ727-0.04999,1)-AJ727+AM727)","v":0},{"$f":"IF(VLOOKUP(AF727,Group,7,FALSE)=\"\",\"\",VLOOKUP(AF727,Group,7,FALSE))","v":""},null,"X"]
[null,"Epoxy Grouts",null,null,"9 LB Unit",null,"Carton",null,"Part C Powder",null,null,null,null,null,null,null,"Stock",null,{"$f":"IF(Suggested=\"Yes\",AA728,AG728)","v":47.1},"EA",{"$f":"+Instructions!$B$3","v":"I"},null,{"$f":"+Instructions!$C$22","v":0},{"$f":"ROUND($AA728*(1-W728)+0.004999,2)","v":47.1},null,"",47.1,{"$f":"+W728","v":0},{"$f":"+X728","v":47.1},{"$f":"(AG728-AC728)/AG728","v":0},null,3,{"$f":"SUM(AJ728:AL728)+AE728","v":47.1},null,null,{"$f":"ROUND(AC728/(1-VLOOKUP(AF728,Group,2,FALSE)),2)","v":47.1},{"$f":"IF(VLOOKUP(AF728,Group,5,FALSE)=\"YES\",VLOOKUP(ROUND(ROUND(AJ728,1)-AJ728,2),Round,2,FALSE)+VLOOKUP(AF728,Group,6,FALSE),0)","v":0},{"$f":"IF(VLOOKUP(AF728,Group,7,FALSE)=\"\",0,ROUND(AJ728-0.04999,1)-AJ728+AM728)","v":0},{"$f":"IF(VLOOKUP(AF728,Group,7,FALSE)=\"\",\"\",VLOOKUP(AF728,Group,7,FALSE))","v":""},null,"X"]
["x",null,null,null,null,null,null,null,null,null,null,null,null,null,null,null,null,null,null,null,null,null,null,null,null,null,null,null,null,null,null,null,null,null,null,null,null,null,null,null,"X"]
[null,null,null,"Notes:","For use only with Laticrete SpectraLOCK PRO Premium Grout Part AB Liquid kits & Laticrete SpectraLOCK Part D Dazzle.  Mixing ratio ",null,null,null,null,null,null,null,null,null,null,null,null,null,null,null,null,null,null,null,null,null,null,null,null,null,null,null,null,null,null,null,null,null,null,null,"X"]
[null,null,null,null,"for all SpectraLOCK PRO Premium Grout Part AB Liquid kits:  Mini Units Parts AB Liquid kit requires 1 each 2.25 LB unit of Part C color ",null,null,null,null,null,null,null,null,null,null,null,null,null,null,null,null,null,null,null,null,null,null,null,null,null,null,null,null,null,null,null,null,null,null,null,"X"]
[null,null,null,null,"Powder.  Full Unit Parts AB Liquid kit requires 1 each 9 LB unit of Part C Color Powder.  Commercial Unit AB Liquid only kit requires 4 each ",null,null,null,null,null,null,null,null,null,null,null,null,null,null,null,null,null,null,null,null,null,null,null,null,null,null,null,null,null,null,null,null,null,null,null,"X"]
[null,null,null,null,"9 LB Unit of Part C color Powder.",null,null,null,null,null,null,null,null,null,null,null,null,null,null,null,null,null,null,null,null,null,null,null,null,null,null,null,null,null,null,null,null,null,null,null,"X"]
[null,null,null,null,null,null,null,null,null,null,null,null,null,null,null,null,null,null,null,null,null,null,null,null,null,null,null,null,null,null,null,null,null,null,null,null,null,null,null,null,"X"]
[null,null,null,null,null,null,"Approximate Square Foot Coverage per Full Unit",null,null,null,null,null,null,null,null,null,null,null,null,null,null,null,null,null,null,null,null,null,null,null,null,null,null,null,null,null,null,null,null,null,"X"]
[null,null,null,null,null,null,"TILE SIZE",null,null,null,"JOINT WIDTH",null,null,null,null,null,null,null,null,null,null,null,null,null,null,null,null,null,null,null,null,null,null,null,null,null,null,null,null,null,"X"]
[null,null,null,null,null,null,null,null,null,null,"1/16\"","1/8\"","1/4\"","3/8\"","1/2\"",null,null,null,null,null,null,null,null,null,null,null,null,null,null,null,null,null,null,null,null,null,null,null,null,null,"X"]
[null,null,null,null,null,null,"1 x 1 x 1/4\"",null,null,null,41,21,11,8,7,null,null,null,null,null,null,null,null,null,null,null,null,null,null,null,null,null,null,null,null,null,null,null,null,null,"X"]
[null,null,null,null,null,null,"2 x 2 x 1/4\"",null,null,null,81,41,21,15,11,null,null,null,null,null,null,null,null,null,null,null,null,null,null,null,null,null,null,null,null,null,null,null,null,null,"X"]
[null,null,null,null,null,null,"4-1/4 x 4-1/4 x 5/16\"",null,null,null,136,69,35,24,18,null,null,null," ",null,null,null,null,null,null,null,null,null,null,null,null,null,null,null,null,null,null,null,null,null,"X"]
[null,null,null,null,null,null,"6 x 6 x 1/2\"",null,null,null,120,60,31,21,16,null,null,null,null,null,null,null,null,null,null,null,null,null,null,null,null,null,null,null,null,null,null,null,null,null,"X"]
[null,null,null,null,null,null,"12 x 12 x 3/8\"",null,null,null,320,160,81,54,41,null,null,null,null,null,null,null,null,null,null,null,null,null,null,null,null,null,null,null,null,null,null,null,null,null,"X"]
[null,null,null,null,null,null,"13 x 13 x 3/8\"",null,null,null,347,174,87,58,44,null,null,null,null,null,null,null,null,null,null,null,null,null,null,null,null,null,null,null,null,null,null,null,null,null,"X"]
[null,null,null,null,null,null,"16 x 16 x 3/8\"",null,null,null,426,214,107,72,54,null,null,null,null,null,null,null,null,null,null,null,null,null,null,null,null,null,null,null,null,null,null,null,null,null,"X"]
[null,null,null,null,null,null,"18 x 18 x 3/8\"",null,null,null,480,240,121,81,61,null,null,null,null,null,null,null,null,null,null,null,null,null,null,null,null,null,null,null,null,null,null,null,null,null,"X"]
[]
["x",null,null,"1200 SpectraLOCK Dazzle (Part D Component)",null,null,null,null,null,null,null,null,null,null,null,null,null,"Item # Lookup:","LT12",null,null,null,null,null,null,null,null,null,null,null,null,null,null,null,null,null,null,null,null,null,"X"]
[]
[null,"Epoxy Grouts",null,null,"0.44 lbs",null,"Pouch",null,1297,"  Copper",null,null,null,null,null,"6 Pouches/CTN",null,null,{"$f":"IF(Suggested=\"Yes\",AA749,AG749)","v":47.5},"EA",{"$f":"+Instructions!$B$3","v":"I"},null,{"$f":"+Instructions!$C$22","v":0},{"$f":"ROUND($AA749*(1-W749)+0.004999,2)","v":47.5},null,"",47.5,{"$f":"+W749","v":0},47.5,{"$f":"(AG749-AC749)/AG749","v":0},null,3,{"$f":"SUM(AJ749:AL749)+AE749","v":47.5},null,null,{"$f":"ROUND(AC749/(1-VLOOKUP(AF749,Group,2,FALSE)),2)","v":47.5},{"$f":"IF(VLOOKUP(AF749,Group,5,FALSE)=\"YES\",VLOOKUP(ROUND(ROUND(AJ749,1)-AJ749,2),Round,2,FALSE)+VLOOKUP(AF749,Group,6,FALSE),0)","v":0},{"$f":"IF(VLOOKUP(AF749,Group,7,FALSE)=\"\",0,ROUND(AJ749-0.04999,1)-AJ749+AM749)","v":0},{"$f":"IF(VLOOKUP(AF749,Group,7,FALSE)=\"\",\"\",VLOOKUP(AF749,Group,7,FALSE))","v":""},null,"X"]
[null,"Epoxy Grouts",null,null,"0.44 lbs",null,"Pouch",null,1299,"  Green Glow",null,null,null,null,null,"6 Pouches/CTN",null,null,94.8,"EA",{"$f":"+Instructions!$B$3","v":"I"},null,{"$f":"+Instructions!$C$22","v":0},94.8,null,"",94.8,0,94.8,0,null,3,94.8,null,null,94.8,0,0,"",null,"X"]
[null,"Epoxy Grouts",null,null,"0.44 lbs",null,"Pouch",null,1295,"  Gold",null,null,null,null,null,"6 Pouches/CTN",null,null,47.5,"EA",{"$f":"+Instructions!$B$3","v":"I"},null,{"$f":"+Instructions!$C$22","v":0},47.5,null,"",47.5,0,47.5,0,null,3,47.5,null,null,47.5,0,0,"",null,"X"]
[null,"Epoxy Grouts",null,null,"0.44 lbs",null,"Pouch",null,1286,"  Blue Glow",null,null,null,null,null,"6 Pouches/CTN",null,null,94.8,"EA",{"$f":"+Instructions!$B$3","v":"I"},null,{"$f":"+Instructions!$C$22","v":0},94.8,null,"",94.8,0,94.8,0,null,3,94.8,null,null,94.8,0,0,"",null,"X"]
[null,"Epoxy Grouts",null,null,"0.44 lbs",null,"Pouch",null,1298,"  Mother-of-Pearl",null,null,null,null,null,"6 Pouches/CTN",null,null,47.5,"EA",{"$f":"+Instructions!$B$3","v":"I"},null,{"$f":"+Instructions!$C$22","v":0},47.5,null,"",47.5,0,47.5,0,null,3,47.5,null,null,47.5,0,0,"",null,"X"]
[null,"Epoxy Grouts",null,null,"0.44 lbs",null,"Pouch",null,1296,"  Silver",null,null,null,null,null,"6 Pouches/CTN",null,null,47.5,"EA",{"$f":"+Instructions!$B$3","v":"I"},null,{"$f":"+Instructions!$C$22","v":0},47.5,null,"",47.5,0,47.5,0,null,3,47.5,null,null,47.5,0,0,"",null,"X"]
["x",null,null,null,null,null,null,null,null,null,null,null,null,null,null,null,null,null,null,null,null,null,null,null,null,null,null,null,null,null,null,null,null,null,null,null,null,null,null,null,"X"]
[null,null,null,"Notes:","SpectraLOCK Dazzle produces stunning grout design combinations when used with metallic, glass, porcelain, or any other",null,null,null,null,null,null,null,null,null,null,null,null,null,null,null,null,null,null,null,null,null,null,null,null,null,null,null,null,null,null,null,null,null,null,null,"X"]
[null,null,null,null,"type of tile and stone.  Will not fade or deteriorate and enhances the appearance in dark environments.  Can be used in pools,",null,null,null,null,null,null,null,null,null,null,null,null,null,null,null,null,null,null,null,null,null,null,null,null,null,null,null,null,null,null,null,null,null,null,null,"X"]
[null,null,null,null,"spas, backsplashes and bathrooms.  May be used in interior and exterior applications and on floors & walls.",null,null,null,null,null,null,null,null,null,null,null,null,null,null,null,null,null,null,null,null,null,null,null,null,null,null,null,null,null,null,null,null,null,null,null,"X"]
[null,null,null,null,"One (1) Pouch of Dazzle Design Additive will be used within one (1) Pail (Full Unit) of either; SpectraLOCK Pro Premium,",null,null,null,null,null,null,null,null,null,null,null,null,null,null,null,null,null,null,null,null,null,null,null,null,null,null,null,null,null,null,null,null,null,null,null,"X"]
[null,null,null,null,"SpectraLOCK PRO Premium Translucent Grout, SpectraLOCK 1 Pre-Mixed Grout -or- Ready-To-Use Pre-Mixed Grouts.",null,null,null,null,null,null,null,null,null,null,null,null,null,null,null,null,null,null,null,null,null,null,null,null,null,null,null,null,null,null,null,null,null,null,null,"X"]
[null,null,null,null,"When using a Mini Unit, use 1/4 Pouch and add 4 Pouches to a Commercial Unit.",null,null,null,null,null,null,null,null,null,null,null,null,null,null,null,null,null,null,null,null,null,null,null,null,null,null,null,null,null,null,null,null,null,null,null,"X"]
[null,null,null,null,null,null,null,null,null,null,null,null,null,null,null,null,null,null,null,null,null,null,null,null,null,null,null,null,null,null,null,null,null,null,null,null,null,null,null,null,"X"]
[null,null,null,"SpectraLOCK PRO Premium TRANSLUCENT Grout",null,null,null,null,null,null,null,null,null,null,null,null,null,"Item # Lookup:","LT1200",null,null,null,null,null,null,null,null,null,null,null,null,null,null,null,null,null,null,null,null,null,"X"]
[]
[null,"Epoxy Grouts",null,null,"Mini Unit",null,"Pail",null,null,null,null,null,null,null,null,"4 EA/CTN",null,null,{"$f":"IF(Suggested=\"Yes\",AA765,AG765)","v":131.94999999999999},"EA",{"$f":"+Instructions!$B$3","v":"I"},null,{"$f":"+Instructions!$C$22","v":0},{"$f":"ROUND($AA765*(1-W765)+0.004999,2)","v":131.94999999999999},null,"",131.94999999999999,{"$f":"+W765","v":0},{"$f":"+X765","v":131.94999999999999},{"$f":"(AG765-AC765)/AG765","v":0},null,3,{"$f":"SUM(AJ765:AL765)+AE765","v":131.94999999999999},null,null,{"$f":"ROUND(AC765/(1-VLOOKUP(AF765,Group,2,FALSE)),2)","v":131.94999999999999},{"$f":"IF(VLOOKUP(AF765,Group,5,FALSE)=\"YES\",VLOOKUP(ROUND(ROUND(AJ765,1)-AJ765,2),Round,2,FALSE)+VLOOKUP(AF765,Group,6,FALSE),0)","v":0},{"$f":"IF(VLOOKUP(AF765,Group,7,FALSE)=\"\",0,ROUND(AJ765-0.04999,1)-AJ765+AM765)","v":0},{"$f":"IF(VLOOKUP(AF765,Group,7,FALSE)=\"\",\"\",VLOOKUP(AF765,Group,7,FALSE))","v":""},null,"X"]
[null,"Epoxy Grouts",null,null,"Full Unit",null,"Pail",null,null,null,null,null,null,null,null,null,null,null,{"$f":"IF(Suggested=\"Yes\",AA766,AG766)","v":357.3},"EA",{"$f":"+Instructions!$B$3","v":"I"},null,{"$f":"+Instructions!$C$22","v":0},{"$f":"ROUND($AA766*(1-W766)+0.004999,2)","v":357.3},null,"",357.3,{"$f":"+W766","v":0},{"$f":"+X766","v":357.3},{"$f":"(AG766-AC766)/AG766","v":0},null,3,{"$f":"SUM(AJ766:AL766)+AE766","v":357.3},null,null,{"$f":"ROUND(AC766/(1-VLOOKUP(AF766,Group,2,FALSE)),2)","v":357.3},{"$f":"IF(VLOOKUP(AF766,Group,5,FALSE)=\"YES\",VLOOKUP(ROUND(ROUND(AJ766,1)-AJ766,2),Round,2,FALSE)+VLOOKUP(AF766,Group,6,FALSE),0)","v":0},{"$f":"IF(VLOOKUP(AF766,Group,7,FALSE)=\"\",0,ROUND(AJ766-0.04999,1)-AJ766+AM766)","v":0},{"$f":"IF(VLOOKUP(AF766,Group,7,FALSE)=\"\",\"\",VLOOKUP(AF766,Group,7,FALSE))","v":""},null,"X"]
["x",null,null,null,null,null,null,null,null,null,null,null,null,null,null,null,null,null,null,null,null,null,null,null,null,null,null,null,null,null,null,null,null,null,null,null,null,null,null,null,"X"]
[null,null,null,"Notes:","Patented, extreme high performance epoxy grout that offers a unique opaque color that diffuses light and makes any design look more",null,null,null,null,null,null,null,null,null,null,null,null,null,null,null,null,null,null,null,null,null,null,null,null,null,null,null,null,null,null,null,null,null,null,null,"X"]
[null,null,null,null,"vibrant.  It also has increased durability and stain resistance with superior ease of use and cleaning.",null,null,null,null,null,null,null,null,null,null,null,null,null,null,null,null,null,null,null,null,null,null,null,null,null,null,null,null,null,null,null,null,null,null,null,"X"]
[null,null,null,null,"a)  For coverage refer to chart in the \"1200 SpectraLOCK Grout Part C\" section above.",null,null,null,null,null,null,null,null,null,null,null,null,null,null,null,null,null,null,null,null,null,null,null,null,null,null,null,null,null,null,null,null,null,null,null,"X"]
[null,null,null,null,null,null,null,null,null,null,null,null,null,null,null,null,null,null,null,null,null,null,null,null,null,null,null,null,null,null,null,null,null,null,null,null,null,null,null,null,"X"]
[null,null,null,"3100 SpectraLOCK 1 Pre-Mixed Epoxy Performance Grout",null,null,null,null,null,null,null,null,null,null,null,null,null,"Item # Lookup:","LT31",null,null,null,null,null,null,null,null,null,null,null,null,null,null,null,null,null,null,null,null,null,"X"]
[]
[null," ",null,"Colors:","03 Silk",null,null,"35 Mocha",null,null,null,"57 Hot Cocoa",null,null," 87 Stormy Grey",null,null,null,null,null,null,null,null,null,null,null,null,null,null,null,null,null,null,null,null,null,null,null,null,null,"X"]
[null,null,null,null,"09 Frosty",null,null,"39 Mushroom",null,null,null,"58 Terra Cotta",null,null," 88 Silver Shadow",null,null,null,null,null,null,null,null,null,null,null,null,null,null,null,null,null,null,null,null,null,null,null,null,null,"X"]
[null,null," ",null,"17 Marble Beige",null,null,"40 Latte",null,null,null,"59 Espresso",null,null," 89 Smoke Grey",null,null,null,null,null,null,null,null,null,null,null,null,null,null,null,null,null,null,null,null,null,null,null,null,null,"X"]
[null,null,null,null,"18 Sauterne",null,null,"42 Platinum",null,null,null,"60 Dusty Grey",null,null," 90 Light Pewter",null,null,null,null,null,null,null,null,null,null,null,null,null,null,null,null,null,null,null,null,null,null,null,null,null,"X"]
[null,null,null,null,"22 Midnight Black",null,null,"44 Bright White",null,null,null,"61 Parchment",null,null," 91 Slate Grey",null,null,null,null,null,null,null,null,null,null,null,null,null,null,null,null,null,null,null,null,null,null,null,null,null,"X"]
[null,null,null,null,"23 Antique White",null,null,"45 Raven",null,null,null,"66 Chestnut Brown",null,null," 93 Fossil",null,null,null,null,null,null,null,null,null,null,null,null,null,null,null,null,null,null,null,null,null,null,null,null,null,"X"]
[null,null,null,null,"24 Natural Grey",null,null,"46 Quarry Red",null,null,null,"67 Autumn Green",null,null," 94 Walnut",null,null,null,null,null,null,null,null,null,null,null,null,null,null,null,null,null,null,null,null,null,null,null,null,null,"X"]
[null,null,null,null,"27 Hemp",null,null,"52 Toasted Almond",null,null,null,"78 Sterling Silver",null,null," 95 Mink",null,null,null,null,null,null,null,null,null,null,null,null,null,null,null,null,null,null,null,null,null,null,null,null,null,"X"]
[null,null,null,null,"30 Sand Beige",null,null,"53 Twilight Blue",null,null,null,"81 Butter Cream",null,null," 96 Steamship",null,null,null,null,null,null,null,null,null,null,null,null,null,null,null,null,null,null,null,null,null,null,null,null,null,"X"]
[null,null,null,null,"34 Sandstone",null,null,"56 Desert Khaki",null,null,null,"85 Almond",null,null," 97 Iron",null,null,null,null,null,null,null,null,null,null,null,null,null,null,null,null,null,null,null,null,null,null,null,null,null,"X"]
["x",null,null,null,null,null,null,null,null,null,null,null,null,null,null,null,null,null,null,null,null,null,null,null,null,null,null,null,null,null,null,null,null,null,null,null,null,null,null,null,"X"]
[null,"Epoxy Grouts",null,null,"1 Gallon",null,"Pail",null,null,null,null,null,null,null,null,null,"Stock",null,{"$f":"IF(Suggested=\"Yes\",AA785,AG785)","v":218.65},"EA",{"$f":"+Instructions!$B$3","v":"I"},null,{"$f":"+Instructions!$C$22","v":0},{"$f":"ROUND($AA785*(1-W785)+0.004999,2)","v":218.65},null,"",218.65,{"$f":"+W785","v":0},{"$f":"+X785","v":218.65},{"$f":"(AG785-AC785)/AG785","v":0},null,3,{"$f":"SUM(AJ785:AL785)+AE785","v":218.65},null,null,{"$f":"ROUND(AC785/(1-VLOOKUP(AF785,Group,2,FALSE)),2)","v":218.65},{"$f":"IF(VLOOKUP(AF785,Group,5,FALSE)=\"YES\",VLOOKUP(ROUND(ROUND(AJ785,1)-AJ785,2),Round,2,FALSE)+VLOOKUP(AF785,Group,6,FALSE),0)","v":0},{"$f":"IF(VLOOKUP(AF785,Group,7,FALSE)=\"\",0,ROUND(AJ785-0.04999,1)-AJ785+AM785)","v":0},{"$f":"IF(VLOOKUP(AF785,Group,7,FALSE)=\"\",\"\",VLOOKUP(AF785,Group,7,FALSE))","v":""},null,"X"]
[]
[null," ",null,"Color:","00 Translucent",null,null,null,null,null,null,null,null,null,null,null,null,null,null,null,null,null,null,null,null,null,null,null,null,null,null,null,null,null,null,null,null,null,null,null,"X"]
["x",null,null,null,null,null,null,null,null,null,null,null,null,null,null,null,null,null,null,null,null,null,null,null,null,null,null,null,null,null,null,null,null,null,null,null,null,null,null,null,"X"]
[null,"Epoxy Grouts",null,null,"1 Gallon",null,"Pail",null,null,null,null,null,null,null,null,null,"Stock",null,{"$f":"IF(Suggested=\"Yes\",AA789,AG789)","v":248.25},"EA",{"$f":"+Instructions!$B$3","v":"I"},null,{"$f":"+Instructions!$C$22","v":0},{"$f":"ROUND($AA789*(1-W789)+0.004999,2)","v":248.25},null,"",248.25,{"$f":"+W789","v":0},{"$f":"+X789","v":248.25},{"$f":"(AG789-AC789)/AG789","v":0},null,3,{"$f":"SUM(AJ789:AL789)+AE789","v":248.25},null,null,{"$f":"ROUND(AC789/(1-VLOOKUP(AF789,Group,2,FALSE)),2)","v":248.25},{"$f":"IF(VLOOKUP(AF789,Group,5,FALSE)=\"YES\",VLOOKUP(ROUND(ROUND(AJ789,1)-AJ789,2),Round,2,FALSE)+VLOOKUP(AF789,Group,6,FALSE),0)","v":0},{"$f":"IF(VLOOKUP(AF789,Group,7,FALSE)=\"\",0,ROUND(AJ789-0.04999,1)-AJ789+AM789)","v":0},{"$f":"IF(VLOOKUP(AF789,Group,7,FALSE)=\"\",\"\",VLOOKUP(AF789,Group,7,FALSE))","v":""},null,"X"]
[null,null,null,null,null,null,null,null,null,null,null,null,null,null,null,null,null,null,null,null,null,null,null,null,null,null,null,null,null,null,null,null,null,null,null,null,null,null,null,null,"X"]
[null,null,null,null,null,null,"Approximate Square Foot Coverage per 1 Gallon Pail",null,null,null,null,null,null,null,null,null,null,null,null,null,null,null,null,null,null,null,null,null,null,null,null,null,null,null,null,null,null,null,null,null,"X"]
[null,null,null,null,null,null,"TILE SIZE",null,null,null,"JOINT WIDTH",null,null,null,null,null,null,null,null,null,null,null,null,null,null,null,null,null,null,null,null,null,null,null,null,null,null,null,null,null,"X"]
[null,null,null,null,null,null,null,null,null,null,"1/16\"","1/8\"","1/4\"","3/8\"",null,null,null,null,null,null,null,null,null,null,null,null,null,null,null,null,null,null,null,null,null,null,null,null,null,null,"X"]
[null,null,null,null,null,null,"1 x 1 x 1/4\"",null,null,null,53,27,15,11,null,null,null,null,null,null,null,null,null,null,null,null,null,null,null,null,null,null,null,null,null,null,null,null,null,null,"X"]
[null,null,null,null,null,null,"2 x 2 x 1/4\"",null,null,null,104,53,27,19,null,null,null,null,null,null,null,null,null,null,null,null,null,null,null,null,null,null,null,null,null,null,null,null,null,null,"X"]
[null,null,null,null,null,null,"3 x 6 x 5/16\"",null,null,null,168,86,45,31,null,null,null,null," ",null,null,null,null,null,null,null,null,null,null,null,null,null,null,null,null,null,null,null,null,null,"X"]
[null,null,null,null,null,null,"4-1/4 x 4-1/4 x 5/16\"",null,null,null,176,89,45,30,null,null,null,null," ",null,null,null,null,null,null,null,null,null,null,null,null,null,null,null,null,null,null,null,null,null,"X"]
[null,null,null,null,null,null,"4 x 24 x 3/8\"",null,null,null,238,121,62,43,null,null,null,null,null,null,null,null,null,null,null,null,null,null,null,null,null,null,null,null,null,null,null,null,null,null,"X"]
[null,null,null,null,null,null,"6 x 24 x 3/8\"",null,null,null,332,168,86,58,null,null,null,null,null,null,null,null,null,null,null,null,null,null,null,null,null,null,null,null,null,null,null,null,null,null,"X"]
[null,null,null,null,null,null,"12 x 24 x 3/8\"",null,null,null,551,277,140,95,null,null,null,null,null,null,null,null,null,null,null,null,null,null,null,null,null,null,null,null,null,null,null,null,null,null,"X"]
[null,null,null,null,null,null,"24 x 24 x 3/8\"",null,null,null,822,412,206,138,null,null,null,null,null,null,null,null,null,null,null,null,null,null,null,null,null,null,null,null,null,null,null,null,null,null,"X"]
[null,null,null,null,null,null,"12 x 36 x 3/8\"",null,null,null,619,311,158,106,null,null,null,null,null,null,null,null,null,null,null,null,null,null,null,null,null,null,null,null,null,null,null,null,null,null,"X"]
["x",null,null,null,null,null,null,null,null,null,null,null,null,null,null,null,null,null,null,null,null,null,null,null,null,null,null,null,null,null,null,null,null,null,null,null,null,null,null,null,"X"]
[null,null,null,"Notes:","SpectraLOCK 1 is a patent pending, pre-mixed, stain proof grout with epoxy performance offering superior strength, fastest cure time,",null,null,null,null,null,null,null,null,null,null,null,null,null,null,null,null,null,null,null,null,null,null,null,null,null,null,null,null,null,null,null,null,null,null,null,"X"]
[null,null,null,null,"and the ability to be submerged. While meeting the standards of ANSI A118.3.",null,null,null,null,null,null,null,null,null,null,null,null,null,null,null,null,null,null,null,null,null,null,null,null,null,null,null,null,null,null,null,null,null,null,null,"X"]
[null,null,null,null,null,null,null,null,null,null,null,null,null,null,null,null,null,null,null,null,null,null,null,null,null,null,null,null,null,null,null,null,null,null,null,null,null,null,null,null,"X"]
[null,null,null,"SpectraLOCK 2000 IG (Industrial Grout)",null,null,null,null,null,null,null,null,null,null,null,null,null,"Item # Lookup:","LT2000",null,null,null,null,null,null,null,null,null,null,null,null,null,null,null,null,null,null,null,null,null,"X"]
[]
[null,"Epoxy Grouts",null,null,"#2 Unit",null,"Pail",null,"Grey",null,null,null,null,null,null,null,null,null,{"$f":"IF(Suggested=\"Yes\",AA809,AG809)","v":627.65},"EA",{"$f":"+Instructions!$B$3","v":"I"},null,{"$f":"+Instructions!$C$22","v":0},{"$f":"ROUND($AA809*(1-W809)+0.004999,2)","v":627.65},null,"",627.65,{"$f":"+W809","v":0},{"$f":"+X809","v":627.65},{"$f":"(AG809-AC809)/AG809","v":0},null,3,{"$f":"SUM(AJ809:AL809)+AE809","v":627.65},null,null,{"$f":"ROUND(AC809/(1-VLOOKUP(AF809,Group,2,FALSE)),2)","v":627.65},{"$f":"IF(VLOOKUP(AF809,Group,5,FALSE)=\"YES\",VLOOKUP(ROUND(ROUND(AJ809,1)-AJ809,2),Round,2,FALSE)+VLOOKUP(AF809,Group,6,FALSE),0)","v":0},{"$f":"IF(VLOOKUP(AF809,Group,7,FALSE)=\"\",0,ROUND(AJ809-0.04999,1)-AJ809+AM809)","v":0},{"$f":"IF(VLOOKUP(AF809,Group,7,FALSE)=\"\",\"\",VLOOKUP(AF809,Group,7,FALSE))","v":""},null,"X"]
[null,"Epoxy Grouts",null,null,"#2 Unit",null,"Pail",null,"Black",null,null,null,null,null,null,null,null,null,{"$f":"IF(Suggested=\"Yes\",AA810,AG810)","v":627.65},"EA",{"$f":"+Instructions!$B$3","v":"I"},null,{"$f":"+Instructions!$C$22","v":0},{"$f":"ROUND($AA810*(1-W810)+0.004999,2)","v":627.65},null,"",627.65,{"$f":"+W810","v":0},{"$f":"+X810","v":627.65},{"$f":"(AG810-AC810)/AG810","v":0},null,3,{"$f":"SUM(AJ810:AL810)+AE810","v":627.65},null,null,{"$f":"ROUND(AC810/(1-VLOOKUP(AF810,Group,2,FALSE)),2)","v":627.65},{"$f":"IF(VLOOKUP(AF810,Group,5,FALSE)=\"YES\",VLOOKUP(ROUND(ROUND(AJ810,1)-AJ810,2),Round,2,FALSE)+VLOOKUP(AF810,Group,6,FALSE),0)","v":0},{"$f":"IF(VLOOKUP(AF810,Group,7,FALSE)=\"\",0,ROUND(AJ810-0.04999,1)-AJ810+AM810)","v":0},{"$f":"IF(VLOOKUP(AF810,Group,7,FALSE)=\"\",\"\",VLOOKUP(AF810,Group,7,FALSE))","v":""},null,"X"]
["x",null,null,null,null,null,null,null,null,null,null,null,null,null,null,null,null,null,null,null,null,null,null,null,null,null,null,null,null,null,null,null,null,null,null,null,null,null,null,null,"X"]
[null,null,null,"SpectraLOCK 2000 IG (Industrial Grout) Liquid Only",null,null,null,null,null,null,null,null,null,null,null,null,null,"Item # Lookup:","LT2000",null,null,null,null,null,null,null,null,null,null,null,null,null,null,null,null,null,null,null,null,null,"X"]
[]
[null,"Epoxy Grouts",null,null,"#2 Unit",null,"Pail",null,null,null,null,null,null,null,null,null,null,"a",{"$f":"IF(Suggested=\"Yes\",AA814,AG814)","v":470},"EA",{"$f":"+Instructions!$B$3","v":"I"},null,{"$f":"+Instructions!$C$22","v":0},{"$f":"ROUND($AA814*(1-W814)+0.004999,2)","v":470},null,"",470,{"$f":"+W814","v":0},{"$f":"+X814","v":470},{"$f":"(AG814-AC814)/AG814","v":0},null,3,{"$f":"SUM(AJ814:AL814)+AE814","v":470},null,null,{"$f":"ROUND(AC814/(1-VLOOKUP(AF814,Group,2,FALSE)),2)","v":470},{"$f":"IF(VLOOKUP(AF814,Group,5,FALSE)=\"YES\",VLOOKUP(ROUND(ROUND(AJ814,1)-AJ814,2),Round,2,FALSE)+VLOOKUP(AF814,Group,6,FALSE),0)","v":0},{"$f":"IF(VLOOKUP(AF814,Group,7,FALSE)=\"\",0,ROUND(AJ814-0.04999,1)-AJ814+AM814)","v":0},{"$f":"IF(VLOOKUP(AF814,Group,7,FALSE)=\"\",\"\",VLOOKUP(AF814,Group,7,FALSE))","v":""},null,"X"]
[null,"Epoxy Grouts",null,null,"#4 Unit",null,"Carton",null,null,null,null,null,null,null,null,null,"Stock","a",{"$f":"IF(Suggested=\"Yes\",AA815,AG815)","v":781},"EA",{"$f":"+Instructions!$B$3","v":"I"},null,{"$f":"+Instructions!$C$22","v":0},{"$f":"ROUND($AA815*(1-W815)+0.004999,2)","v":781},null,"",781,{"$f":"+W815","v":0},{"$f":"+X815","v":781},{"$f":"(AG815-AC815)/AG815","v":0},null,3,{"$f":"SUM(AJ815:AL815)+AE815","v":781},null,null,{"$f":"ROUND(AC815/(1-VLOOKUP(AF815,Group,2,FALSE)),2)","v":781},{"$f":"IF(VLOOKUP(AF815,Group,5,FALSE)=\"YES\",VLOOKUP(ROUND(ROUND(AJ815,1)-AJ815,2),Round,2,FALSE)+VLOOKUP(AF815,Group,6,FALSE),0)","v":0},{"$f":"IF(VLOOKUP(AF815,Group,7,FALSE)=\"\",0,ROUND(AJ815-0.04999,1)-AJ815+AM815)","v":0},{"$f":"IF(VLOOKUP(AF815,Group,7,FALSE)=\"\",\"\",VLOOKUP(AF815,Group,7,FALSE))","v":""},null,"X"]
["x",null,null,null,null,null,null,null,null,null,null,null,null,null,null,null,null,null,null,null,null,null,null,null,null,null,null,null,null,null,null,null,null,null,null,null,null,null,null,null,"X"]
[null,null,null,"Notes:","Three-part, 100% solids epoxy grout specifically formulated for maximum chemical, stain & temperature resistance.  Non-sag formula is ",null,null,null,null,null,null,null,null,null,null,null,null,null,null,null,null,null,null,null,null,null,null,null,null,null,null,null,null,null,null,null,null,null,null,null,"X"]
[null,null,null,null,"easy to install & clean.  Recommended for industrial & commercial food processing applications as well as dairies, breweries, meat packing",null,null,null,null,null,null,null,null,null,null,null,null,null,null,null,null,null,null,null,null,null,null,null,null,null,null,null,null,null,null,null,null,null,null,null,"X"]
[null,null,null,null,"plants, Clean-In-Place rooms, veterinary hospitals, kennels & commercial kitchens.  Laticrete SpectraLOCK 2000 IG is unaffected by many",null,null,null,null,null,null,null,null,null,null,null,null,null,null,null,null,null,null,null,null,null,null,null,null,null,null,null,null,null,null,null,null,null,null,null,"X"]
[null,null,null,null,"acids, corrosives & solvents.  Easy to clean & fast curing.  Ideal for same day installations & ready for traffic in as little as 12 hours.",null,null,null,null,null,null,null,null,null,null,null,null,null,null,null,null,null,null,null,null,null,null,null,null,null,null,null,null,null,null,null,null,null,null,null,"X"]
[null,null,null,null,"a) Must be mixed on jobsite.  Can be used with all Laticrete grout colors except #44 Bright White.  Use Laticrete SpectraLOCK ",null,null,null,null,null,null,null,null,null,null,null,null,null,null,null,null,null,null,null,null,null,null,null,null,null,null,null,null,null,null,null,null,null,null,null,"X"]
[null,null,null,null,"Grout Part C Powders.  Each #2 Unit requires 2 Laticrete SpectraLOCK Grout Full Unit Part C Powders.  Each #4 Unit requires 4 each ",null,null,null,null,null,null,null,null,null,null,null,null,null,null,null,null,null,null,null,null,null,null,null,null,null,null,null,null,null,null,null,null,null,null,null,"X"]
[null,null,null,null,"Laticrete SpectraLOCK Grout Full Unit Part C Powders. ",null,null,null,null,null,null,null,null,null,null,null,null,null,null,null,null,null,null,null,null,null,null,null,null,null,null,null,null,null,null,null,null,null,null,null,"X"]
[]
[null," ",null,null,null,null,null,null,"Approximate Square Foot Coverage per #2 Unit",null,null,null,null,null,null,null,null,null,null,null,null,null,null,null,null,null,null,null,null,null,null,null,null,null,null,null,null,null,null,null,"X"]
[null," ",null," ",null,null,null,null,"TILE SIZE",null,null,"JOINT WIDTH",null,null,null," ",null,null,null,null,null,null,null,null,null,null,null,null,null,null,null,null,null,null,null,null,null,null,null,null,"X"]
[null,null,null,null,null,null,null,null,null,null,null,"1/4\"","3/8\"","1/2\"",null,null,null,null,null,null,null,null,null,null,null,null,null,null,null,null,null,null,null,null,null,null,null,null,null,null,"X"]
[null,null," ",null,null,null,null,null,"4 x 8 x 1-3/16\"",null,null,29,19,15,null,null," ",null,null,null,null,null,null,null,null,null,null,null,null,null,null,null,null,null,null,null,null,null,null,null,"X"]
[null,null,null,null,null,null,null,null,"6 x 6 x 1/2\"",null,null,77,52,39,null,null,null,null,null,null,null,null,null,null,null,null,null,null,null,null,null,null,null,null,null,null,null,null,null,null,"X"]
[null,null,null,null,null,null,null,null,null,null,null,null,null,null,null,null,null,null,null,null,null,null,null,null,null,null,null,null,null,null,null,null,null,null,null,null,null,null,null,null,"X"]
[null,null,"CAULKS/SEALANTS",null,null,null,null,null,null,null,null,null,null,null,null,null,null,null,null,null,null,null,null,null,null,null,null,null,null,null,null,null,null,null,null,null,null,null,null,null,"X"]
[]
[null,null,null,"6200 LATASIL",null,null,null,null,null,null,null,null,null,null,null,null,null,"Item # Lookup:","LT62",null,null,null,null,null,null,null,null,null,null,null,null,null,null,null,null,null,null,null,null,null,"X"]
[]
[null,null,null,"Colors:","00 Clear",null,null,"35 Mocha",null,null,null,"58 Terra Cotta",null,null,"  89 Smoke Grey",null,null,null,null,null,null,null,null,null,null,null,null,null,null,null,null,null,null,null,null,null,null,null,null,null,"X"]
[null,null,null,null,"03 Silk",null,null,"39 Mushroom",null,null,null,"59 Espresso",null,null,"  90 Light Pewter",null,null,null,null,null,null,null,null,null,null,null,null,null,null,null,null,null,null,null,null,null,null,null,null,null,"X"]
[null,null,null,null,"09 Frosty",null,null,"40 Latte",null,null,null,"60 Dusty Grey",null,null,"  91 Slate Grey",null,null,null,null,null,null,null,null,null,null,null,null,null,null,null,null,null,null,null,null,null,null,null,null,null,"X"]
[null,null,null,null,"17 Marble Beige",null,null,"42 Platinum",null,null,null,"61 Parchment",null,null,"  93 Fossil",null,null,null,null,null,null,null,null,null,null,null,null,null,null,null,null,null,null,null,null,null,null,null,null,null,"X"]
[null,null,null,null,"18 Sauterne",null,null,"44 Bright White",null,null,null,"66 Chestnut Brown",null,null,"  94 Walnut",null,null,null,null,null,null,null,null,null,null,null,null,null,null,null,null,null,null,null,null,null,null,null,null,null,"X"]
[null,null,null,null,"22 Midnight Black",null,null,"45 Raven",null,null,null,"67 Autumn Green",null,null,"  95 Mink",null,null,null,null,null,null,null,null,null,null,null,null,null,null,null,null,null,null,null,null,null,null,null,null,null,"X"]
[null,null,null,null,"23 Antique White",null,null,"46 Quarry Red",null,null,null,"78 Sterling Silver",null,null,"  96 Steamship",null,null,null,null,null,null,null,null,null,null,null,null,null,null,null,null,null,null,null,null,null,null,null,null,null,"X"]
[null,null,null,null,"24 Natural Grey",null,null,"52 Toasted Almond",null,null,null,"81 Butter Cream",null,null,"  97 Iron",null,null,null,null,null,null,null,null,null,null,null,null,null,null,null,null,null,null,null,null,null,null,null,null,null,"X"]
[null,null,null,null,"27 Hemp",null,null,"53 Twilight Blue",null,null,null,"85 Almond",null,null,null,null,null,null,null,null,null,null,null,null,null,null,null,null,null,null,null,null,null,null,null,null,null,null,null,null,"X"]
[null,null,null,null,"30 Sand Beige",null,null,"56 Desert Khaki",null,null,null,"87 Stormy Grey",null,null,null,null,null,null,null,null,null,null,null,null,null,null,null,null,null,null,null,null,null,null,null,null,null,null,null,null,"X"]
[null,null,null,null,"34 Sandstone",null,null,"57 Hot Cocoa",null,null,null,"88 Silver Shadow",null,null,null,null,null,null,null,null,null,null,null,null,null,null,null,null,null,null,null,null,null,null,null,null,null,null,null,null,"X"]
["x",null,null,null,null,null,null,null,null,null,null,null,null,null,null,null,null,null,null,null,null,null,null,null,null,null,null,null,null,null,null,null,null,null,null,null,null,null,null,null,"X"]
[null,"Other Items",null,null,"10.3 oz",null,"Tube",null,null,null,null,null,null,null,null,null,"Stock",null,{"$f":"IF(Suggested=\"Yes\",AA847,AG847)","v":41.9},"EA",{"$f":"+Instructions!$B$3","v":"I"},null,{"$f":"+Instructions!$C$22","v":0},{"$f":"ROUND($AA847*(1-W847)+0.004999,2)","v":41.9},null,"",41.9,{"$f":"+W847","v":0},{"$f":"+X847","v":41.9},{"$f":"(AG847-AC847)/AG847","v":0},null,7,{"$f":"SUM(AJ847:AL847)+AE847","v":41.9},null,null,{"$f":"ROUND(AC847/(1-VLOOKUP(AF847,Group,2,FALSE)),2)","v":41.9},{"$f":"IF(VLOOKUP(AF847,Group,5,FALSE)=\"YES\",VLOOKUP(ROUND(ROUND(AJ847,1)-AJ847,2),Round,2,FALSE)+VLOOKUP(AF847,Group,6,FALSE),0)","v":0},{"$f":"IF(VLOOKUP(AF847,Group,7,FALSE)=\"\",0,ROUND(AJ847-0.04999,1)-AJ847+AM847)","v":0},{"$f":"IF(VLOOKUP(AF847,Group,7,FALSE)=\"\",\"\",VLOOKUP(AF847,Group,7,FALSE))","v":""},null,"X"]
["x",null,null,null,null,null,null,null,null,null,null,null,null,null,null,null,null,null,null,null,null,null,null,null,null,null,null,null,null,null,null,null,null,null,null,null,null,null,null,null,"X"]
[null,null,null,"Notes:","High performance silicone sealant designed for use in coves, corners, changes in plane & expansion joints in exterior & interior applications ",null,null,null,null,null,null,null,null,null,null,null,null,null,null,null,null,null,null,null,null,null,null,null,null,null,null,null,null,null,null,null,null,null,null,null,"X"]
[null,null,null,null,"of tile & stone.  Can be used in swimming pools & other wet area applications.  Inhibits the growth of stain-causing mold & mildew in sealant ",null,null,null,null,null,null,null,null,null,null,null,null,null,null,null,null,null,null,null,null,null,null,null,null,null,null,null,null,null,null,null,null,null,null,null,"X"]
[null,null,null,null,"joints with Microban antimicrobial product protection.     ",null,null,null,null,null,null,null,null,null,null,null,null,null,null,null,null,null,null,null,null,null,null,null,null,null,null,null,null,null,null,null,null,null,null,null,"X"]
["x",null,null,null,null,null,null,null,null,null,null,null,null,null,null,null,null,null,null,null,null,null,null,null,null,null,null,null,null,null,null,null,null,null,null,null,null,null,null,null,"X"]
[null,null,"continued on next page",null,null,null,null,null,null,null,null,null,null,null,null,null,null,null,null,null,null,null,null,null,null,null,null,null,null,null,null,null,null,null,null,null,null,null,null,null,"X"]
["x",null,null,"6200 LATASIL - continued  ",null,null,null,null,null,null,null,null,null,null,null,null,null,"Item # Lookup:","LT62",null,null,null,null,null,null,null,null,null,null,null,null,null,null,null,null,null,null,null,null,null,"X"]
[null,null,null,null,null,null,null,null,null,null,null,null,null,null,null,null,null,null,null,null,null,null,null,null,null,null,null,null,null,null,null,null,null,null,null,null,null,null,null,null,"X"]
[null,null,null,null,null,null,"Approximate Coverage per Tube",null,null,null,null,null,null,null,null,null,null,null,null,null,null,null,null,null,null,null,null,null,null,null,null,null,null,null,null,null,null,null,null,null,"X"]
[null,null,null,null,null,null,"THICKNESS",null,null,null,null,"COVERAGE",null,null,null,null,null,null," ",null,null,null,null,null,null,null,null,null,null,null,null,null,null,null,null,null,null,null,null,null,"X"]
[null,null,null,null,null,null,"1/4\" x 1/4\"",null,null,null,null,"25 linear feet",null,null,null,null,null,null,null,null,null,null,null,null,null,null,null,null,null,null,null,null,null,null,null,null,null,null,null,null,"X"]
[null,null,null,null,null,null,"3/8\" x 3/8\"",null,null,null,null,"11 linear feet",null,null,null,null,null,null,null,null,null,null,null,null,null,null,null,null,null,null,null,null,null,null,null,null,null,null,null,null,"X"]
["x",null,null,null,null,null,null,null,null,null,null,null,null,null,null,null,null,null,null,null,null,null,null,null,null,null,null,null,null,null,null,null,null,null,null,null,null,null,null,null,"X"]
[null,null,null,"9118 LATASIL Primer",null,null,null,null,null,null,null,null,null,null,null,null,null,"Item # Lookup:","LT91188OZ",null,null,null,null,null,null,null,null,null,null,null,null,null,null,null,null,null,null,null,null,null,"X"]
[]
[null,"Other Items",null,null,"8 oz",null,"Bottle",null,null,null,null,null,null,null,null,"5 Bottles/CTN",null,null,{"$f":"IF(Suggested=\"Yes\",AA863,AG863)","v":108.35},"EA",{"$f":"+Instructions!$B$3","v":"I"},null,{"$f":"+Instructions!$C$22","v":0},{"$f":"ROUND($AA863*(1-W863)+0.004999,2)","v":108.35},null,"",108.35,{"$f":"+W863","v":0},{"$f":"+X863","v":108.35},{"$f":"(AG863-AC863)/AG863","v":0},null,7,{"$f":"SUM(AJ863:AL863)+AE863","v":108.35},null,null,{"$f":"ROUND(AC863/(1-VLOOKUP(AF863,Group,2,FALSE)),2)","v":108.35},{"$f":"IF(VLOOKUP(AF863,Group,5,FALSE)=\"YES\",VLOOKUP(ROUND(ROUND(AJ863,1)-AJ863,2),Round,2,FALSE)+VLOOKUP(AF863,Group,6,FALSE),0)","v":0},{"$f":"IF(VLOOKUP(AF863,Group,7,FALSE)=\"\",0,ROUND(AJ863-0.04999,1)-AJ863+AM863)","v":0},{"$f":"IF(VLOOKUP(AF863,Group,7,FALSE)=\"\",\"\",VLOOKUP(AF863,Group,7,FALSE))","v":""},null,"X"]
["x",null,null,null,null,null,null,null,null,null,null,null,null,null,null,null,null,null,null,null,null,null,null,null,null,null,null,null,null,null,null,null,null,null,null,null,null,null,null,null,"X"]
[null,null,null,"Notes:","Increases adhesion for porous stone, underwater and permanent wet area applications.",null,null,null,null,null,null,null,null,null,null,null,null,null,null,null,null,null,null,null,null,null,null,null,null,null,null,null,null,null,null,null,null,null,null,null,"X"]
[]
[null,null,null," ",null,null,"Approximate Coverage per Bottle",null,null,null,null,null,null,null,null,null,null,null,null,null,null,null,null,null,null,null,null,null,null,null,null,null,null,null,null,null,null,null,null,null,"X"]
[null,null,null,null,null,null,"THICKNESS",null,null,null,"COVERAGE","COVERAGE",null,null,null,null,null,null,null,null,null,null,null,null,null,null,null,null,null,null,null,null,null,null,null,null,null,null,null,null,"X"]
[null,null,null,null,null,null,"1/4\" x 1/4\"",null,null,null,null,"350 linear feet",null,null,null,null,null,null,null,null,null,null,null,null,null,null,null,null,null,null,null,null,null,null,null,null,null,null,null,null,"X"]
[null,null,null,null,null,null,"3/8\" x 3/8\"",null,null,null,null,"175 linear feet",null,null,null,null,null,null,null,null,null,null,null,null,null,null,null,null,null,null,null,null,null,null,null,null,null,null,null,null,"X"]
[]
[null,null,null,"7100/7200 PREMIUM ACRYLIC CAULK",null,null,null,null,null,null," ",null,null,null,null,null,null,"Item # Lookup:","LT7"]
[]
[null,null,null,"Colors:","03 Silk",null,null,"35 Mocha",null,null,null,"57 Hot Cocoa",null,null," 87 Stormy Grey"]
[null,null,null,null,"09 Frosty",null,null,"39 Mushroom",null,null,null,"58 Terra Cotta",null,null," 88 Silver Shadow"]
[null,null,null,null,"17 Marble Beige",null,null,"40 Latte",null,null,null,"59 Espresso",null,null," 89 Smoke Grey"]
[null,null,null,null,"18 Sauterne",null,null,"42 Platinum",null,null,null,"60 Dusty Grey",null,null," 90 Light Pewter",null,null," "]
[null,null,null,null,"22 Midnight Black",null,null,"44 Bright White",null,null,null,"61 Parchment",null,null," 91 Slate Grey"]
[null,null,null,null,"23 Antique White",null,null,"45 Raven",null,null,null,"66 Chestnut Brown",null,null," 93 Fossil"]
[null,null,null,null,"24 Natural Grey",null,null,"46 Quarry Red",null,null,null,"67 Autumn Green",null,null," 94 Walnut"]
[null,null,null,null,"27 Hemp",null,null,"52 Toasted Almond",null,null,null,"78 Sterling Silver",null,null," 95 Mink"]
[null,null,null,null,"30 Sand Beige",null,null,"53 Twilight Blue",null,null,null,"81 Butter Cream",null,null," 96 Steamship"]
[null,null,null,null,"34 Sandstone",null,null,"56 Desert Khaki",null,null,null,"85 Almond",null,null," 97 Iron"]
["x",null,null,null,null,null,null,null,null,null,null,null,null,null,null,null,null,null,null,null,null,null,null,null,null,null,null,null,null,null,null,null,null,null,null,null,null,null,null,null,"X"]
[null,"Other Items",null,null,"10.5 oz",null,"Tube",null,"7200 Sanded Caulk",null,null,null,null,null,null,null,"Stock",null,{"$f":"IF(Suggested=\"Yes\",AA885,AG885)","v":18.149999999999999},"EA",{"$f":"+Instructions!$B$3","v":"I"},null,{"$f":"+Instructions!$C$22","v":0},{"$f":"ROUND($AA885*(1-W885)+0.004999,2)","v":18.149999999999999},null,"",18.149999999999999,{"$f":"+W885","v":0},{"$f":"+X885","v":18.149999999999999},{"$f":"(AG885-AC885)/AG885","v":0},null,7,{"$f":"SUM(AJ885:AL885)+AE885","v":18.149999999999999},null,null,{"$f":"ROUND(AC885/(1-VLOOKUP(AF885,Group,2,FALSE)),2)","v":18.149999999999999},{"$f":"IF(VLOOKUP(AF885,Group,5,FALSE)=\"YES\",VLOOKUP(ROUND(ROUND(AJ885,1)-AJ885,2),Round,2,FALSE)+VLOOKUP(AF885,Group,6,FALSE),0)","v":0},{"$f":"IF(VLOOKUP(AF885,Group,7,FALSE)=\"\",0,ROUND(AJ885-0.04999,1)-AJ885+AM885)","v":0},{"$f":"IF(VLOOKUP(AF885,Group,7,FALSE)=\"\",\"\",VLOOKUP(AF885,Group,7,FALSE))","v":""},null,"X"]
[]
[null,null,null,"Colors:","09 Frosty",null,null,"24 Natural Grey",null,null,"      60 Dusty Grey",null,null,"     90 Light Pewter"]
[null,null,null,null,"17 Marble Beige",null,null,"35 Mocha",null,null,"      78 Sterling Silver",null,null,"     93 Fossil"]
[null,null,null,null,"18 Sauterne",null,null,"42 Platinum",null,null,"      87 Stormy Grey",null,null,"     95 Mink",null,null," "]
[null,null,null,null,"22 Midnight Black",null,null,"44 Bright White",null,null,"      88 Silver Shadow",null,null,"     96 Steamship",null,null,null," "]
[null,null,null,null,"23 Antique White",null,null,"45 Raven",null,null,"      89 Smoke Grey",null,null,null,null,null,null," "]
["x",null,null,null,null,null,null,null,null,null,null,null,null,null,null,null,null,null,null,null,null,null,null,null,null,null,null,null,null,null,null,null,null,null,null,null,null,null,null,null,"X"]
[null,"Other Items",null,null,"10.5 oz",null,"Tube",null,"7100 Unsanded Caulk",null,null,null,null," ",null,null,"Stock","a",{"$f":"IF(Suggested=\"Yes\",AA893,AG893)","v":18.149999999999999},"EA",{"$f":"+Instructions!$B$3","v":"I"},null,{"$f":"+Instructions!$C$22","v":0},{"$f":"ROUND($AA893*(1-W893)+0.004999,2)","v":18.149999999999999},null,"",18.149999999999999,{"$f":"+W893","v":0},{"$f":"+X893","v":18.149999999999999},{"$f":"(AG893-AC893)/AG893","v":0},null,7,{"$f":"SUM(AJ893:AL893)+AE893","v":18.149999999999999},null,null,{"$f":"ROUND(AC893/(1-VLOOKUP(AF893,Group,2,FALSE)),2)","v":18.149999999999999},{"$f":"IF(VLOOKUP(AF893,Group,5,FALSE)=\"YES\",VLOOKUP(ROUND(ROUND(AJ893,1)-AJ893,2),Round,2,FALSE)+VLOOKUP(AF893,Group,6,FALSE),0)","v":0},{"$f":"IF(VLOOKUP(AF893,Group,7,FALSE)=\"\",0,ROUND(AJ893-0.04999,1)-AJ893+AM893)","v":0},{"$f":"IF(VLOOKUP(AF893,Group,7,FALSE)=\"\",\"\",VLOOKUP(AF893,Group,7,FALSE))","v":""},null,"X"]
[]
[null,null,null,"Notes:","High performance siliconized acrylic latex sealant designed for interior applications for ceramic tile & stone.  It is ideal for a variety of ",null,null,null,null,null,null,null,null,null,null,null,null,null,null,null,null,null,null,null,null,null,null,null,null,null,null,null,null,null,null,null,null,null,null,null,"X"]
[null,null,null,null,"caulking applications in bathrooms, kitchens & floors.  Also resists staining, mold & mildew and cleans up easily with water."]
[null,null,null,null,"a) Not stocked in colors 09 Frosty, 87 Stormy Grey, 93 Fossil, 95 Mink and 96 Steamship."]
[]
[null,null,null,null,null,null,"Approximate Coverage per Tube"]
[null,null,null,null,null,null,"THICKNESS",null,null,null,null,"COVERAGE"]
[null,null,null,null,null,null,"1/4\" x 1/4\"",null,null,null,null,"25 linear feet"]
[]
[null,null,"UNDERLAYMENTS",null,null,null,null,null,null,null,null,null,null,null,null,null,null,null,null,null,null,null,null,null,null,null,null,null,null,null,null,null,null,null,null,null,null,null,null,null,"X"]
[]
[null,null,null,"900 NXT Level",null,null,null,null,null,null,null,null,null,null,null,null,null,"Item # Lookup:","LT0900G50LB",null,null,null,null,null,null,null,null,null,null,null,null,null,null,null,null,null,null,null,null,null,"X"]
[]
[null,"Underlayment",null,null,"50 lb",null,"Bag",null,"Grey",null,null,null,null,null,null,null,"Stock",null,{"$f":"IF(Suggested=\"Yes\",AA907,AG907)","v":66.650000000000006},"EA",{"$f":"+Instructions!$B$3","v":"I"},null,{"$f":"+Instructions!$C$22","v":0},{"$f":"ROUND($AA907*(1-W907)+0.004999,2)","v":66.650000000000006},null,"",66.650000000000006,{"$f":"+W907","v":0},{"$f":"+X907","v":66.650000000000006},{"$f":"(AG907-AC907)/AG907","v":0},null,6,{"$f":"SUM(AJ907:AL907)+AE907","v":66.650000000000006},null,null,{"$f":"ROUND(AC907/(1-VLOOKUP(AF907,Group,2,FALSE)),2)","v":66.650000000000006},{"$f":"IF(VLOOKUP(AF907,Group,5,FALSE)=\"YES\",VLOOKUP(ROUND(ROUND(AJ907,1)-AJ907,2),Round,2,FALSE)+VLOOKUP(AF907,Group,6,FALSE),0)","v":0},{"$f":"IF(VLOOKUP(AF907,Group,7,FALSE)=\"\",0,ROUND(AJ907-0.04999,1)-AJ907+AM907)","v":0},{"$f":"IF(VLOOKUP(AF907,Group,7,FALSE)=\"\",\"\",VLOOKUP(AF907,Group,7,FALSE))","v":""},null,"X"]
[]
[null,null,null,"Notes:","NXT LEVEL is a fire-rated, high-strength cement-based underlayment for use in leveling interior substrates.  NXT Level produces",null,null,null,null,null,null,null,null,null,null,null,null,null,null,null,null,null,null,null,null,null,null,null,null,null,null,null,null,null,null,null,null,null,null,null,"X"]
[null,null,null,null,"a flat, smooth & hard surface for the installation of finished flooring.  NXT Level can be placed from 1/8\" to 3\" in a single lift.  NXT"]
[null,null,null,null,"Level is UL-certified for fire resistance for up to 2-hours in fire-rated floor-to-ceiling assemblies."]
["x",null,null,null,null,null,null,null,null,null,null,null,null,null,null,null,null,null,null,null,null,null,null,null,null,null,null,null,null,null,null,null,null,null,null,null,null,null,null,null,"X"]
[null,null,null,null,null,null,"Approximate Coverage per 50 lb Bag",null,null,null,null,null,null,null,null,null,null,null,null,null,null,null,null,null,null,null,null,null,null,null,null,null,null,null,null,null,null,null,null,null,"X"]
[null,null,null,null,null,null,"THICKNESS",null,null,null,"COVERAGE",null,null,null,null,null,null,null,null,null,null,null,null,null,null,null,null,null,null,null,null,null,null,null,null,null,null,null,null,null,"X"]
[null,null,null,null,null,null,"1/8\"",null,null,null,"44 sq ft",null,null,null,null,null,null,null,null,null,null,null,null,null,null,null,null,null,null,null,null,null,null,null,null,null,null,null,null,null,"X"]
[null,null,null," ",null,null,"1/4\"",null,null,null,"22 sq ft",null,null,null,null,null,null,null,null,null,null,null,null,null,null,null,null,null,null,null,null,null,null,null,null,null,null,null,null,null,"X"]
[null,null,null,null,null,null,"1/2\"",null,null,null,"11 sq ft",null,null,null,null,null,null,null,null,null,null,null,null,null,null,null,null,null,null,null,null,null,null,null,null,null,null,null,null,null,"X"]
[null,null,null,null,null,null,"1\"",null,null,null,"5.5 sq ft",null,null,null,null,null,null,null,null,null,null,null,null,null,null,null,null,null,null,null,null,null,null,null,null,null,null,null,null,null,"X"]
[null,null,null,null,null,null,"2\"",null,null,null,"2.7 sq ft",null,null,null,null,null,null,null,null,null,null,null,null,null,null,null,null,null,null,null,null,null,null,null,null,null,null,null,null,null,"X"]
[null,null,null,null,null,null,"3\"",null,null,null,"1.9 sq ft",null,null,null,null,null,null,null,null,null,null,null,null,null,null,null,null,null,null,null,null,null,null,null,null,null,null,null,null,null,"X"]
[null,null,null,null,null,null,null,null,null,null,null,null,null,null,null,null,null,null,null,null,null,null,null,null,null,null,null,null,null,null,null,null,null,null,null,null,null,null,null,null,"X"]
[null,null,null,"903 NXT Level Flow",null,null," ",null," ",null,null,null,null,null,null,null,null,"Item # Lookup:","LT090350LB",null,null,null,null,null,null,null,null,null,null,null,null,null,null,null,null,null,null,null,null,null,"X"]
[]
[null,"Underlayment",null,null,"50 lb",null,"Bag",null,"Grey",null,null,null,null,null,null,null,"Stock",null,{"$f":"IF(Suggested=\"Yes\",AA924,AG924)","v":55.3},"EA",{"$f":"+Instructions!$B$3","v":"I"},null,{"$f":"+Instructions!$C$22","v":0},{"$f":"ROUND($AA924*(1-W924)+0.004999,2)","v":55.3},null,"",55.3,{"$f":"+W924","v":0},{"$f":"+X924","v":55.3},{"$f":"(AG924-AC924)/AG924","v":0},null,6,{"$f":"SUM(AJ924:AL924)+AE924","v":55.3},null,null,{"$f":"ROUND(AC924/(1-VLOOKUP(AF924,Group,2,FALSE)),2)","v":55.3},{"$f":"IF(VLOOKUP(AF924,Group,5,FALSE)=\"YES\",VLOOKUP(ROUND(ROUND(AJ924,1)-AJ924,2),Round,2,FALSE)+VLOOKUP(AF924,Group,6,FALSE),0)","v":0},{"$f":"IF(VLOOKUP(AF924,Group,7,FALSE)=\"\",0,ROUND(AJ924-0.04999,1)-AJ924+AM924)","v":0},{"$f":"IF(VLOOKUP(AF924,Group,7,FALSE)=\"\",\"\",VLOOKUP(AF924,Group,7,FALSE))","v":""},null,"X"]
[]
[null,null,null,"Notes:","NXT Level Flow is a fire-rated, high-flowing cement-based ,easy-to-use underlayment for use in leveling interior substrates.  NXT Level",null,null,null,null,null,null,null,null,null,null,null,null,null,null,null,null,null,null,null,null,null,null,null,null,null,null,null,null,null,null,null,null,null,null,null,"X"]
[null,null,null,null,"Flow produces a flat, smooth and hard surface for the installation of finished flooring after 48 hours.  NXT Level Flow is a UL-certified solution"]
[null,null,null,null,"for fire-rated construction, providing up to 2-hour fire resistance in floor-to-ceiling assemblies."]
["x",null,null,null,null,null,null,null,null,null,null,null,null,null,null,null,null,null,null,null,null,null,null,null,null,null,null,null,null,null,null,null,null,null,null,null,null,null,null,null,"X"]
[null,null,"continued on next page",null,null,null,null,null,null,null,null,null,null,null,null,null,null,null,null,null,null,null,null,null,null,null,null,null,null,null,null,null,null,null,null,null,null,null,null,null,"X"]
["x",null,null,"903 NXT Level Flow - continued  ",null,null,null,null,null,null,null,null,null,null,null,null,null,"Item # Lookup:","LT090350LB",null,null,null,null,null,null,null,null,null,null,null,null,null,null,null,null,null,null,null,null,null,"X"]
[]
[null,null,null,null,null,null,"Approximate Coverage per 50 lb Bag",null,null,null,null,null,null,null,null,null,null,null,null,null,null,null,null,null,null,null,null,null,null,null,null,null,null,null,null,null,null,null,null,null,"X"]
[null,null,null,null,null,null,"THICKNESS",null,null,null,"COVERAGE",null,null,null,null,null,null,null,null,null,null,null,null,null,null,null,null,null,null,null,null,null,null,null,null,null,null,null,null,null,"X"]
[null,null,null,null,null,null,"1/8\"",null,null,null,"44 sq ft",null,null,null,null,null,null,null,null,null,null,null,null,null,null,null,null,null,null,null,null,null,null,null,null,null,null,null,null,null,"X"]
[null,null,null,null,null,null,"3/16\"",null,null,null,"29.3 sq ft",null,null,null,null,null,null,null,null,null,null,null,null,null,null,null,null,null,null,null,null,null,null,null,null,null,null,null,null,null,"X"]
[null,null," ",null,null,null,"1/4\"",null,null,null,"22 sq ft",null,null,null,null,null,null,null,null,null,null,null,null,null,null,null,null,null,null,null,null,null,null,null,null,null,null,null,null,null,"X"]
[null,null,null,null,null,null,"5/16\"",null,null,null,"17.6 sq ft",null,null,null,null,null,null,null,null,null,null,null,null,null,null,null,null,null,null,null,null,null,null,null,null,null,null,null,null,null,"X"]
[null,null,null,null,null,null,"3/8\"",null,null,null,"14.7 sq ft",null,null,null,null,null,null,null,null,null,null,null,null,null,null,null,null,null,null,null,null,null,null,null,null,null,null,null,null,null,"X"]
[null,null,null,null,null,null,"7/16\"",null,null,null,"12.6 sq ft",null,null,null,null,null,null,null,null,null,null,null,null,null,null,null,null,null,null,null,null,null,null,null,null,null,null,null,null,null,"X"]
[null,null," ",null,null,null,"1/2\"",null,null,null,"11 sq ft",null,null,null,null,null,null,null,null,null,null,null,null,null,null,null,null,null,null,null,null,null,null,null,null,null,null,null,null,null,"X"]
[null,null,null,null,null,null,"9/16\"",null,null,null,"9.8 sq ft",null,null,null,null,null,null,null,null,null,null,null,null,null,null,null,null,null,null,null,null,null,null,null,null,null,null,null,null,null,"X"]
[null,null," ",null,null,null,"5/8\"",null,null,null,"8.8 sq ft",null,null,null,null,null,null,null,null,null,null,null,null,null,null,null,null,null,null,null,null,null,null,null,null,null,null,null,null,null,"X"]
[null,null,null," ",null,null,"11/16\"",null,null,null,"8 sq ft",null,null,null,null,null,null,null,null,null,null,null,null,null,null,null,null,null,null,null,null,null,null,null,null,null,null,null,null,null,"X"]
[null,null,null,null,null,null,"3/4\"",null,null,null,"7.3 sq ft",null,null,null,null,null,null,null,null,null,null,null,null,null,null,null,null,null,null,null,null,null,null,null,null,null,null,null,null,null,"X"]
[null,null,null,null,null,null,"13/16\"",null,null,null,"6.8 sq ft",null,null,null,null,null,null,null,null,null,null,null,null,null,null,null,null,null,null,null,null,null,null,null,null,null,null,null,null,null,"X"]
[null,null," ",null,null,null,"7/8\"",null,null,null,"6.3 sq ft",null,null,null,null,null,null,null,null,null,null,null,null,null,null,null,null,null,null,null,null,null,null,null,null,null,null,null,null,null,"X"]
[null,null,null,null,null,null,"15/16\"",null,null,null,"5.9 sq ft",null,null,null,null,null,null,null,null,null,null,null,null,null,null,null,null,null,null,null,null,null,null,null,null,null,null,null,null,null,"X"]
[null,null," ",null,null,null,"1\"",null,null,null,"5.5 sq ft",null,null,null,null,null,null,null,null,null,null,null,null,null,null,null,null,null,null,null,null,null,null,null,null,null,null,null,null,null,"X"]
[null,null,null,null,null,null,"2\"",null,null,null,"2.7 sq ft",null,null,null,null,null,null,null,null,null,null,null,null,null,null,null,null,null,null,null,null,null,null,null,null,null,null,null,null,null,"X"]
[null,null,null,null,null,null,null,null,null,null,null,null,null,null,null,null,null,null,null,null,null,null,null,null,null,null,null,null,null,null,null,null,null,null,null,null,null,null,null,null,"X"]
[null,null,null,"902 NXT Level Plus",null,null,null,null,null,null,null,null,null,null,null,null,null,"Item # Lookup:","LT0902G55LB",null,null,null,null,null,null,null,null,null,null,null,null,null,null,null,null,null,null,null,null,null,"X"]
[]
[null,"Underlayment",null,null,"55 lb",null,"Bag",null,"Grey",null,null,null,null,null,null,null,null,null,{"$f":"IF(Suggested=\"Yes\",AA954,AG954)","v":105.35},"EA",{"$f":"+Instructions!$B$3","v":"I"},null,{"$f":"+Instructions!$C$22","v":0},{"$f":"ROUND($AA954*(1-W954)+0.004999,2)","v":105.35},null,"",105.35,{"$f":"+W954","v":0},{"$f":"+X954","v":105.35},{"$f":"(AG954-AC954)/AG954","v":0},null,6,{"$f":"SUM(AJ954:AL954)+AE954","v":105.35},null,null,{"$f":"ROUND(AC954/(1-VLOOKUP(AF954,Group,2,FALSE)),2)","v":105.35},{"$f":"IF(VLOOKUP(AF954,Group,5,FALSE)=\"YES\",VLOOKUP(ROUND(ROUND(AJ954,1)-AJ954,2),Round,2,FALSE)+VLOOKUP(AF954,Group,6,FALSE),0)","v":0},{"$f":"IF(VLOOKUP(AF954,Group,7,FALSE)=\"\",0,ROUND(AJ954-0.04999,1)-AJ954+AM954)","v":0},{"$f":"IF(VLOOKUP(AF954,Group,7,FALSE)=\"\",\"\",VLOOKUP(AF954,Group,7,FALSE))","v":""},null,"X"]
[]
[null,null,null,"Notes:","NXT Level Plus is a high quality, cement-based, fiber reinforced, free-flowing underlayment for use in leveling interior Plywood/OSB, ",null,null,null,null,null,null,null,null,null,null,null,null,null,null,null,null,null,null,null,null,null,null,null,null,null,null,null,null,null,null,null,null,null,null,null,"X"]
[null,null,null,null,"Gypsum and Concrete substrates.  Rapid setting formula produces a flat, smooth and hard surface for the installation of finished flooring"]
[null,null,null,null,"after 12 hours.  NXT LEVEL PLUS is a Laticrete approved substitute for the discontinued Laticrete 86 LATILEVEL product. "]
[null,null,null,null,"REQUIRED:  Use Primer Plus, Prime-N-Bond or VAPOR BAN Primer ER.  Primer is not required when using NXT Level Plus over"]
[null,null,null,null,"STRATA_MAT or STRATA_HEAT Mat.",null,null,null,null,null,null,null,null,null,null,null,null,null,null,null,null,null,null,null,null,null,null,null,null,null,null,null,null,null,null,null,null,null,null,null,"X"]
[]
[null,null,null,null,null,null,"Approximate Coverage per 55 lb Bag",null,null,null,null,null,null,null,null,null,null,null,null,null,null,null,null,null,null,null,null,null,null,null,null,null,null,null,null,null,null,null,null,null,"X"]
[null,null,null,null,null,null,"THICKNESS",null,null,null,"COVERAGE",null,null,null,null,null,null,null,null,null,null,null,null,null,null,null,null,null,null,null,null,null,null,null,null,null,null,null,null,null,"X"]
[null,null,null,null,null,null,"1/8\"",null,null,null,"49 sq ft",null,null,null,null,null,null,null,null,null,null,null,null,null,null,null,null,null,null,null,null,null,null,null,null,null,null,null,null,null,"X"]
[null,null,null,null,null,null,"1/4\"",null,null,null,"24 sq ft",null,null,null,null,null,null,null,null,null,null,null,null,null,null,null,null,null,null,null,null,null,null,null,null,null,null,null,null,null,"X"]
[null,null," ",null,null,null,"1/2\"",null,null,null,"12 sq ft",null,null,null,null,null,null,null,null,null,null,null,null,null,null,null,null,null,null,null,null,null,null,null,null,null,null,null,null,null,"X"]
[null,null,null,null,null,null,"3/4\"",null,null,null,"8.1 sq ft",null,null,null,null,null,null,null,null,null,null,null,null,null,null,null,null,null,null,null,null,null,null,null,null,null,null,null,null,null,"X"]
[null,null," ",null,null,null,"1\"",null,null,null,"6.1 sq ft",null,null,null,null,null,null,null,null,null,null,null,null,null,null,null,null,null,null,null,null,null,null,null,null,null,null,null,null,null,"X"]
[null,null,null,null,null,null,"1-1/4\"",null,null,null,"4.9 sq ft",null,null,null,null,null,null,null,null,null,null,null,null,null,null,null,null,null,null,null,null,null,null,null,null,null,null,null,null,null,"X"]
[null,null,null,null,null,null,null,null,null,null,null,null,null,null,null,null,null,null,null,null,null,null,null,null,null,null,null,null,null,null,null,null,null,null,null,null,null,null,null,null,"X"]
[null,null,null,"919 NXT Level Plus Lite",null,null,null,null,null,null,null,null,null,null,null,null,null,"Item # Lookup:","LT0919G27LB",null,null,null,null,null,null,null,null,null,null,null,null,null,null,null,null,null,null,null,null,null,"X"]
[]
[null,"Underlayment",null,null,"27 lb",null,"Bag",null,"Grey",null,null,null,null,null,null,null,null,null,{"$f":"IF(Suggested=\"Yes\",AA973,AG973)","v":123.4},"EA",{"$f":"+Instructions!$B$3","v":"I"},null,{"$f":"+Instructions!$C$22","v":0},{"$f":"ROUND($AA973*(1-W973)+0.004999,2)","v":123.4},null,"",123.4,{"$f":"+W973","v":0},{"$f":"+X973","v":123.4},{"$f":"(AG973-AC973)/AG973","v":0},null,6,{"$f":"SUM(AJ973:AL973)+AE973","v":123.4},null,null,{"$f":"ROUND(AC973/(1-VLOOKUP(AF973,Group,2,FALSE)),2)","v":123.4},{"$f":"IF(VLOOKUP(AF973,Group,5,FALSE)=\"YES\",VLOOKUP(ROUND(ROUND(AJ973,1)-AJ973,2),Round,2,FALSE)+VLOOKUP(AF973,Group,6,FALSE),0)","v":0},{"$f":"IF(VLOOKUP(AF973,Group,7,FALSE)=\"\",0,ROUND(AJ973-0.04999,1)-AJ973+AM973)","v":0},{"$f":"IF(VLOOKUP(AF973,Group,7,FALSE)=\"\",\"\",VLOOKUP(AF973,Group,7,FALSE))","v":""},null,"X"]
[]
[null,null,null,"Notes:","NXT Level Plus Lite is a premium lightweight, fiber-reinforced, cement-based underlayment designed for leveling a variety of interior projects",null,null,null,null,null,null,null,null,null,null,null,null,null,null,null,null,null,null,null,null,null,null,null,null,null,null,null,null,null,null,null,null,null,null,null,"X"]
[null,null,null,null,"using concrete, plywood, OSB, or gypsum substrates prior to the application of floor coverings.  At nearly half the cured weight of a standard"]
[null,null,null,null,"self-leveling underlayment, it’s a great option for installations with load-bearing concerns.  NXT Level Plus Lite is 50% lighter in packaging weight"]
[null,null,null,null,"than traditional self-leveling underlayment products and contains no respirable crystalline silica levels that exceed the OSHA action level.  This"]
[null,null,null,null,"versatile, rapid-setting self-leveling underlayment is pump-friendly and pourable up to 4\" in depth.  NXT Level Plus Lite provides consistent results",null,null,null,null,null,null,null,null,null,null,null,null,null,null,null,null,null,null,null,null,null,null,null,null,null,null,null,null,null,null,null,null,null,null,null,"X"]
[null,null,null,null,"and produces a flat, smooth, and hard surface in as soon as 24 hours.",null,null,null,null,null,null,null,null,null,null,null,null,null,null,null,null,null,null,null,null,null,null,null,null,null,null,null,null,null,null,null,null,null,null,null,"X"]
[]
[null,null,null,null,null,null,"Approximate Coverage per 27 lb Bag",null,null,null,null,null,null,null,null,null,null,null,null,null,null,null,null,null,null,null,null,null,null,null,null,null,null,null,null,null,null,null,null,null,"X"]
[null,null,null,null,null,null,"THICKNESS",null,null,null,"COVERAGE",null,null,null,null,null,null,null,null,null,null,null,null,null,null,null,null,null,null,null,null,null,null,null,null,null,null,null,null,null,"X"]
[null,null,null,null,null,null,"1/8\"",null,null,null,"44 sq ft",null,null,null,null,null,null,null,null,null,null,null,null,null,null,null,null,null,null,null,null,null,null,null,null,null,null,null,null,null,"X"]
[null,null,null,null,null,null,"1/4\"",null,null,null,"22 sq ft",null,null,null,null,null,null,null,null,null,null,null,null,null,null,null,null,null,null,null,null,null,null,null,null,null,null,null,null,null,"X"]
[null,null," ",null,null,null,"1/2\"",null,null,null,"11 sq ft",null,null,null,null,null,null,null,null,null,null,null,null,null,null,null,null,null,null,null,null,null,null,null,null,null,null,null,null,null,"X"]
[null,null,null,null,null,null,"3/4\"",null,null,null,"7.3 sq ft",null,null,null,null,null,null,null,null,null,null,null,null,null,null,null,null,null,null,null,null,null,null,null,null,null,null,null,null,null,"X"]
[null,null," ",null,null,null,"1\"",null,null,null,"5.5 sq ft",null,null,null,null,null,null,null,null,null,null,null,null,null,null,null,null,null,null,null,null,null,null,null,null,null,null,null,null,null,"X"]
[null,null," ",null,null,null,"2\"",null,null,null,"2.7 sq ft",null,null,null,null,null,null,null,null,null,null,null,null,null,null,null,null,null,null,null,null,null,null,null,null,null,null,null,null,null,"X"]
[null,null,null,null,null,null,"3\"",null,null,null,"1.9 sq ft",null,null,null,null,null,null,null,null,null,null,null,null,null,null,null,null,null,null,null,null,null,null,null,null,null,null,null,null,null,"X"]
[null,null,null,null,null,null,"4\"",null,null,null,"1.4 sq ft",null,null,null,null,null,null,null,null,null,null,null,null,null,null,null,null,null,null,null,null,null,null,null,null,null,null,null,null,null,"X"]
[]
[null,null,null,"904 NXT Patch",null,null," ",null," ",null,null,null,null,null,null,null,null,"Item # Lookup:","LT090425LB",null,null,null,null,null,null,null,null,null,null,null,null,null,null,null,null,null,null,null,null,null,"X"]
[]
[null,"Underlayment",null,null,"25 lb",null,"Bag",null,"Grey",null,null,null,null,null,null,null,"Stock",null,{"$f":"IF(Suggested=\"Yes\",AA995,AG995)","v":47.35},"EA",{"$f":"+Instructions!$B$3","v":"I"},null,{"$f":"+Instructions!$C$22","v":0},{"$f":"ROUND($AA995*(1-W995)+0.004999,2)","v":47.35},null,"",47.35,{"$f":"+W995","v":0},{"$f":"+X995","v":47.35},{"$f":"(AG995-AC995)/AG995","v":0},null,6,{"$f":"SUM(AJ995:AL995)+AE995","v":47.35},null,null,{"$f":"ROUND(AC995/(1-VLOOKUP(AF995,Group,2,FALSE)),2)","v":47.35},{"$f":"IF(VLOOKUP(AF995,Group,5,FALSE)=\"YES\",VLOOKUP(ROUND(ROUND(AJ995,1)-AJ995,2),Round,2,FALSE)+VLOOKUP(AF995,Group,6,FALSE),0)","v":0},{"$f":"IF(VLOOKUP(AF995,Group,7,FALSE)=\"\",0,ROUND(AJ995-0.04999,1)-AJ995+AM995)","v":0},{"$f":"IF(VLOOKUP(AF995,Group,7,FALSE)=\"\",\"\",VLOOKUP(AF995,Group,7,FALSE))","v":""},null,"X"]
[]
[null,null,null,"Notes:","NXT PATCH is a premium quality, fast-drying underlayment patch designed for use over most substrates.  Cement based formula is ",null,null,null,null,null,null,null,null,null,null,null,null,null,null,null,null,null,null,null,null,null,null,null,null,null,null,null,null,null,null,null,null,null,null,null,"X"]
[null,null,null,null,"excellent for deep fills from 1/8\" to 1-1/2\" per lift.  "]
["x",null,null,null,null,null,null,null,null,null,null,null,null,null,null,null,null,null,null,null,null,null,null,null,null,null,null,null,null,null,null,null,null,null,null,null,null,null,null,null,"X"]
[null,null,null,null,null,null,"Approximate Coverage per 25 lb Bag",null,null,null,null,null,null,null,null,null,null,null,null,null,null,null,null,null,null,null,null,null,null,null,null,null,null,null,null,null,null,null,null,null,"X"]
[null,null,null,null,null,null,"THICKNESS",null,null,null,"COVERAGE",null,null,null,null,null,null,null,null,null,null,null,null,null,null,null,null,null,null,null,null,null,null,null,null,null,null,null,null,null,"X"]
[null,null,null,null,null,null,"1/8\"",null,null,null,"32.5 sq ft",null,null,null,null,null,null,null,null,null,null,null,null,null,null,null,null,null,null,null,null,null,null,null,null,null,null,null,null,null,"X"]
[null,null,null,null,null,null,"1/4\"",null,null,null,"16.3 sq ft",null,null,null,null,null,null,null,null,null,null,null,null,null,null,null,null,null,null,null,null,null,null,null,null,null,null,null,null,null,"X"]
[null,null,null,null,null,null,"1/2\"",null,null,null,"8.1 sq ft",null,null,null,null,null,null,null,null,null,null,null,null,null,null,null,null,null,null,null,null,null,null,null,null,null,null,null,null,null,"X"]
[null,null,null,null,null,null,"1\"",null,null,null,"4.1 sq ft",null,null,null,null,null,null,null,null,null,null,null,null,null,null,null,null,null,null,null,null,null,null,null,null,null,null,null,null,null,"X"]
[null,null,null,null,null,null,"1-1/2\"",null,null,null,"2.7 sq ft",null,null,null,null,null,null,null,null,null,null,null,null,null,null,null,null,null,null,null,null,null,null,null,null,null,null,null,null,null,"X"]
[null,null,null,null,null,null,null,null,null,null,null,null,null,null,null,null,null,null,null,null,null,null,null,null,null,null,null,null,null,null,null,null,null,null,null,null,null,null,null,null,"X"]
[null,null," ","918 NXT Skim Lite",null,null,null,null," ",null,null,null,null,null,null,null,null,"Item # Lookup:","LT0918G8LB",null,null,null,null,null,null,null,null,null,null,null,null,null,null,null,null,null,null,null,null,null,"X"]
[]
[null,"Underlayment",null,null,"8 lb",null,"Bag",null,"Grey",null,null,null,null,null,null,null,"Stock",null,{"$f":"IF(Suggested=\"Yes\",AA1010,AG1010)","v":40.25},"EA",{"$f":"+Instructions!$B$3","v":"I"},null,{"$f":"+Instructions!$C$22","v":0},{"$f":"ROUND($AA1010*(1-W1010)+0.004999,2)","v":40.25},null,"",40.25,{"$f":"+W1010","v":0},{"$f":"+X1010","v":40.25},{"$f":"(AG1010-AC1010)/AG1010","v":0},null,6,{"$f":"SUM(AJ1010:AL1010)+AE1010","v":40.25},null,null,{"$f":"ROUND(AC1010/(1-VLOOKUP(AF1010,Group,2,FALSE)),2)","v":40.25},{"$f":"IF(VLOOKUP(AF1010,Group,5,FALSE)=\"YES\",VLOOKUP(ROUND(ROUND(AJ1010,1)-AJ1010,2),Round,2,FALSE)+VLOOKUP(AF1010,Group,6,FALSE),0)","v":0},{"$f":"IF(VLOOKUP(AF1010,Group,7,FALSE)=\"\",0,ROUND(AJ1010-0.04999,1)-AJ1010+AM1010)","v":0},{"$f":"IF(VLOOKUP(AF1010,Group,7,FALSE)=\"\",\"\",VLOOKUP(AF1010,Group,7,FALSE))","v":""},null,"X"]
[]
[null,null,null,"Notes:","Skim Lite is a premium quality, fast-drying, polymer modified, cement-based underlayment designed for skim coating, smoothing and",null,null,null,null,null,null,null,null,null,null,null,null,null,null,null,null,null,null,null,null,null,null,null,null,null,null,null,null,null,null,null,null,null,null,null,"X"]
[null,null,null,null,"leveling prior to the application of floor coverings. "]
["x",null,null,null,null,null,null,null,null,null,null,null,null,null,null,null,null,null,null,null,null,null,null,null,null,null,null,null,null,null,null,null,null,null,null,null,null,null,null,null,"X"]
[null,null,null,null,null,null,"Approximate Coverage per 8 lb Bag",null,null,null,null,null,null,null,null,null,null,null,null,null,null,null,null,null,null,null,null,null,null,null,null,null,null,null,null,null,null,null,null,null,"X"]
[null,null,null,null,null,null,"Up to 380 sq ft from featheredge skim depth over smooth substrate",null,null,null,null,null,null,null,null,null,null,null,null,null,null,null,null,null,null,null,null,null,null,null,null,null,null,null,null,null,null,null,null,null,"X"]
[null,null,null,null,null,null,"Up to 190 sq ft from featheredge skim depth over rough substrate",null,null,null,null,null,null,null,null,null,null,null,null,null,null,null,null,null,null,null,null,null,null,null,null,null,null,null,null,null,null,null,null,null,"X"]
["x",null,null,null,null,null,null,null,null,null,null,null,null,null,null,null,null,null,null,null,null,null,null,null,null,null,null,null,null,null,null,null,null,null,null,null,null,null,null,null,"X"]
[]
[null,null,null,"907/908 NXT Level DL",null,null,null,null,null,null,null,null,null,null,null,null,null,"Item # Lookup:","LT090",null,null,null,null,null,null,null,null,null,null,null,null,null,null,null,null,null,null,null,null,null,"X"]
[]
[null,"Underlayment",null,null,"55 lb",null,"Bag",null,"Grey",null,null,null,null,null,null,null,null,null,{"$f":"IF(Suggested=\"Yes\",AA1022,AG1022)","v":122.65},"EA",{"$f":"+Instructions!$B$3","v":"I"},null,{"$f":"+Instructions!$C$22","v":0},{"$f":"ROUND($AA1022*(1-W1022)+0.004999,2)","v":122.65},null,"",122.65,{"$f":"+W1022","v":0},{"$f":"+X1022","v":122.65},{"$f":"(AG1022-AC1022)/AG1022","v":0},null,6,{"$f":"SUM(AJ1022:AL1022)+AE1022","v":122.65},null,null,{"$f":"ROUND(AC1022/(1-VLOOKUP(AF1022,Group,2,FALSE)),2)","v":122.65},{"$f":"IF(VLOOKUP(AF1022,Group,5,FALSE)=\"YES\",VLOOKUP(ROUND(ROUND(AJ1022,1)-AJ1022,2),Round,2,FALSE)+VLOOKUP(AF1022,Group,6,FALSE),0)","v":0},{"$f":"IF(VLOOKUP(AF1022,Group,7,FALSE)=\"\",0,ROUND(AJ1022-0.04999,1)-AJ1022+AM1022)","v":0},{"$f":"IF(VLOOKUP(AF1022,Group,7,FALSE)=\"\",\"\",VLOOKUP(AF1022,Group,7,FALSE))","v":""},null,"X"]
[null,"Underlayment",null,null,"55 lb",null,"Bag",null,"White",null,null,null,null,null,null,null,null,null,{"$f":"IF(Suggested=\"Yes\",AA1023,AG1023)","v":122.65},"EA",{"$f":"+Instructions!$B$3","v":"I"},null,{"$f":"+Instructions!$C$22","v":0},{"$f":"ROUND($AA1023*(1-W1023)+0.004999,2)","v":122.65},null,"",122.65,{"$f":"+W1023","v":0},{"$f":"+X1023","v":122.65},{"$f":"(AG1023-AC1023)/AG1023","v":0},null,6,{"$f":"SUM(AJ1023:AL1023)+AE1023","v":122.65},null,null,{"$f":"ROUND(AC1023/(1-VLOOKUP(AF1023,Group,2,FALSE)),2)","v":122.65},{"$f":"IF(VLOOKUP(AF1023,Group,5,FALSE)=\"YES\",VLOOKUP(ROUND(ROUND(AJ1023,1)-AJ1023,2),Round,2,FALSE)+VLOOKUP(AF1023,Group,6,FALSE),0)","v":0},{"$f":"IF(VLOOKUP(AF1023,Group,7,FALSE)=\"\",0,ROUND(AJ1023-0.04999,1)-AJ1023+AM1023)","v":0},{"$f":"IF(VLOOKUP(AF1023,Group,7,FALSE)=\"\",\"\",VLOOKUP(AF1023,Group,7,FALSE))","v":""},null,"X"]
[]
[null,null,null,"Notes:","PREMIUM WEAR SURFACE AND SELF-LEVELING UNDERLAYMENT – A cement-based, high quality, fast drying dual purpose ",null,null,null,null,null,null,null,null,null,null,null,null,null,null,null,null,null,null,null,null,null,null,null,null,null,null,null,null,null,null,null,null,null,null,null,"X"]
[null,null,null,null,"self-leveling underlayment/interior decorative wear surface topping.  For application over a wide variety of substrates including concrete,"]
[null,null,null,null,"VCT, and tile.  Can be placed from 1/16\" to 1-1/4\" (1.5 – 32 mm) in a single lift."]
[null,null,null,null,"REQUIRED:  Use Vapor Ban Primer ER or NXT Vapor Reduction Coating with every application of NXT LEVEL DL.  See TDS 230N",null,null,null,null,null,null,null,null,null,null,null,null,null,null,null,null,null,null,null,null,null,null,null,null,null,null,null,null,null,null,null,null,null,null,null,"X"]
[null,null,null,null,"NXT Substrate Preparation and Primer Guide for application instructions.",null,null,null,null,null,null,null,null,null,null,null,null,null,null,null,null,null,null,null,null,null,null,null,null,null,null,null,null,null,null,null,null,null,null,null,"X"]
[]
[null,null,null,null,null,null,"Nominal Thickness",null,null,null,"Approximate Coverage as a Wear Surface",null,null,"Approximate Coverage as an Underlayment",null,null,null,null,null,null,null,null,null,null,null,null,null,null,null,null,null,null,null,null,null,null,null,null,null,null,"X"]
[null,null,null,null,null,null,"1/16\"",null,null,null,"96 sq ft",null,null,"100 sq ft",null,null,null,null,null,null,null,null,null,null,null,null,null,null,null,null,null,null,null,null,null,null,null,null,null,null,"X"]
[null,null,null,null,null,null,"1/8\"",null,null,null,"48 sq ft",null,null,"50 sq ft",null,null,null,null,null,null,null,null,null,null,null,null,null,null,null,null,null,null,null,null,null,null,null,null,null,null,"X"]
[null,null,null,null,null,null,"1/4\"",null,null,null,"24 sq ft",null,null,"25 sq ft",null,null,null,null,null,null,null,null,null,null,null,null,null,null,null,null,null,null,null,null,null,null,null,null,null,null,"X"]
[null,null," ",null,null,null,"1/2\"",null,null,null,"12 sq ft",null,null,"12.5 sq ft",null,null,null,null,null,null,null,null,null,null,null,null,null,null,null,null,null,null,null,null,null,null,null,null,null,null,"X"]
[null,null,null,null,null,null,"3/4\"",null,null,null,"8 sq ft",null,null,"8.3 sq ft",null,null,null,null,null,null,null,null,null,null,null,null,null,null,null,null,null,null,null,null,null,null,null,null,null,null,"X"]
[null,null," ",null,null,null,"1\"",null,null,null,"6 sq ft",null,null,"6.3 sq ft",null,null,null,null,null,null,null,null,null,null,null,null,null,null,null,null,null,null,null,null,null,null,null,null,null,null,"X"]
[null,null,null,null,null,null,"1-1/4\"",null,null,null,"4.8 sq ft",null,null,"5 sq ft",null,null,null,null,null,null,null,null,null,null,null,null,null,null,null,null,null,null,null,null,null,null,null,null,null,null,"X"]
[]
[null,null,null,"960 NXT Level SP",null,null,null,null,null,null,null,null,null,null,null,null,null,"Item # Lookup:","LT960",null,null,null,null,null,null,null,null,null,null,null,null,null,null,null,null,null,null,null,null,null,"X"]
[]
[null,"Underlayment",null,null,"50 lb",null,"Bag",null,"Grey",null,null,null,null,null,null,null,null,null,{"$f":"IF(Suggested=\"Yes\",AA1042,AG1042)","v":116.7},"EA",{"$f":"+Instructions!$B$3","v":"I"},null,{"$f":"+Instructions!$C$22","v":0},{"$f":"ROUND($AA1042*(1-W1042)+0.004999,2)","v":116.7},null,"",116.7,{"$f":"+W1042","v":0},{"$f":"+X1042","v":116.7},{"$f":"(AG1042-AC1042)/AG1042","v":0},null,6,{"$f":"SUM(AJ1042:AL1042)+AE1042","v":116.7},null,null,{"$f":"ROUND(AC1042/(1-VLOOKUP(AF1042,Group,2,FALSE)),2)","v":116.7},{"$f":"IF(VLOOKUP(AF1042,Group,5,FALSE)=\"YES\",VLOOKUP(ROUND(ROUND(AJ1042,1)-AJ1042,2),Round,2,FALSE)+VLOOKUP(AF1042,Group,6,FALSE),0)","v":0},{"$f":"IF(VLOOKUP(AF1042,Group,7,FALSE)=\"\",0,ROUND(AJ1042-0.04999,1)-AJ1042+AM1042)","v":0},{"$f":"IF(VLOOKUP(AF1042,Group,7,FALSE)=\"\",\"\",VLOOKUP(AF1042,Group,7,FALSE))","v":""},null,"X"]
[null,"Underlayment",null,null,"50 lb",null,"Bag",null,"White",null,null,null,null,null,null,null,null,null,{"$f":"IF(Suggested=\"Yes\",AA1043,AG1043)","v":116.7},"EA",{"$f":"+Instructions!$B$3","v":"I"},null,{"$f":"+Instructions!$C$22","v":0},{"$f":"ROUND($AA1043*(1-W1043)+0.004999,2)","v":116.7},null,"",116.7,{"$f":"+W1043","v":0},{"$f":"+X1043","v":116.7},{"$f":"(AG1043-AC1043)/AG1043","v":0},null,6,{"$f":"SUM(AJ1043:AL1043)+AE1043","v":116.7},null,null,{"$f":"ROUND(AC1043/(1-VLOOKUP(AF1043,Group,2,FALSE)),2)","v":116.7},{"$f":"IF(VLOOKUP(AF1043,Group,5,FALSE)=\"YES\",VLOOKUP(ROUND(ROUND(AJ1043,1)-AJ1043,2),Round,2,FALSE)+VLOOKUP(AF1043,Group,6,FALSE),0)","v":0},{"$f":"IF(VLOOKUP(AF1043,Group,7,FALSE)=\"\",0,ROUND(AJ1043-0.04999,1)-AJ1043+AM1043)","v":0},{"$f":"IF(VLOOKUP(AF1043,Group,7,FALSE)=\"\",\"\",VLOOKUP(AF1043,Group,7,FALSE))","v":""},null,"X"]
[]
[null,null,null,"Notes:","NXT Level SP is a medium/coarse-sanded, pumpable and pourable, low alkali cement-based, premium self-leveling topping suitable as a high-strength",null,null,null,null,null,null,null,null,null,null,null,null,null,null,null,null,null,null,null,null,null,null,null,null,null,null,null,null,null,null,null,null,null,null,null,"X"]
[null,null,null,null,"wear surface or underlayment.  The product is based on a proprietary mineral binder system that is used to finish interior concrete and level uneven floor"]
[null,null,null,null,"surfaces.  Apply it over concrete and other types of sound substrates before polishing, installing coatings or other flooring systems.  Most floor covering"]
[null,null,null,null,"adhesives that are suitable for concrete can be used on LATICRETE NXT Level SP.",null,null,null,null,null,null,null,null,null,null,null,null,null,null,null,null,null,null,null,null,null,null,null,null,null,null,null,null,null,null,null,null,null,null,null,"X"]
[]
[null,null,null,null,null,null,"Nominal Thickness",null,null,null,"Approximate Coverage per 50 lb Bag",null,null,null,null,null,null,null,null,null,null,null,null,null,null,null,null,null,null,null,null,null,null,null,null,null,null,null,null,null,"X"]
[null,null,null,null,null,null,"1/4\"",null,null,null,"20 sq ft",null,null,null,null,null,null,null,null,null,null,null,null,null,null,null,null,null,null,null,null,null,null,null,null,null,null,null,null,null,"X"]
[null,null," ",null,null,null,"1/2\"",null,null,null,"10 sq ft",null,null,null,null,null,null,null,null,null,null,null,null,null,null,null,null,null,null,null,null,null,null,null,null,null,null,null,null,null,"X"]
[null,null,null,null,null,null,"3/4\"",null,null,null,"5.8 sq ft",null,null,null,null,null,null,null,null,null,null,null,null,null,null,null,null,null,null,null,null,null,null,null,null,null,null,null,null,null,"X"]
[null,null," ",null,null,null,"1\"",null,null,null,"4.7 sq ft",null,null,null,null,null,null,null,null,null,null,null,null,null,null,null,null,null,null,null,null,null,null,null,null,null,null,null,null,null,"X"]
[null,null,null,null,null,null,"2\"",null,null,null,"2.3 sq ft",null,null,null,null,null,null,null,null,null,null,null,null,null,null,null,null,null,null,null,null,null,null,null,null,null,null,null,null,null,"X"]
[]
[null,null,null,"921 Primer Plus",null,null,null,null," ",null,null,null,null,null,null,null,null,"Item # Lookup:","LT0921",null,null,null,null,null,null,null,null,null,null,null,null,null,null,null,null,null,null,null,null,null,"X"]
[]
[null,"Additives",null,null,"1 Gallon",null,"Jug",null,null,null,null,null,null,null,null,null,"Stock",null,{"$f":"IF(Suggested=\"Yes\",AA1059,AG1059)","v":151.65},"EA",{"$f":"+Instructions!$B$3","v":"I"},null,{"$f":"+Instructions!$C$22","v":0},{"$f":"ROUND($AA1059*(1-W1059)+0.004999,2)","v":151.65},null,"",151.65,{"$f":"+W1059","v":0},{"$f":"+X1059","v":151.65},{"$f":"(AG1059-AC1059)/AG1059","v":0},null,4,{"$f":"SUM(AJ1059:AL1059)+AE1059","v":151.65},null,null,{"$f":"ROUND(AC1059/(1-VLOOKUP(AF1059,Group,2,FALSE)),2)","v":151.65},{"$f":"IF(VLOOKUP(AF1059,Group,5,FALSE)=\"YES\",VLOOKUP(ROUND(ROUND(AJ1059,1)-AJ1059,2),Round,2,FALSE)+VLOOKUP(AF1059,Group,6,FALSE),0)","v":0},{"$f":"IF(VLOOKUP(AF1059,Group,7,FALSE)=\"\",0,ROUND(AJ1059-0.04999,1)-AJ1059+AM1059)","v":0},{"$f":"IF(VLOOKUP(AF1059,Group,7,FALSE)=\"\",\"\",VLOOKUP(AF1059,Group,7,FALSE))","v":""},null,"X"]
[null,"Additives",null,null,"5 Gallon",null,"Pail",null,null,null,null,null,null,null,null,null,null,null,{"$f":"IF(Suggested=\"Yes\",AA1060,AG1060)","v":641.6},"EA",{"$f":"+Instructions!$B$3","v":"I"},null,{"$f":"+Instructions!$C$22","v":0},{"$f":"ROUND($AA1060*(1-W1060)+0.004999,2)","v":641.6},null,"",641.6,{"$f":"+W1060","v":0},{"$f":"+X1060","v":641.6},{"$f":"(AG1060-AC1060)/AG1060","v":0},null,4,{"$f":"SUM(AJ1060:AL1060)+AE1060","v":641.6},null,null,{"$f":"ROUND(AC1060/(1-VLOOKUP(AF1060,Group,2,FALSE)),2)","v":641.6},{"$f":"IF(VLOOKUP(AF1060,Group,5,FALSE)=\"YES\",VLOOKUP(ROUND(ROUND(AJ1060,1)-AJ1060,2),Round,2,FALSE)+VLOOKUP(AF1060,Group,6,FALSE),0)","v":0},{"$f":"IF(VLOOKUP(AF1060,Group,7,FALSE)=\"\",0,ROUND(AJ1060-0.04999,1)-AJ1060+AM1060)","v":0},{"$f":"IF(VLOOKUP(AF1060,Group,7,FALSE)=\"\",\"\",VLOOKUP(AF1060,Group,7,FALSE))","v":""},null,"X"]
["x",null,null,null,null,null,null,null,null,null,null,null,null,null,null,null,null,null,null,null,null,null,null,null,null,null,null,null,null,null,null,null,null,null,null,null,null,null,null,null,"X"]
[null,null,null,null,"Dilution for Self-Leveling Underlayments",null,null,null,null,null,null,null,null,null,null,null,null,null,null,null,null,null,null,null,null,null,null,null,null,null,null,null,null,null,null,null,null,null,null,null,"X"]
[null,null,null,null,"Suitable Substrates",null,null,null,null,null,null,null,null,"Dilution Ratio per 1 Gal 1.",null,"Approximate Spread Rate per 1 Gal 2.",null,null,null,null,null,null,null,null,null,null,null,null,null,null,null,null,null,null,null,null,null,null,null,null,"X"]
[null,null,null,null,"Normal Suction:  Concrete / Wood",null,null,null,null,null,null,null,null,"1:3",null,"100 sq ft",null,null,null,null,null,null,null,null,null,null,null,null,null,null,null,null,null,null,null,null,null,null,null,null,"X"]
[null,null,null,null,"High-Suction:  Highly Porous Dry Concrete",null,null,null,null,null,null,null,null,"1st Coat:  1:5 2nd Coat:  1:3",null,"50 sq ft",null,null,null,null,null,null,null,null,null,null,null,null,null,null,null,null,null,null,null,null,null,null,null,null,"X"]
[null,null,null,null,"Non-Suction:  VAPOR BAN / Tile / Stone / Vinyl",null,null,null,null,null,null,null,null,"1:1 slurry",null,"100 sq ft",null,null,null,null,null,null,null,null,null,null,null,null,null,null,null,null,null,null,null,null,null,null,null,null,"X"]
[null,null,null,null,"Dilution for FRACTURE BAN peel and stick membrane substrates",null,null,null,null,null,null,null,null,"1:1",null,"100 sq ft",null,null,null,null,null,null,null,null,null,null,null,null,null,null,null,null,null,null,null,null,null,null,null,null,"X"]
[null,null,null,null,"1.  Dilution Ratio = Primer: Water",null,null,null,null,null,null,null,null,null,null,null,null,null,null,null,null,null,null,null,null,null,null,null,null,null,null,null,null,null,null,null,null,null,null,null,"X"]
[null,null,null,null,"2.  Approximate spread rate diluted with water.",null,null,null,null,null,null,null,null,null,null,null,null,null,null,null,null,null,null,null,null,null,null,null,null,null,null,null,null,null,null,null,null,null,null,null,"X"]
[null,null,null,null,null,null,null,null,null,null,null,null,null,null,null,null,null,null,null,null,null,null,null,null,null,null,null,null,null,null,null,null,null,null,null,null,null,null,null,null,"X"]
[null,null," ","911 Vapor Ban E",null,null,null,null,null,null,null,null,null,null,null,null,null,"Item # Lookup:","LT0911",null,null,null,null,null,null,null,null,null,null,null,null,null,null,null,null,null,null,null,null,null,"X"]
[]
[null,"Underlayment",null,null,"Mini Unit",null,"Steel Pail",null,null,"Part AB Liquids Kit",null,null,null,null,null,null,null,null,{"$f":"IF(Suggested=\"Yes\",AA1073,AG1073)","v":1362.7},"EA",{"$f":"+Instructions!$B$3","v":"I"},null,{"$f":"+Instructions!$C$22","v":0},{"$f":"ROUND($AA1073*(1-W1073)+0.004999,2)","v":1362.7},null,"",1362.7,{"$f":"+W1073","v":0},{"$f":"+X1073","v":1362.7},{"$f":"(AG1073-AC1073)/AG1073","v":0},null,6,{"$f":"SUM(AJ1073:AL1073)+AE1073","v":1362.7},null,null,{"$f":"ROUND(AC1073/(1-VLOOKUP(AF1073,Group,2,FALSE)),2)","v":1362.7},{"$f":"IF(VLOOKUP(AF1073,Group,5,FALSE)=\"YES\",VLOOKUP(ROUND(ROUND(AJ1073,1)-AJ1073,2),Round,2,FALSE)+VLOOKUP(AF1073,Group,6,FALSE),0)","v":0},{"$f":"IF(VLOOKUP(AF1073,Group,7,FALSE)=\"\",0,ROUND(AJ1073-0.04999,1)-AJ1073+AM1073)","v":0},{"$f":"IF(VLOOKUP(AF1073,Group,7,FALSE)=\"\",\"\",VLOOKUP(AF1073,Group,7,FALSE))","v":""},null,"X"]
[null,"Underlayment",null,null,"Full Unit",null,"Steel Pail",null,null,"Part AB Liquids Kit",null,null,null,null,null,null,null,null,{"$f":"IF(Suggested=\"Yes\",AA1074,AG1074)","v":2270.9499999999998},"EA",{"$f":"+Instructions!$B$3","v":"I"},null,{"$f":"+Instructions!$C$22","v":0},{"$f":"ROUND($AA1074*(1-W1074)+0.004999,2)","v":2270.9499999999998},null,"",2270.9499999999998,{"$f":"+W1074","v":0},{"$f":"+X1074","v":2270.9499999999998},{"$f":"(AG1074-AC1074)/AG1074","v":0},null,6,{"$f":"SUM(AJ1074:AL1074)+AE1074","v":2270.9499999999998},null,null,{"$f":"ROUND(AC1074/(1-VLOOKUP(AF1074,Group,2,FALSE)),2)","v":2270.9499999999998},{"$f":"IF(VLOOKUP(AF1074,Group,5,FALSE)=\"YES\",VLOOKUP(ROUND(ROUND(AJ1074,1)-AJ1074,2),Round,2,FALSE)+VLOOKUP(AF1074,Group,6,FALSE),0)","v":0},{"$f":"IF(VLOOKUP(AF1074,Group,7,FALSE)=\"\",0,ROUND(AJ1074-0.04999,1)-AJ1074+AM1074)","v":0},{"$f":"IF(VLOOKUP(AF1074,Group,7,FALSE)=\"\",\"\",VLOOKUP(AF1074,Group,7,FALSE))","v":""},null,"X"]
[null,null,null,null,null,null,null,null,null,null,null,null,null,null,null,null,null,null,null,null,null,null,null,null,null,null,null,null,null,null,null,null,null,null,null,null,null,null,null,null,"X"]
[null,null,null,"Notes:","A single-coat, 100% solids, liquid applied 2-part epoxy coating specifically designed for controlling the moisture vapor emission rate ",null,null,null,null,null,null,null,null,null,null,null,null,null,null,null,null,null,null,null,null,null,null,null,null,null,null,null,null,null,null,null,null,null,null,null,"X"]
[null,null,null,null,"from new or existing concrete slabs.  Protects moisture/pH sensitive floor coverings.  Mini Unit kit consists of Part A 1.8 gallons/Part B",null,null,null,null,null,null,null,null,null,null,null,null,null,null,null,null,null,null,null,null,null,null,null,null,null,null,null,null,null,null,null,null,null,null,null,"X"]
[null,null,null,null,"1.2 gallons and the Full Unit kit consists of Part A 3.3 gallons/Part B 2.5 gallons.  Approximate Coverage = 133 square foot per gallon.",null,null,null,null,null,null,null,null,null,null,null,null,null,null,null,null,null,null,null,null,null,null,null,null,null,null,null,null,null,null,null,null,null,null,null,"X"]
[null,null,null,null,null,null,null,null,null,null,null,null,null,null,null,null,null,null,null,null,null,null,null,null,null,null,null,null,null,null,null,null,null,null,null,null,null,null,null,null,"X"]
[null,null," ","912 Vapor Ban ER",null,null,null,null,null,null,null,null,null,null,null,null,null,"Item # Lookup:","LT0912",null,null,null,null,null,null,null,null,null,null,null,null,null,null,null,null,null,null,null,null,null,"X"]
[]
[null,"Underlayment",null,null,"Mini Unit",null,"Steel Pail",null,null,"Part AB Liquids Kit",null,null,null,null,null,null,null,null,{"$f":"IF(Suggested=\"Yes\",AA1082,AG1082)","v":1401.3},"EA",{"$f":"+Instructions!$B$3","v":"I"},null,{"$f":"+Instructions!$C$22","v":0},{"$f":"ROUND($AA1082*(1-W1082)+0.004999,2)","v":1401.3},null,"",1401.3,{"$f":"+W1082","v":0},{"$f":"+X1082","v":1401.3},{"$f":"(AG1082-AC1082)/AG1082","v":0},null,6,{"$f":"SUM(AJ1082:AL1082)+AE1082","v":1401.3},null,null,{"$f":"ROUND(AC1082/(1-VLOOKUP(AF1082,Group,2,FALSE)),2)","v":1401.3},{"$f":"IF(VLOOKUP(AF1082,Group,5,FALSE)=\"YES\",VLOOKUP(ROUND(ROUND(AJ1082,1)-AJ1082,2),Round,2,FALSE)+VLOOKUP(AF1082,Group,6,FALSE),0)","v":0},{"$f":"IF(VLOOKUP(AF1082,Group,7,FALSE)=\"\",0,ROUND(AJ1082-0.04999,1)-AJ1082+AM1082)","v":0},{"$f":"IF(VLOOKUP(AF1082,Group,7,FALSE)=\"\",\"\",VLOOKUP(AF1082,Group,7,FALSE))","v":""},null,"X"]
[null,null,null,null,null,null,null,null,null,null,null,null,null,null,null,null,null,null,null,null,null,null,null,null,null,null,null,null,null,null,null,null,null,null,null,null,null,null,null,null,"X"]
[null,null,null,"Notes:","A single-coat, 100% solids, rapid curing single-coat moisture vapor barrier designed for controlling the moisture vapor emission rate ",null,null,null,null,null,null,null,null,null,null,null,null,null,null,null,null,null,null,null,null,null,null,null,null,null,null,null,null,null,null,null,null,null,null,null,"X"]
[null,null,null,null,"from new or existing concrete slabs.  Mini Unit kit consists of Part A 1.8 gallons/Part B 1.2 gallons.",null,null,null,null,null,null,null,null,null,null,null,null,null,null,null,null,null,null,null,null,null,null,null,null,null,null,null,null,null,null,null,null,null,null,null,"X"]
[null,null,null,null,"Approximate Coverage = 100 square foot per gallon.",null,null,null,null,null,null,null,null,null,null,null,null,null,null,null,null,null,null,null,null,null,null,null,null,null,null,null,null,null,null,null,null,null,null,null,"X"]
[null,null,null,null,null,null,null,null,null,null,null,null,null,null,null,null,null,null,null,null,null,null,null,null,null,null,null,null,null,null,null,null,null,null,null,null,null,null,null,null,"X"]
[null,null," ","914 Vapor Ban Primer ER",null,null,null,null,null,null,null,null,null,null,null,null,null,"Item # Lookup:","LT0914",null,null,null,null,null,null,null,null,null,null,null,null,null,null,null,null,null,null,null,null,null,"X"]
[]
[null,"Underlayment",null,null,"Mini Unit",null,"Steel Pails",null,null,"Part AB Liquids Kit",null,null,null,null,null,null,null,null,{"$f":"IF(Suggested=\"Yes\",AA1090,AG1090)","v":1490.9},"EA",{"$f":"+Instructions!$B$3","v":"I"},null,{"$f":"+Instructions!$C$22","v":0},{"$f":"ROUND($AA1090*(1-W1090)+0.004999,2)","v":1490.9},null,"",1490.9,{"$f":"+W1090","v":0},{"$f":"+X1090","v":1490.9},{"$f":"(AG1090-AC1090)/AG1090","v":0},null,6,{"$f":"SUM(AJ1090:AL1090)+AE1090","v":1490.9},null,null,{"$f":"ROUND(AC1090/(1-VLOOKUP(AF1090,Group,2,FALSE)),2)","v":1490.9},{"$f":"IF(VLOOKUP(AF1090,Group,5,FALSE)=\"YES\",VLOOKUP(ROUND(ROUND(AJ1090,1)-AJ1090,2),Round,2,FALSE)+VLOOKUP(AF1090,Group,6,FALSE),0)","v":0},{"$f":"IF(VLOOKUP(AF1090,Group,7,FALSE)=\"\",0,ROUND(AJ1090-0.04999,1)-AJ1090+AM1090)","v":0},{"$f":"IF(VLOOKUP(AF1090,Group,7,FALSE)=\"\",\"\",VLOOKUP(AF1090,Group,7,FALSE))","v":""},null,"X"]
[null,null,null,null,null,null,null,null,null,null,null,null,null,null,null,null,null,null,null,null,null,null,null,null,null,null,null,null,null,null,null,null,null,null,null,null,null,null,null,null,"X"]
[null,null,null,"Notes:","A single-coat, 100% solids, liquid applied 2-part epoxy coating specifically designed for controlling the moisture vapor emission rate",null,null,null,null,null,null,null,null,null,null,null,null,null,null,null,null,null,null,null,null,null,null,null,null,null,null,null,null,null,null,null,null,null,null,null,"X"]
[null,null,null,null,"from new or existing concrete slabs.  It will also perform as a primer prior to installing NXT Level self-leveling underlayment.",null,null,null,null,null,null,null,null,null,null,null,null,null,null,null,null,null,null,null,null,null,null,null,null,null,null,null,null,null,null,null,null,null,null,null,"X"]
[null,null,null,null,"(The Vapor Ban Primer ER Mini Unit consists of: Part A = 1.8 Gal. Steel Pail & Part B = 1.2 Gal. Steel Pail.) ",null,null,null,null,null,null,null,null,null,null,null,null,null,null,null,null,null,null,null,null,null,null,null,null,null,null,null,null,null,null,null,null,null,null,null,"X"]
[null,null,null,null,null,null,null,null,null,null,null,null,null,null,null,null,null,null,null,null,null,null,null,null,null,null,null,null,null,null,null,null,null,null,null,null,null,null,null,null,"X"]
[null,null,null,null,null,null,"Approximate Coverage",null,null,null,null,null,null,null,null,null,null,null,null,null,null,null,null,null,null,null,null,null,null,null,null,null,null,null,null,null,null,null,null,null,"X"]
[null,null,null,null,null,null,"Vapor Permeanceμ",null,null,null,"MVER/RH",null,null,"mil thickness",null,"sq ft/gal",null,null,null,null,null,null,null,null,null,null,null,null,null,null,null,null,null,null,null,null,null,null,null,null,"X"]
[null,null,null,null,null,null,"0.094 grains/h/ft2/in Hg",null,null,null,"≤25 lbs (170 μg)/100%",null,null,16,null,100,null,null,null,null,null,null,null,null,null,null,null,null,null,null,null,null,null,null,null,null,null,null,null,null,"X"]
[null,null,null,null,null,null,null,null,null,null,null,null,null,null,null,null,null,null,null,null,null,null,null,null,null,null,null,null,null,null,null,null,null,null,null,null,null,null,null,null,"X"]
[null,null," ","915 Vapor Ban Primer W",null,null,null,null,null,null,null,null,null,null,null,null,null,"Item # Lookup:","LT0915",null,null,null,null,null,null,null,null,null,null,null,null,null,null,null,null,null,null,null,null,null,"X"]
[]
[null,"Underlayment",null,null,"5 Gallon",null,"Pail",null,null,null,null,null,null,null,null,null,null,null,{"$f":"IF(Suggested=\"Yes\",AA1102,AG1102)","v":614.45000000000005},"EA",{"$f":"+Instructions!$B$3","v":"I"},null,{"$f":"+Instructions!$C$22","v":0},{"$f":"ROUND($AA1102*(1-W1102)+0.004999,2)","v":614.45000000000005},null,"new",614.45000000000005,{"$f":"+W1102","v":0},{"$f":"+X1102","v":614.45000000000005},{"$f":"(AG1102-AC1102)/AG1102","v":0},null,6,{"$f":"SUM(AJ1102:AL1102)+AE1102","v":614.45000000000005},null,null,{"$f":"ROUND(AC1102/(1-VLOOKUP(AF1102,Group,2,FALSE)),2)","v":614.45000000000005},{"$f":"IF(VLOOKUP(AF1102,Group,5,FALSE)=\"YES\",VLOOKUP(ROUND(ROUND(AJ1102,1)-AJ1102,2),Round,2,FALSE)+VLOOKUP(AF1102,Group,6,FALSE),0)","v":0},{"$f":"IF(VLOOKUP(AF1102,Group,7,FALSE)=\"\",0,ROUND(AJ1102-0.04999,1)-AJ1102+AM1102)","v":0},{"$f":"IF(VLOOKUP(AF1102,Group,7,FALSE)=\"\",\"\",VLOOKUP(AF1102,Group,7,FALSE))","v":""},null,"X"]
[null,null,null,null,null,null,null,null,null,null,null,null,null,null,null,null,null,null,null,null,null,null,null,null,null,null,null,null,null,null,null,null,null,null,null,null,null,null,null,null,"X"]
[null,null,null,"Notes:","VAPOR BAN Primer W is a dual-coat, re-usable, liquid applied 1-part membrane specifically designed for controlling the moisture vapor",null,null,null,null,null,null,null,null,null,null,null,null,null,null,null,null,null,null,null,null,null,null,null,null,null,null,null,null,null,null,null,null,null,null,null,"X"]
[null,null,null,null,"emission rate from new or existing concrete slabs up to 100% RH.  VAPOR BAN Primer W will perform as a primer prior to installing NXT Level",null,null,null,null,null,null,null,null,null,null,null,null,null,null,null,null,null,null,null,null,null,null,null,null,null,null,null,null,null,null,null,null,null,null,null,"X"]
[null,null,null,null,"self-leveling underlayment.  Combining two steps into one.  Saving on material cost.",null,null,null,null,null,null,null,null,null,null,null,null,null,null,null,null,null,null,null,null,null,null,null,null,null,null,null,null,null,null,null,null,null,null,null,"X"]
[null,null,null,null,null,null,null,null,null,null,null,null,null,null,null,null,null,null,null,null,null,null,null,null,null,null,null,null,null,null,null,null,null,null,null,null,null,null,null,null,"X"]
[null,null,null,null,null,null,"Approximate Coverage",null,null,null,null,null,null,null,null,null,null,null,null,null,null,null,null,null,null,null,null,null,null,null,null,null,null,null,null,null,null,null,null,null,"X"]
[null,null,null,null,null,null,"Application",null,null,null,"Wet film mil",null,null,"Average Coverage\n(for both coats)",null,null,null,null,null,null,null,null,null,null,null,null,null,null,null,null,null,null,null,null,null,null,null,null,null,null,"X"]
[null,null,null,null,null,null,"1st coat",null,null,null,"8 to 10",null,null,"88 - 100 sq ft per Gallon",null,null,null,null,null,null,null,null,null,null,null,null,null,null,null,null,null,null,null,null,null,null,null,null,null,null,"X"]
[null,null,null,null,null,null,"2nd coat",null,null,null,"8 to 10",null,null,null,null,null,null,null,null,null,null,null,null,null,null,null,null,null,null,null,null,null,null,null,null,null,null,null,null,null,"X"]
[]
[null,null,null,"NXT Tool Kit",null,null," ",null," ",null,null,null,null,null,null,null,null,"Item # Lookup:","LTNXTTOOLKIT",null,null,null,null,null,null,null,null,null,null,null,null,null,null,null,null,null,null,null,null,null,"X"]
[]
[null,"Underlayment",null,null,"15 Gallon",null,"Barrel",null,null,"NXT Tool Kit",null,null,null,null,null,null,null,null,{"$f":"IF(Suggested=\"Yes\",AA1115,AG1115)","v":1094.3},"EA",{"$f":"+Instructions!$B$3","v":"I"},null,{"$f":"+Instructions!$C$22","v":0},{"$f":"ROUND($AA1115*(1-W1115)+0.004999,2)","v":1094.3},null,"",1094.3,{"$f":"+W1115","v":0},{"$f":"+X1115","v":1094.3},{"$f":"(AG1115-AC1115)/AG1115","v":0},null,6,{"$f":"SUM(AJ1115:AL1115)+AE1115","v":1094.3},null,null,{"$f":"ROUND(AC1115/(1-VLOOKUP(AF1115,Group,2,FALSE)),2)","v":1094.3},{"$f":"IF(VLOOKUP(AF1115,Group,5,FALSE)=\"YES\",VLOOKUP(ROUND(ROUND(AJ1115,1)-AJ1115,2),Round,2,FALSE)+VLOOKUP(AF1115,Group,6,FALSE),0)","v":0},{"$f":"IF(VLOOKUP(AF1115,Group,7,FALSE)=\"\",0,ROUND(AJ1115-0.04999,1)-AJ1115+AM1115)","v":0},{"$f":"IF(VLOOKUP(AF1115,Group,7,FALSE)=\"\",\"\",VLOOKUP(AF1115,Group,7,FALSE))","v":""},null,"X"]
[]
[null,null,null,"Notes:","Be ready to tackle any NXT self-leveling underlayment / overlayment application with this high quality tool kit.  Achieving smooth and",null,null,null,null,null,null,null,null,null,null,null,null,null,null,null,null,null,null,null,null,null,null,null,null,null,null,null,null,null,null,null,null,null,null,null,"X"]
[null,null,null,null,"consistent results on any project. Tool Kit includes:  15 gallon mixing barrel, Slip-in spiked shoe - size large, Gauge rake frame, Gauge "]
[null,null,null,null,"rake set, Spiked roller w/frame, Oval mixing paddle, Spreader smoother, 2 Qt. measuring container and 3 Piece pole."]
[]
[null,null,null,"NIVCOMP Digital Level",null,null,null,null," ",null,null,null,null,null,null,null,null,"Item # Lookup:","LTNIVCOMPDL",null,null,null,null,null,null,null,null,null,null,null,null,null,null,null,null,null,null,null,null,null,"X"]
[]
[null,"Underlayment",null,null,null,null,"Case",null,null,"NIVCOMP Digital Level",null,null,null,null,null,null,null,null,{"$f":"IF(Suggested=\"Yes\",AA1123,AG1123)","v":4364.6000000000004},"EA",{"$f":"+Instructions!$B$3","v":"I"},null,{"$f":"+Instructions!$C$22","v":0},{"$f":"ROUND($AA1123*(1-W1123)+0.004999,2)","v":4364.6000000000004},null,"",4364.6000000000004,{"$f":"+W1123","v":0},{"$f":"+X1123","v":4364.6000000000004},{"$f":"(AG1123-AC1123)/AG1123","v":0},null,6,{"$f":"SUM(AJ1123:AL1123)+AE1123","v":4364.6000000000004},null,null,{"$f":"ROUND(AC1123/(1-VLOOKUP(AF1123,Group,2,FALSE)),2)","v":4364.6000000000004},{"$f":"IF(VLOOKUP(AF1123,Group,5,FALSE)=\"YES\",VLOOKUP(ROUND(ROUND(AJ1123,1)-AJ1123,2),Round,2,FALSE)+VLOOKUP(AF1123,Group,6,FALSE),0)","v":0},{"$f":"IF(VLOOKUP(AF1123,Group,7,FALSE)=\"\",0,ROUND(AJ1123-0.04999,1)-AJ1123+AM1123)","v":0},{"$f":"IF(VLOOKUP(AF1123,Group,7,FALSE)=\"\",\"\",VLOOKUP(AF1123,Group,7,FALSE))","v":""},null,"X"]
[]
[null,null,null,"Notes:","Offers a range of advantages over traditional leveling equipment.  Comes in a rugged self-contained kit, easy to use hose reel - 157ft",null,null,null,null,null,null,null,null,null,null,null,null,null,null,null,null,null,null,null,null,null,null,null,null,null,null,null,null,null,null,null,null,null,null,null,"X"]
[null,null,null,null,"hose range is abrasion and crush resistant, works around corners - no line-of-sight required - accurate within +/- 2mm and measures"]
[null,null,null,null,"elevations vs. a reference \"zero\" benchmark."]
[]
[null,null,null,"ELEVATION Pins",null,null,null,null," ",null,null,null,null,null,null,null,null,"Item # Lookup:","LTELEVAPINS",null,null,null,null,null,null,null,null,null,null,null,null,null,null,null,null,null,null,null,null,null,"X"]
[]
[null,"Underlayment",null,null,null,null,"Case of 1000",null,null,"ELEVATION Pins",null,null,null,null,null,null,null,null,{"$f":"IF(Suggested=\"Yes\",AA1131,AG1131)","v":1356.95},"EA",{"$f":"+Instructions!$B$3","v":"I"},null,{"$f":"+Instructions!$C$22","v":0},{"$f":"ROUND($AA1131*(1-W1131)+0.004999,2)","v":1356.95},null,"",1356.95,{"$f":"+W1131","v":0},{"$f":"+X1131","v":1356.95},{"$f":"(AG1131-AC1131)/AG1131","v":0},null,6,{"$f":"SUM(AJ1131:AL1131)+AE1131","v":1356.95},null,null,{"$f":"ROUND(AC1131/(1-VLOOKUP(AF1131,Group,2,FALSE)),2)","v":1356.95},{"$f":"IF(VLOOKUP(AF1131,Group,5,FALSE)=\"YES\",VLOOKUP(ROUND(ROUND(AJ1131,1)-AJ1131,2),Round,2,FALSE)+VLOOKUP(AF1131,Group,6,FALSE),0)","v":0},{"$f":"IF(VLOOKUP(AF1131,Group,7,FALSE)=\"\",0,ROUND(AJ1131-0.04999,1)-AJ1131+AM1131)","v":0},{"$f":"IF(VLOOKUP(AF1131,Group,7,FALSE)=\"\",\"\",VLOOKUP(AF1131,Group,7,FALSE))","v":""},null,"X"]
[]
[null,null,null,"Notes:","Customizable pins to ensure your pour will be level.  Memory plastic snaps back - if bent, self-adhesive strips keeps pins in place,",null,null,null,null,null,null,null,null,null,null,null,null,null,null,null,null,null,null,null,null,null,null,null,null,null,null,null,null,null,null,null,null,null,null,null,"X"]
[null,null,null,null,"pour self-leveling underlayments to a specific accurate depth, indicator marks in both inches and millimeters, read the proper height"]
[null,null,null,null,"from the NIVCOMP Digital Level, cut the ELEVATION Pin to match, pin sticks to rough concrete."]
[]
[null,null,null,"PRO-KART",null,null,null,null," ",null,null,null,null,null,null,null,null,"Item # Lookup:","LT7319",null,null,null,null,null,null,null,null,null,null,null,null,null,null,null,null,null,null,null,null,null,"X"]
[]
[null,"Underlayment",null,null,"7319-KART-CR",null,null,null,null,"Pro-Mix Kart",null,null,null,null,null,null,null,null,{"$f":"IF(Suggested=\"Yes\",AA1139,AG1139)","v":1946.1},"EA",{"$f":"+Instructions!$B$3","v":"I"},null,{"$f":"+Instructions!$C$22","v":0},{"$f":"ROUND($AA1139*(1-W1139)+0.004999,2)","v":1946.1},null,"",1946.1,{"$f":"+W1139","v":0},{"$f":"+X1139","v":1946.1},{"$f":"(AG1139-AC1139)/AG1139","v":0},null,6,{"$f":"SUM(AJ1139:AL1139)+AE1139","v":1946.1},null,null,{"$f":"ROUND(AC1139/(1-VLOOKUP(AF1139,Group,2,FALSE)),2)","v":1946.1},{"$f":"IF(VLOOKUP(AF1139,Group,5,FALSE)=\"YES\",VLOOKUP(ROUND(ROUND(AJ1139,1)-AJ1139,2),Round,2,FALSE)+VLOOKUP(AF1139,Group,6,FALSE),0)","v":0},{"$f":"IF(VLOOKUP(AF1139,Group,7,FALSE)=\"\",0,ROUND(AJ1139-0.04999,1)-AJ1139+AM1139)","v":0},{"$f":"IF(VLOOKUP(AF1139,Group,7,FALSE)=\"\",\"\",VLOOKUP(AF1139,Group,7,FALSE))","v":""},null,"X"]
[]
[null,null,null,"Notes:","The Pro-Kart when paired with the Pro-Mix Station provides an ideal and safe solution to allow for continuous mixing, optimal placement,",null,null,null,null,null,null,null,null,null,null,null,null,null,null,null,null,null,null,null,null,null,null,null,null,null,null,null,null,null,null,null,null,null,null,null,"X"]
[null,null,null,null,"and reduced spillage.  Keep the job moving and let the Pro-Kart handle the delivery.  The Pro-Kart can be used with many LATICRETE"]
[null,null,null,null,"products, such as self-leveling underlayments, overlayments, and epoxy coatings."]
[]
[null,null,null,"PRO-MIX STATION",null,null,null,null," ",null,null,null,null,null,null,null,null,"Item # Lookup:","LT7319",null,null,null,null,null,null,null,null,null,null,null,null,null,null,null,null,null,null,null,null,null,"X"]
[]
[null,"Underlayment",null,null,"7319-MIXER-CR",null,null,null,null,"Pro-Mix Station",null,null,null,null,null,null,null,null,{"$f":"IF(Suggested=\"Yes\",AA1147,AG1147)","v":5110.1499999999996},"EA",{"$f":"+Instructions!$B$3","v":"I"},null,{"$f":"+Instructions!$C$22","v":0},{"$f":"ROUND($AA1147*(1-W1147)+0.004999,2)","v":5110.1499999999996},null,"",5110.1499999999996,{"$f":"+W1147","v":0},{"$f":"+X1147","v":5110.1499999999996},{"$f":"(AG1147-AC1147)/AG1147","v":0},null,6,{"$f":"SUM(AJ1147:AL1147)+AE1147","v":5110.1499999999996},null,null,{"$f":"ROUND(AC1147/(1-VLOOKUP(AF1147,Group,2,FALSE)),2)","v":5110.1499999999996},{"$f":"IF(VLOOKUP(AF1147,Group,5,FALSE)=\"YES\",VLOOKUP(ROUND(ROUND(AJ1147,1)-AJ1147,2),Round,2,FALSE)+VLOOKUP(AF1147,Group,6,FALSE),0)","v":0},{"$f":"IF(VLOOKUP(AF1147,Group,7,FALSE)=\"\",0,ROUND(AJ1147-0.04999,1)-AJ1147+AM1147)","v":0},{"$f":"IF(VLOOKUP(AF1147,Group,7,FALSE)=\"\",\"\",VLOOKUP(AF1147,Group,7,FALSE))","v":""},null,"X"]
[]
[null,null,null,"Notes:","As a pourable cart, the Pro-Mix Station contains the material, eliminates harmful dust, and provides combined batch consistency.  The  ",null,null,null,null,null,null,null,null,null,null,null,null,null,null,null,null,null,null,null,null,null,null,null,null,null,null,null,null,null,null,null,null,null,null,null,"X"]
[null,null,null,null,"removable drill allows for the mixing of tile/stone adhesive and repair mortars.  The Pro-Mix Station can be used with many Laticrete"]
[null,null,null,null,"products, such as self-leveling underlayments, overlayments, and epoxies.  3 bag capacity/14.5 amp/110 V drill/2-speed motor"]
[null,null,null,null,"with 0-250 abd 0-580 RPM/2 mixing paddles for high and low viscosity/Rotating caster wheels/Pourable and dust extractor/Steel frame."]
[null,null,null,null,null,null,null,null,null,null,null,null,null,null,null,null,null,null,null,null,null,null,null,null,null,null,null,null,null,null,null,null,null,null,null,null,null,null,null,null,"X"]
[null,null,null,"LINER for PRO-MIX STATION",null,null,null,null," ",null,null,null,null,null,null,null,null,"Item # Lookup:","LT7319",null,null,null,null,null,null,null,null,null,null,null,null,null,null,null,null,null,null,null,null,null,"X"]
[]
[null,"Underlayment",null,null,"7319-LINER-CR",null,null,null,null,"Replacement Liner for Pro-Mix Station",null,null,null,null,null,null,null,null,{"$f":"IF(Suggested=\"Yes\",AA1156,AG1156)","v":547.5},"EA",{"$f":"+Instructions!$B$3","v":"I"},null,{"$f":"+Instructions!$C$22","v":0},{"$f":"ROUND($AA1156*(1-W1156)+0.004999,2)","v":547.5},null,"",547.5,{"$f":"+W1156","v":0},{"$f":"+X1156","v":547.5},{"$f":"(AG1156-AC1156)/AG1156","v":0},null,6,{"$f":"SUM(AJ1156:AL1156)+AE1156","v":547.5},null,null,{"$f":"ROUND(AC1156/(1-VLOOKUP(AF1156,Group,2,FALSE)),2)","v":547.5},{"$f":"IF(VLOOKUP(AF1156,Group,5,FALSE)=\"YES\",VLOOKUP(ROUND(ROUND(AJ1156,1)-AJ1156,2),Round,2,FALSE)+VLOOKUP(AF1156,Group,6,FALSE),0)","v":0},{"$f":"IF(VLOOKUP(AF1156,Group,7,FALSE)=\"\",0,ROUND(AJ1156-0.04999,1)-AJ1156+AM1156)","v":0},{"$f":"IF(VLOOKUP(AF1156,Group,7,FALSE)=\"\",\"\",VLOOKUP(AF1156,Group,7,FALSE))","v":""},null,"X"]
[null,null,null,null,null,null,null,null,null,null,null,null,null,null,null,null,null,null,null,null,null,null,null,null,null,null,null,null,null,null,null,null,null,null,null,null,null,null,null,null,"X"]
[null,null,null,"177 Strata Mat - Uncoupling Membrane",null,null,null,null,null,null,null,null,null,null,null,null,null,"Item # Lookup:","LT0177",null,null,null,null,null,null,null,null,null,null,null,null,null,null,null,null,null,null,null,null,null,"X"]
[]
[null,"Other Items",null,null,"45\" x 86' ",null,"323 SF Roll",null,null,null,null,null,null,null,null,null,"Stock",null,{"$f":"IF(Suggested=\"Yes\",AA1160,AG1160)","v":800.95},"EA",{"$f":"+Instructions!$B$3","v":"I"},null,{"$f":"+Instructions!$C$22","v":0},{"$f":"ROUND($AA1160*(1-W1160)+0.004999,2)","v":800.95},null,"",800.95,{"$f":"+W1160","v":0},800.95,{"$f":"(AG1160-AC1160)/AG1160","v":0},null,7,{"$f":"SUM(AJ1160:AL1160)+AE1160","v":800.95},null,null,{"$f":"ROUND(AC1160/(1-VLOOKUP(AF1160,Group,2,FALSE)),2)","v":800.95},{"$f":"IF(VLOOKUP(AF1160,Group,5,FALSE)=\"YES\",VLOOKUP(ROUND(ROUND(AJ1160,1)-AJ1160,2),Round,2,FALSE)+VLOOKUP(AF1160,Group,6,FALSE),0)","v":0},{"$f":"IF(VLOOKUP(AF1160,Group,7,FALSE)=\"\",0,ROUND(AJ1160-0.04999,1)-AJ1160+AM1160)","v":0},{"$f":"IF(VLOOKUP(AF1160,Group,7,FALSE)=\"\",\"\",VLOOKUP(AF1160,Group,7,FALSE))","v":""},null,"X"]
[null,"Other Items",null," ","45\" x 40' ",null,"150 SF Roll",null,null,null,null,null,null,null,null,null,"Stock",null,{"$f":"IF(Suggested=\"Yes\",AA1161,AG1161)","v":442.95},"EA",{"$f":"+Instructions!$B$3","v":"I"},null,{"$f":"+Instructions!$C$22","v":0},{"$f":"ROUND($AA1161*(1-W1161)+0.004999,2)","v":442.95},null,"",442.95,0,442.95,{"$f":"(AG1161-AC1161)/AG1161","v":0},null,7,{"$f":"SUM(AJ1161:AL1161)+AE1161","v":442.95},null,null,{"$f":"ROUND(AC1161/(1-VLOOKUP(AF1161,Group,2,FALSE)),2)","v":442.95},{"$f":"IF(VLOOKUP(AF1161,Group,5,FALSE)=\"YES\",VLOOKUP(ROUND(ROUND(AJ1161,1)-AJ1161,2),Round,2,FALSE)+VLOOKUP(AF1161,Group,6,FALSE),0)","v":0},{"$f":"IF(VLOOKUP(AF1161,Group,7,FALSE)=\"\",0,ROUND(AJ1161-0.04999,1)-AJ1161+AM1161)","v":0},{"$f":"IF(VLOOKUP(AF1161,Group,7,FALSE)=\"\",\"\",VLOOKUP(AF1161,Group,7,FALSE))","v":""},null,"X"]
[null,"Other Items",null,null,"45\" x 14' 3\" ",null,"54 SF Roll",null,null,null,null,null,null,null,null,null,null,null,{"$f":"IF(Suggested=\"Yes\",AA1162,AG1162)","v":171.2},"EA",{"$f":"+Instructions!$B$3","v":"I"},null,{"$f":"+Instructions!$C$22","v":0},{"$f":"ROUND($AA1162*(1-W1162)+0.004999,2)","v":171.2},null,"",171.2,0,171.2,{"$f":"(AG1162-AC1162)/AG1162","v":0},null,8,{"$f":"SUM(AJ1162:AL1162)+AE1162","v":171.2},null,null,{"$f":"ROUND(AC1162/(1-VLOOKUP(AF1162,Group,2,FALSE)),2)","v":171.2},{"$f":"IF(VLOOKUP(AF1162,Group,5,FALSE)=\"YES\",VLOOKUP(ROUND(ROUND(AJ1162,1)-AJ1162,2),Round,2,FALSE)+VLOOKUP(AF1162,Group,6,FALSE),0)","v":0},{"$f":"IF(VLOOKUP(AF1162,Group,7,FALSE)=\"\",0,ROUND(AJ1162-0.04999,1)-AJ1162+AM1162)","v":0},{"$f":"IF(VLOOKUP(AF1162,Group,7,FALSE)=\"\",\"\",VLOOKUP(AF1162,Group,7,FALSE))","v":""},null,"X"]
[null,"Other Items",null,null,"45\" x 32\"",null,"10 SF Sheet",null,null,null,null,null,null,null,null,"10 Sheets/CTN",null,null,{"$f":"IF(Suggested=\"Yes\",AA1163,AG1163)","v":31.2},"EA",{"$f":"+Instructions!$B$3","v":"I"},null,{"$f":"+Instructions!$C$22","v":0},{"$f":"ROUND($AA1163*(1-W1163)+0.004999,2)","v":31.2},null,"",31.2,0,31.2,{"$f":"(AG1163-AC1163)/AG1163","v":0},null,8,{"$f":"SUM(AJ1163:AL1163)+AE1163","v":31.2},null,null,{"$f":"ROUND(AC1163/(1-VLOOKUP(AF1163,Group,2,FALSE)),2)","v":31.2},{"$f":"IF(VLOOKUP(AF1163,Group,5,FALSE)=\"YES\",VLOOKUP(ROUND(ROUND(AJ1163,1)-AJ1163,2),Round,2,FALSE)+VLOOKUP(AF1163,Group,6,FALSE),0)","v":0},{"$f":"IF(VLOOKUP(AF1163,Group,7,FALSE)=\"\",0,ROUND(AJ1163-0.04999,1)-AJ1163+AM1163)","v":0},{"$f":"IF(VLOOKUP(AF1163,Group,7,FALSE)=\"\",\"\",VLOOKUP(AF1163,Group,7,FALSE))","v":""},null,"X"]
["x",null,null,null,null,null,null,null,null,null,null,null,null,null,null,null,null,null,null,null,null,null,null,null,null,null,null,null,null,null,null,null,null,null,null,null,null,null,null,null,"X"]
[null,null,null,"Notes:","Laticrete Strata Mat is a next generation, high-performance uncoupling membrane for use under porcelain tile, ceramic tile & stone ",null,null,null,null,null,null,null,null,null,null,null,null,null,null,null,null,null,null,null,null,null,null,null,null,null,null,null,null,null,null,null,null,null,null,null,"X"]
[null,null,null,null,"installations for both commercial & residential projects.  It offers many benefits including an incredibly strong mechanical bond between ",null,null,null,null,null,null,null,null,null,null,null,null,null,null,null,null,null,null,null,null,null,null,null,null,null,null,null,null,null,null,null,null,null,null,null,"X"]
[null,null,null,null,"the mat & thin-set mortar.  Additionally, it helps accelerate the mortar's curing time, as it is constructed so that moisture within the mortar ",null,null,null,null,null,null,null,null,null,null,null,null,null,null,null,null,null,null,null,null,null,null,null,null,null,null,null,null,null,null,null,null,null,null,null,"X"]
[null,null,null,null,"will quickly dissipate.  STRATA MAT allows for usage with modified mortar, allowing the appropriate mortar to be used with porcelain tile.     ",null,null,null,null,null,null,null,null,null,null,null,null,null,null,null,null,null,null,null,null,null,null,null,null,null,null,null,null,null,null,null,null,null,null,null,"X"]
[]
[null,null,null,"177 Strata Mat XT - Uncoupling Membrane",null,null,null,null,null,null,null,null,null,null,null,null,null,"Item # Lookup:","LT0177XT",null,null,null,null,null,null,null,null,null,null,null,null,null,null,null,null,null,null,null,null,null,"X"]
[]
[null,"Other Items",null,null,"5/16\" x 45\" x 40' ",null,"150 SF Roll",null,null,null,null,null,null,null,null,null,"Stock",null,{"$f":"IF(Suggested=\"Yes\",AA1172,AG1172)","v":375.6},"EA",{"$f":"+Instructions!$B$3","v":"I"},null,{"$f":"+Instructions!$C$22","v":0},{"$f":"ROUND($AA1172*(1-W1172)+0.004999,2)","v":375.6},null,"",375.6,{"$f":"+W1172","v":0},{"$f":"+X1172","v":375.6},{"$f":"(AG1172-AC1172)/AG1172","v":0},null,8,{"$f":"SUM(AJ1172:AL1172)+AE1172","v":375.6},null,null,{"$f":"ROUND(AC1172/(1-VLOOKUP(AF1172,Group,2,FALSE)),2)","v":375.6},{"$f":"IF(VLOOKUP(AF1172,Group,5,FALSE)=\"YES\",VLOOKUP(ROUND(ROUND(AJ1172,1)-AJ1172,2),Round,2,FALSE)+VLOOKUP(AF1172,Group,6,FALSE),0)","v":0},{"$f":"IF(VLOOKUP(AF1172,Group,7,FALSE)=\"\",0,ROUND(AJ1172-0.04999,1)-AJ1172+AM1172)","v":0},{"$f":"IF(VLOOKUP(AF1172,Group,7,FALSE)=\"\",\"\",VLOOKUP(AF1172,Group,7,FALSE))","v":""},null,"X"]
["x",null,null,null,null,null,null,null,null,null,null,null,null,null,null,null,null,null,null,null,null,null,null,null,null,null,null,null,null,null,null,null,null,null,null,null,null,null,null,null,"X"]
[null,null,null,"Notes:","Strata Mat XT is designed specifically for ceramic tile & dimension stone installations serving as an uncoupling layer & vapor management ",null,null,null,null,null,null,null,null,null,null,null,null,null,null,null,null,null,null,null,null,null,null,null,null,null,null,null,null,null,null,null,null,null,null,null,"X"]
[null,null,null,null,"layer that accommodates moisture from beneath the tile covering.  Strata Mat XT performs all these functions while still providing the",null,null,null,null,null,null,null,null,null,null,null,null,null,null,null,null,null,null,null,null,null,null,null,null,null,null,null,null,null,null,null,null,null,null,null,"X"]
[null,null,null,null,"requisite support/load distribution for the tile and stone covering.  At 5/16\" thick Strata Mat XT helps to creates an even transition between",null,null,null,null,null,null,null,null,null,null,null,null,null,null,null,null,null,null,null,null,null,null,null,null,null,null,null,null,null,null,null,null,null,null,null,"X"]
[null,null,null,null,"typical ¼” to 3/8\" thick tile and 3/4\" thick hardwood flooring.  Strata Mat XT will provide a faster drying of the mortar, allowing for a shorter",null,null,null,null,null,null,null,null,null,null,null,null,null,null,null,null,null,null,null,null,null,null,null,null,null,null,null,null,null,null,null,null,null,null,null,"X"]
[null,null,null,null,"time to grout when using both modified or unmodified mortars allowing you to use the appropriate mortar for the installation.  ",null,null,null,null,null,null,null,null,null,null,null,null,null,null,null,null,null,null,null,null,null,null,null,null,null,null,null,null,null,null,null,null,null,null,null,"X"]
[]
[null,null,null,"PEDESTALS, PLAZA & DECK SYSTEM",null,null,null,null,null,null,null,null,null,null,null,null,null,null,null,null,null,null,null,null,null,null,null,null,null,null,null,null,null,null,null,null,null,null,null,null,"X"]
[]
[null,null,null,"9100 Tile Drain Mat",null,null,null,null,null,null,null,null,null,null,null,null,null,"Item # Lookup:","LT9100MAT",null,null,null,null,null,null,null,null,null,null,null,null,null,null,null,null,null,null,null,null,null,"X"]
[]
[null,"Other Items",null,null,"4' x 50'",null,"200 SF Roll",null,null,null,null,null,null,null,null,null,null,null,{"$f":"IF(Suggested=\"Yes\",AA1184,AG1184)","v":2560.75},"EA",{"$f":"+Instructions!$B$3","v":"I"},null,{"$f":"+Instructions!$C$22","v":0},{"$f":"ROUND($AA1184*(1-W1184)+0.004999,2)","v":2560.75},null,"",2560.75,{"$f":"+W1184","v":0},{"$f":"+X1184","v":2560.75},{"$f":"(AG1184-AC1184)/AG1184","v":0},null,7,{"$f":"SUM(AJ1184:AL1184)+AE1184","v":2560.75},null,null,{"$f":"ROUND(AC1184/(1-VLOOKUP(AF1184,Group,2,FALSE)),2)","v":2560.75},{"$f":"IF(VLOOKUP(AF1184,Group,5,FALSE)=\"YES\",VLOOKUP(ROUND(ROUND(AJ1184,1)-AJ1184,2),Round,2,FALSE)+VLOOKUP(AF1184,Group,6,FALSE),0)","v":0},{"$f":"IF(VLOOKUP(AF1184,Group,7,FALSE)=\"\",0,ROUND(AJ1184-0.04999,1)-AJ1184+AM1184)","v":0},{"$f":"IF(VLOOKUP(AF1184,Group,7,FALSE)=\"\",\"\",VLOOKUP(AF1184,Group,7,FALSE))","v":""},null,"X"]
["x",null,null,null,null,null,null,null,null,null,null,null,null,null,null,null,null,null,null,null,null,null,null,null,null,null,null,null,null,null,null,null,null,null,null,null,null,null,null,null,"X"]
[null,null,null,"Notes:","The Laticrete Tile Drain Mat is one component of the Laticrete Plaza & Deck Installation System.  Other required components are: Laticrete premium",null,null,null,null,null,null,null,null,null,null,null,null,null,null,null,null,null,null,null,null,null,null,null,null,null,null,null,null,null,null,null,null,null,null,null,"X"]
[null,null,null,null,"latex mortar bed, Laticrete 9235 Waterproofing Membrane, Laticrete premium latex thin-set mortar & Laticrete fortified grout.  Provides three times the",null,null,null,null,null,null,null,null,null,null,null,null,null,null,null," ",null,null,null,null,null,null,null,null,null,null,null,null,null,null,null,null,null,null,null,"X"]
[null,null,null,null,"drainage rate of a conventional 2\" crushed gravel bed, provides integral subsurface drainage for infiltrated water & reduces the potential for efflorescence.   ",null,null,null,null,null,null,null,null,null,null,null,null,null,null,null,null,null,null,null,null,null,null,null,null,null,null,null,null,null,null,null,null,null,null,null,"X"]
[]
[null,null,null,"NXT Pedestal Max",null,null,null,null,null,null,null,null,null,null,null,null,null,"Item # Lookup:","LTPD1",null,null,null,null,null,null,null,null,null,null,null,null,null,null,null,null,null,null,null,null,null,"X"]
[]
[null,"Other Items",null,null,"1-3/4\" to 5-3/4\"",null,"NXT Pedestal Max",null,null,null,null,null,null,null,null,"36 Each/Box",null,null,{"$f":"IF(Suggested=\"Yes\",AA1192,AG1192)","v":627.25},"BOX",{"$f":"+Instructions!$B$3","v":"I"},null,{"$f":"+Instructions!$C$22","v":0},{"$f":"ROUND($AA1192*(1-W1192)+0.004999,2)","v":627.25},null,"",627.25,{"$f":"+W1192","v":0},{"$f":"+X1192","v":627.25},{"$f":"(AG1192-AC1192)/AG1192","v":0},null,8,{"$f":"SUM(AJ1192:AL1192)+AE1192","v":627.25},null,null,{"$f":"ROUND(AC1192/(1-VLOOKUP(AF1192,Group,2,FALSE)),2)","v":627.25},{"$f":"IF(VLOOKUP(AF1192,Group,5,FALSE)=\"YES\",VLOOKUP(ROUND(ROUND(AJ1192,1)-AJ1192,2),Round,2,FALSE)+VLOOKUP(AF1192,Group,6,FALSE),0)","v":0},{"$f":"IF(VLOOKUP(AF1192,Group,7,FALSE)=\"\",0,ROUND(AJ1192-0.04999,1)-AJ1192+AM1192)","v":0},{"$f":"IF(VLOOKUP(AF1192,Group,7,FALSE)=\"\",\"\",VLOOKUP(AF1192,Group,7,FALSE))","v":""},null,"X"]
["x",null,null,null,null,null,null,null,null,null,null,null,null,null,null,null,null,null,null,null,null,null,null,null,null,null,null,null,null,null,null,null,null,null,null,null,null,null,null,null,"X"]
[null,null,null,"Notes:","The NXT Pedestal Max provides an adjustable, high-performance solution for creating stable, level surfaces for decking, pavers, and tile installations.",null,null,null,null,null,null,null,null,null,null,null,null,null,null,null,null,null,null,null,null,null,null,null,null,null,null,null,null,null,null,null,null,null,null,null,"X"]
[null,null,null,null,"Designed with triple-screw fine-tuning for precise height adjustments, this durable pedestal withstands up to 2,000 psi, making it ideal for high-traffic outdoor",null,null,null,null,null,null,null,null,null,null,null,null,null,null,null,null,null,null,null,null,null,null,null,null,null,null,null,null,null,null,null,null,null,null,null,"X"]
[null,null,null,null,"applications.  Its integrated drainage system and sound-dampening head pad enhance stability and comfort, ensuring long-lasting performance. ",null,null,null,null,null,null,null,null,null,null,null,null,null,null,null,null,null,null,null,null,null,null,null,null,null,null,null,null,null,null,null,null,null,null,null,"X"]
[]
[null,null,null,"NXT Pedestal Mini",null,null,null,null,null,null,null,null,null,null,null,null,null,"Item # Lookup:","LTPD1",null,null,null,null,null,null,null,null,null,null,null,null,null,null,null,null,null,null,null,null,null,"X"]
[]
[null,"Other Items",null,null,"3/4\" to 1-3/4\"",null,"NXT Pedestal Mini",null,null,null,null,null,null,null,null,"72 Each/Box",null,null,{"$f":"IF(Suggested=\"Yes\",AA1200,AG1200)","v":976.45},"BOX",{"$f":"+Instructions!$B$3","v":"I"},null,{"$f":"+Instructions!$C$22","v":0},{"$f":"ROUND($AA1200*(1-W1200)+0.004999,2)","v":976.45},null,"",976.45,{"$f":"+W1200","v":0},{"$f":"+X1200","v":976.45},{"$f":"(AG1200-AC1200)/AG1200","v":0},null,7,{"$f":"SUM(AJ1200:AL1200)+AE1200","v":976.45},null,null,{"$f":"ROUND(AC1200/(1-VLOOKUP(AF1200,Group,2,FALSE)),2)","v":976.45},{"$f":"IF(VLOOKUP(AF1200,Group,5,FALSE)=\"YES\",VLOOKUP(ROUND(ROUND(AJ1200,1)-AJ1200,2),Round,2,FALSE)+VLOOKUP(AF1200,Group,6,FALSE),0)","v":0},{"$f":"IF(VLOOKUP(AF1200,Group,7,FALSE)=\"\",0,ROUND(AJ1200-0.04999,1)-AJ1200+AM1200)","v":0},{"$f":"IF(VLOOKUP(AF1200,Group,7,FALSE)=\"\",\"\",VLOOKUP(AF1200,Group,7,FALSE))","v":""},null,"X"]
["x",null,null,null,null,null,null,null,null,null,null,null,null,null,null,null,null,null,null,null,null,null,null,null,null,null,null,null,null,null,null,null,null,null,null,null,null,null,null,null,"X"]
[null,null,null,"Notes:","The NXT Pedestal Mini is designed for low-profile raised paver and decking applications, offering adjustable heights from 3/4\" to 1-3/4\".  Its durable",null,null,null,null,null,null,null,null,null,null,null,null,null,null,null,null,null,null,null,null,null,null,null,null,null,null,null,null,null,null,null,null,null,null,null,"X"]
[null,null,null,null,"construction ensures a secure and stable foundation for outdoor surfaces, with built-in leveling capabilities to accommodate uneven substrates.",null,null,null,null,null,null,null,null,null,null,null,null,null,null,null," ",null,null,null,null,null,null,null,null,null,null,null,null,null,null,null,null,null,null,null,"X"]
[null,null,null,null,"Compatible with the NXT Pedestal System, it provides seamless integration with other pedestals for a complete, customizable installation.",null,null,null,null,null,null,null,null,null,null,null,null,null,null,null,null,null,null,null,null,null,null,null,null,null,null,null,null,null,null,null,null,null,null,null,"X"]
[]
[null,null,null,"NXT Pedestal Extender",null,null,null,null,null,null,null,null,null,null,null,null,null,"Item # Lookup:","LTPD1",null,null,null,null,null,null,null,null,null,null,null,null,null,null,null,null,null,null,null,null,null,"X"]
[]
[null,"Other Items",null,null,null,null,"NXT Pedestal Extender",null,null,null,null,null,null,null,null,"24 Each/Box",null,null,{"$f":"IF(Suggested=\"Yes\",AA1208,AG1208)","v":102.25},"BOX",{"$f":"+Instructions!$B$3","v":"I"},null,{"$f":"+Instructions!$C$22","v":0},{"$f":"ROUND($AA1208*(1-W1208)+0.004999,2)","v":102.25},null,"",102.25,{"$f":"+W1208","v":0},{"$f":"+X1208","v":102.25},{"$f":"(AG1208-AC1208)/AG1208","v":0},null,7,{"$f":"SUM(AJ1208:AL1208)+AE1208","v":102.25},null,null,{"$f":"ROUND(AC1208/(1-VLOOKUP(AF1208,Group,2,FALSE)),2)","v":102.25},{"$f":"IF(VLOOKUP(AF1208,Group,5,FALSE)=\"YES\",VLOOKUP(ROUND(ROUND(AJ1208,1)-AJ1208,2),Round,2,FALSE)+VLOOKUP(AF1208,Group,6,FALSE),0)","v":0},{"$f":"IF(VLOOKUP(AF1208,Group,7,FALSE)=\"\",0,ROUND(AJ1208-0.04999,1)-AJ1208+AM1208)","v":0},{"$f":"IF(VLOOKUP(AF1208,Group,7,FALSE)=\"\",\"\",VLOOKUP(AF1208,Group,7,FALSE))","v":""},null,"X"]
["x",null,null,null,null,null,null,null,null,null,null,null,null,null,null,null,null,null,null,null,null,null,null,null,null,null,null,null,null,null,null,null,null,null,null,null,null,null,null,null,"X"]
[null,null,null,"Notes:","The NXT Pedestal Extender enhances flexibility by adding 4\" of height to the NXT Pedestal Max and NXT Pedestal Mini, supporting up to nine",null,null,null,null,null,null,null,null,null,null,null,null,null,null,null,null,null,null,null,null,null,null,null,null,null,null,null,null,null,null,null,null,null,null,null,"X"]
[null,null,null,null,"extenders for elevations up to 41.5\".  Designed for easy \"click and connect\" assembly, it provides an efficient solution for projects requiring increased",null,null,null,null,null,null,null,null,null,null,null,null,null,null,null," ",null,null,null,null,null,null,null,null,null,null,null,null,null,null,null,null,null,null,null,"X"]
[null,null,null,null,"height while maintaining stability and load-bearing capacity. ",null,null,null,null,null,null,null,null,null,null,null,null,null,null,null,null,null,null,null,null,null,null,null,null,null,null,null,null,null,null,null,null,null,null,null,"X"]
[]
[null,null,null,"NXT Pedestal Slope Corrector",null,null,null,null,null,null,null,null,null,null,null,null,null,"Item # Lookup:","LTPD1",null,null,null,null,null,null,null,null,null,null,null,null,null,null,null,null,null,null,null,null,null,"X"]
[]
[null,"Other Items",null,null,null,null,"NXT Pedestal Slope Corrector",null,null,null,null,"(50 Bundles of 10 Each/Box)",null,null,null,"500 Each/Box",null,null,{"$f":"IF(Suggested=\"Yes\",AA1216,AG1216)","v":1640.9},"BOX",{"$f":"+Instructions!$B$3","v":"I"},null,{"$f":"+Instructions!$C$22","v":0},{"$f":"ROUND($AA1216*(1-W1216)+0.004999,2)","v":1640.9},null,"",1640.9,{"$f":"+W1216","v":0},{"$f":"+X1216","v":1640.9},{"$f":"(AG1216-AC1216)/AG1216","v":0},null,8,{"$f":"SUM(AJ1216:AL1216)+AE1216","v":1640.9},null,null,{"$f":"ROUND(AC1216/(1-VLOOKUP(AF1216,Group,2,FALSE)),2)","v":1640.9},{"$f":"IF(VLOOKUP(AF1216,Group,5,FALSE)=\"YES\",VLOOKUP(ROUND(ROUND(AJ1216,1)-AJ1216,2),Round,2,FALSE)+VLOOKUP(AF1216,Group,6,FALSE),0)","v":0},{"$f":"IF(VLOOKUP(AF1216,Group,7,FALSE)=\"\",0,ROUND(AJ1216-0.04999,1)-AJ1216+AM1216)","v":0},{"$f":"IF(VLOOKUP(AF1216,Group,7,FALSE)=\"\",\"\",VLOOKUP(AF1216,Group,7,FALSE))","v":""},null,"X"]
["x",null,null,null,null,null,null,null,null,null,null,null,null,null,null,null,null,null,null,null,null,null,null,null,null,null,null,null,null,null,null,null,null,null,null,null,null,null,null,null,"X"]
[null,null,null,"Notes:","The NXT Pedestal Slope Corrector allows for fine-tuned leveling on sloped surfaces by providing an additional 1–3° of adjustment.",null,null,null,null,null,null,null,null,null,null,null,null,null,null,null,null,null,null,null,null,null,null,null,null,null,null,null,null,null,null,null,null,null,null,null,"X"]
[null,null,null,null,"Compatible with the entire NXT Pedestal System, it ensures a stable and even installation on inclines and declines, improving project",null,null,null,null,null,null,null,null,null,null,null,null,null,null,null,null,null,null,null,null,null,null,null,null,null,null,null,null,null,null,null,null,null,null,null,"X"]
[null,null,null,null,"flexibility and performance.",null,null,null,null,null,null,null,null,null,null,null,null,null,null,null,null,null,null,null,null,null,null,null,null,null,null,null,null,null,null,null,null,null,null,null,"X"]
[]
[null,null,null,"NXT Pedestal Rubber Shim",null,null,null,null,null,null,null,null,null,null,null,null,null,"Item # Lookup:","LTPD1",null,null,null,null,null,null,null,null,null,null,null,null,null,null,null,null,null,null,null,null,null,"X"]
[]
[null,"Other Items",null,null,null,null,"NXT Pedestal Rubber Shim",null,null,null,null,"(6 Bundles of 100 Each/Box)",null,null,null,"600 Each/Box",null,null,{"$f":"IF(Suggested=\"Yes\",AA1224,AG1224)","v":985.9},"BOX",{"$f":"+Instructions!$B$3","v":"I"},null,{"$f":"+Instructions!$C$22","v":0},{"$f":"ROUND($AA1224*(1-W1224)+0.004999,2)","v":985.9},null,"",985.9,{"$f":"+W1224","v":0},{"$f":"+X1224","v":985.9},{"$f":"(AG1224-AC1224)/AG1224","v":0},null,8,{"$f":"SUM(AJ1224:AL1224)+AE1224","v":985.9},null,null,{"$f":"ROUND(AC1224/(1-VLOOKUP(AF1224,Group,2,FALSE)),2)","v":985.9},{"$f":"IF(VLOOKUP(AF1224,Group,5,FALSE)=\"YES\",VLOOKUP(ROUND(ROUND(AJ1224,1)-AJ1224,2),Round,2,FALSE)+VLOOKUP(AF1224,Group,6,FALSE),0)","v":0},{"$f":"IF(VLOOKUP(AF1224,Group,7,FALSE)=\"\",0,ROUND(AJ1224-0.04999,1)-AJ1224+AM1224)","v":0},{"$f":"IF(VLOOKUP(AF1224,Group,7,FALSE)=\"\",\"\",VLOOKUP(AF1224,Group,7,FALSE))","v":""},null,"X"]
["x",null,null,null,null,null,null,null,null,null,null,null,null,null,null,null,null,null,null,null,null,null,null,null,null,null,null,null,null,null,null,null,null,null,null,null,null,null,null,null,"X"]
[null,null,null,"Notes:","The NXT Pedestal Rubber Shim is designed to provide additional cushioning and support under pedestals, helping to fill gaps on uneven",null,null,null,null,null,null,null,null,null,null,null,null,null,null,null,null,null,null,null,null,null,null,null,null,null,null,null,null,null,null,null,null,null,null,null,"X"]
[null,null,null,null,"substrates.  Constructed from durable, insect-resistant rubber, these shims improve weight distribution and minimize movement.",null,null,null,null,null,null,null,null,null,null,null,null,null,null,null,null,null,null,null,null,null,null,null,null,null,null,null,null,null,null,null,null,null,null,null,"X"]
[]
[null,null,null,"NXT Pedestal Timber Joist Bracket",null,null,null,null,null,null,null,null,null,null,null,null,null,"Item # Lookup:","LTPD1",null,null,null,null,null,null,null,null,null,null,null,null,null,null,null,null,null,null,null,null,null,"X"]
[]
[null,"Other Items",null,null,null,null,"NXT Pedestal Timber Joist Bracket",null,null,null,null,null,null,null,null,"1000 Each/Box",null,null,{"$f":"IF(Suggested=\"Yes\",AA1231,AG1231)","v":1777.4},"BOX",{"$f":"+Instructions!$B$3","v":"I"},null,{"$f":"+Instructions!$C$22","v":0},{"$f":"ROUND($AA1231*(1-W1231)+0.004999,2)","v":1777.4},null,"",1777.4,{"$f":"+W1231","v":0},{"$f":"+X1231","v":1777.4},{"$f":"(AG1231-AC1231)/AG1231","v":0},null,8,{"$f":"SUM(AJ1231:AL1231)+AE1231","v":1777.4},null,null,{"$f":"ROUND(AC1231/(1-VLOOKUP(AF1231,Group,2,FALSE)),2)","v":1777.4},{"$f":"IF(VLOOKUP(AF1231,Group,5,FALSE)=\"YES\",VLOOKUP(ROUND(ROUND(AJ1231,1)-AJ1231,2),Round,2,FALSE)+VLOOKUP(AF1231,Group,6,FALSE),0)","v":0},{"$f":"IF(VLOOKUP(AF1231,Group,7,FALSE)=\"\",0,ROUND(AJ1231-0.04999,1)-AJ1231+AM1231)","v":0},{"$f":"IF(VLOOKUP(AF1231,Group,7,FALSE)=\"\",\"\",VLOOKUP(AF1231,Group,7,FALSE))","v":""},null,"X"]
["x",null,null,null,null,null,null,null,null,null,null,null,null,null,null,null,null,null,null,null,null,null,null,null,null,null,null,null,null,null,null,null,null,null,null,null,null,null,null,null,"X"]
[null,null,null,"Notes:","The NXT Pedestal Timber Joist Bracket provides secure support for timber joists in pedestal installations.  Engineered for durability and ",null,null,null,null,null,null,null,null,null,null,null,null,null,null,null,null,null,null,null,null,null,null,null,null,null,null,null,null,null,null,null,null,null,null,null,"X"]
[null,null,null,null,"precision, it ensures proper alignment and structural integrity for decking applications.",null,null,null,null,null,null,null,null,null,null,null,null,null,null,null,null,null,null,null,null,null,null,null,null,null,null,null,null,null,null,null,null,null,null,null,"X"]
[]
[null,null,null,"NXT Pedestal Uplift Plug",null,null,null,null,null,null,null,null,null,null,null,null,null,"Item # Lookup:","LTPD1",null,null,null,null,null,null,null,null,null,null,null,null,null,null,null,null,null,null,null,null,null,"X"]
[]
[null,"Other Items",null,null,null,null,"NXT Pedestal Plastic Uplift Plug",null,null,null,null,null,null,null,null,"200 Each/Box",null,null,{"$f":"IF(Suggested=\"Yes\",AA1238,AG1238)","v":710.3},"BOX",{"$f":"+Instructions!$B$3","v":"I"},null,{"$f":"+Instructions!$C$22","v":0},{"$f":"ROUND($AA1238*(1-W1238)+0.004999,2)","v":710.3},null,"",710.3,{"$f":"+W1238","v":0},{"$f":"+X1238","v":710.3},{"$f":"(AG1238-AC1238)/AG1238","v":0},null,7,{"$f":"SUM(AJ1238:AL1238)+AE1238","v":710.3},null,null,{"$f":"ROUND(AC1238/(1-VLOOKUP(AF1238,Group,2,FALSE)),2)","v":710.3},{"$f":"IF(VLOOKUP(AF1238,Group,5,FALSE)=\"YES\",VLOOKUP(ROUND(ROUND(AJ1238,1)-AJ1238,2),Round,2,FALSE)+VLOOKUP(AF1238,Group,6,FALSE),0)","v":0},{"$f":"IF(VLOOKUP(AF1238,Group,7,FALSE)=\"\",0,ROUND(AJ1238-0.04999,1)-AJ1238+AM1238)","v":0},{"$f":"IF(VLOOKUP(AF1238,Group,7,FALSE)=\"\",\"\",VLOOKUP(AF1238,Group,7,FALSE))","v":""},null,"X"]
[null,"Other Items",null,null,null,null,"NXT Pedestal Stainless Steel Uplift Plug",null,null,null,null,null,null,null,null,"200 Each/Box",null,null,{"$f":"IF(Suggested=\"Yes\",AA1239,AG1239)","v":1611.8},"BOX",{"$f":"+Instructions!$B$3","v":"I"},null,{"$f":"+Instructions!$C$22","v":0},{"$f":"ROUND($AA1239*(1-W1239)+0.004999,2)","v":1611.8},null,"",1611.8,{"$f":"+W1239","v":0},{"$f":"+X1239","v":1611.8},{"$f":"(AG1239-AC1239)/AG1239","v":0},null,7,{"$f":"SUM(AJ1239:AL1239)+AE1239","v":1611.8},null,null,{"$f":"ROUND(AC1239/(1-VLOOKUP(AF1239,Group,2,FALSE)),2)","v":1611.8},{"$f":"IF(VLOOKUP(AF1239,Group,5,FALSE)=\"YES\",VLOOKUP(ROUND(ROUND(AJ1239,1)-AJ1239,2),Round,2,FALSE)+VLOOKUP(AF1239,Group,6,FALSE),0)","v":0},{"$f":"IF(VLOOKUP(AF1239,Group,7,FALSE)=\"\",0,ROUND(AJ1239-0.04999,1)-AJ1239+AM1239)","v":0},{"$f":"IF(VLOOKUP(AF1239,Group,7,FALSE)=\"\",\"\",VLOOKUP(AF1239,Group,7,FALSE))","v":""},null,"X"]
["x",null,null,null,null,null,null,null,null,null,null,null,null,null,null,null,null,null,null,null,null,null,null,null,null,null,null,null,null,null,null,null,null,null,null,null,null,null,null,null,"X"]
[null,null,null,"Notes:","The NXT Pedestal Uplift Plug is a simple yet effective solution for securing tiles in pedestal installations. Designed to lock tiles firmly into ",null,null,null,null,null,null,null,null,null,null,null,null,null,null,null,null,null,null,null,null,null,null,null,null,null,null,null,null,null,null,null,null,null,null,null,"X"]
[null,null,null,null,"place, this lightweight and durable plug enhances stability and prevents displacement in high-wind environments. Made from high-quality,",null,null,null,null,null,null,null,null,null,null,null,null,null,null,null," ",null,null,null,null,null,null,null,null,null,null,null,null,null,null,null,null,null,null,null,"X"]
[null,null,null,null,"weather-resistant plastic or stainless steel, it ensures long-lasting performance in outdoor applications.",null,null,null,null,null,null,null,null,null,null,null,null,null,null,null,null,null,null,null,null,null,null,null,null,null,null,null,null,null,null,null,null,null,null,null,"X"]
[]
[null,null,null,"NXT Pedestal Concealed Uplift Plate",null,null,null,null,null,null,null,null,null,null,null,null,null,"Item # Lookup:","LTPD1",null,null,null,null,null,null,null,null,null,null,null,null,null,null,null,null,null,null,null,null,null,"X"]
[]
[null,"Other Items",null,null,null,null,"NXT Pedestal Concealed Uplift Plate",null,null,null,null,null,null,null,null,"36 Each/Box",null,null,{"$f":"IF(Suggested=\"Yes\",AA1247,AG1247)","v":551.6},"BOX",{"$f":"+Instructions!$B$3","v":"I"},null,{"$f":"+Instructions!$C$22","v":0},{"$f":"ROUND($AA1247*(1-W1247)+0.004999,2)","v":551.6},null,"",551.6,{"$f":"+W1247","v":0},{"$f":"+X1247","v":551.6},{"$f":"(AG1247-AC1247)/AG1247","v":0},null,8,{"$f":"SUM(AJ1247:AL1247)+AE1247","v":551.6},null,null,{"$f":"ROUND(AC1247/(1-VLOOKUP(AF1247,Group,2,FALSE)),2)","v":551.6},{"$f":"IF(VLOOKUP(AF1247,Group,5,FALSE)=\"YES\",VLOOKUP(ROUND(ROUND(AJ1247,1)-AJ1247,2),Round,2,FALSE)+VLOOKUP(AF1247,Group,6,FALSE),0)","v":0},{"$f":"IF(VLOOKUP(AF1247,Group,7,FALSE)=\"\",0,ROUND(AJ1247-0.04999,1)-AJ1247+AM1247)","v":0},{"$f":"IF(VLOOKUP(AF1247,Group,7,FALSE)=\"\",\"\",VLOOKUP(AF1247,Group,7,FALSE))","v":""},null,"X"]
["x",null,null,null,null,null,null,null,null,null,null,null,null,null,null,null,null,null,null,null,null,null,null,null,null,null,null,null,null,null,null,null,null,null,null,null,null,null,null,null,"X"]
[null,null,null,"Notes:","The NXT Pedestal Concealed Uplift Plate is designed for high-wind environments, anchoring tiles securely to the pedestal system.  This",null,null,null,null,null,null,null,null,null,null,null,null,null,null,null,null,null,null,null,null,null,null,null,null,null,null,null,null,null,null,null,null,null,null,null,"X"]
[null,null,null,null,"heavy-duty, discreet plate enhances stability, preventing displacement while maintaining a clean aesthetic.",null,null,null,null,null,null,null,null,null,null,null,null,null,null,null,null,null,null,null,null,null,null,null,null,null,null,null,null,null,null,null,null,null,null,null,"X"]
[]
[null,null,null,"NXT Pedestal Base Pad",null,null,null,null,null,null,null,null,null,null,null,null,null,"Item # Lookup:","LTPD1",null,null,null,null,null,null,null,null,null,null,null,null,null,null,null,null,null,null,null,null,null,"X"]
[]
[null,"Other Items",null,null,null,null,"NXT Pedestal Base Pad",null,null,null,null,null,null,null,null,"72 Each/Box",null,null,{"$f":"IF(Suggested=\"Yes\",AA1254,AG1254)","v":324.60000000000002},"BOX",{"$f":"+Instructions!$B$3","v":"I"},null,{"$f":"+Instructions!$C$22","v":0},{"$f":"ROUND($AA1254*(1-W1254)+0.004999,2)","v":324.60000000000002},null,"",324.60000000000002,{"$f":"+W1254","v":0},{"$f":"+X1254","v":324.60000000000002},{"$f":"(AG1254-AC1254)/AG1254","v":0},null,7,{"$f":"SUM(AJ1254:AL1254)+AE1254","v":324.60000000000002},null,null,{"$f":"ROUND(AC1254/(1-VLOOKUP(AF1254,Group,2,FALSE)),2)","v":324.60000000000002},{"$f":"IF(VLOOKUP(AF1254,Group,5,FALSE)=\"YES\",VLOOKUP(ROUND(ROUND(AJ1254,1)-AJ1254,2),Round,2,FALSE)+VLOOKUP(AF1254,Group,6,FALSE),0)","v":0},{"$f":"IF(VLOOKUP(AF1254,Group,7,FALSE)=\"\",0,ROUND(AJ1254-0.04999,1)-AJ1254+AM1254)","v":0},{"$f":"IF(VLOOKUP(AF1254,Group,7,FALSE)=\"\",\"\",VLOOKUP(AF1254,Group,7,FALSE))","v":""},null,"X"]
["x",null,null,null,null,null,null,null,null,null,null,null,null,null,null,null,null,null,null,null,null,null,null,null,null,null,null,null,null,null,null,null,null,null,null,null,null,null,null,null,"X"]
[null,null,null,"Notes:","The NXT Pedestal Base Pad provides an added layer of protection to prevent damage to waterproof membranes and delicate substrates.",null,null,null,null,null,null,null,null,null,null,null,null,null,null,null,null,null,null,null,null,null,null,null,null,null,null,null,null,null,null,null,null,null,null,null,"X"]
[null,null,null,null,"It also helps reduce noise and vibration, improving overall stability and comfort in raised flooring applications.",null,null,null,null,null,null,null,null,null,null,null,null,null,null,null," ",null,null,null,null,null,null,null,null,null,null,null,null,null,null,null,null,null,null,null,"X"]
[]
[null,null,null,"NXT Pedestal High Speed Chuck",null,null,null,null,null,null,null,null,null,null,null,null,null,"Item # Lookup:","LTPD1",null,null,null,null,null,null,null,null,null,null,null,null,null,null,null,null,null,null,null,null,null,"X"]
[]
[null,"Other Items",null,null,null,null,"NXT Pedestal High Speed Chuck",null,null,null,null,null,null,null,null,null,null,null,{"$f":"IF(Suggested=\"Yes\",AA1261,AG1261)","v":75.400000000000006},"EA",{"$f":"+Instructions!$B$3","v":"I"},null,{"$f":"+Instructions!$C$22","v":0},{"$f":"ROUND($AA1261*(1-W1261)+0.004999,2)","v":75.400000000000006},null,"",75.400000000000006,{"$f":"+W1261","v":0},{"$f":"+X1261","v":75.400000000000006},{"$f":"(AG1261-AC1261)/AG1261","v":0},null,7,{"$f":"SUM(AJ1261:AL1261)+AE1261","v":75.400000000000006},null,null,{"$f":"ROUND(AC1261/(1-VLOOKUP(AF1261,Group,2,FALSE)),2)","v":75.400000000000006},{"$f":"IF(VLOOKUP(AF1261,Group,5,FALSE)=\"YES\",VLOOKUP(ROUND(ROUND(AJ1261,1)-AJ1261,2),Round,2,FALSE)+VLOOKUP(AF1261,Group,6,FALSE),0)","v":0},{"$f":"IF(VLOOKUP(AF1261,Group,7,FALSE)=\"\",0,ROUND(AJ1261-0.04999,1)-AJ1261+AM1261)","v":0},{"$f":"IF(VLOOKUP(AF1261,Group,7,FALSE)=\"\",\"\",VLOOKUP(AF1261,Group,7,FALSE))","v":""},null,"X"]
["x",null,null,null,null,null,null,null,null,null,null,null,null,null,null,null,null,null,null,null,null,null,null,null,null,null,null,null,null,null,null,null,null,null,null,null,null,null,null,null,"X"]
[null,null,null,"Notes:","The NXT Pedestal High-Speed Chuck accelerates pedestal installations by allowing quick, effortless height adjustments.  Designed for ",null,null,null,null,null,null,null,null,null,null,null,null,null,null,null,null,null,null,null,null,null,null,null,null,null,null,null,null,null,null,null,null,null,null,null,"X"]
[null,null,null,null,"precision, it streamlines large-scale projects, reducing labor time and improving consistency.",null,null,null,null,null,null,null,null,null,null,null,null,null,null,null," ",null,null,null,null,null,null,null,null,null,null,null,null,null,null,null,null,null,null,null,"X"]
[null,null,null,"NXT Pedestal Maintenance Key",null,null,null,null,null,null,null,null,null,null,null,null,null,"Item # Lookup:","LTPD1",null,null,null,null,null,null,null,null,null,null,null,null,null,null,null,null,null,null,null,null,null,"X"]
[]
[null,"Other Items",null,null,null,null,"NXT Pedestal Maintenance Key",null,null,null,null,null,null,null,null,null,null,null,{"$f":"IF(Suggested=\"Yes\",AA1267,AG1267)","v":110.65},"EA",{"$f":"+Instructions!$B$3","v":"I"},null,{"$f":"+Instructions!$C$22","v":0},{"$f":"ROUND($AA1267*(1-W1267)+0.004999,2)","v":110.65},null,"",110.65,{"$f":"+W1267","v":0},{"$f":"+X1267","v":110.65},{"$f":"(AG1267-AC1267)/AG1267","v":0},null,7,{"$f":"SUM(AJ1267:AL1267)+AE1267","v":110.65},null,null,{"$f":"ROUND(AC1267/(1-VLOOKUP(AF1267,Group,2,FALSE)),2)","v":110.65},{"$f":"IF(VLOOKUP(AF1267,Group,5,FALSE)=\"YES\",VLOOKUP(ROUND(ROUND(AJ1267,1)-AJ1267,2),Round,2,FALSE)+VLOOKUP(AF1267,Group,6,FALSE),0)","v":0},{"$f":"IF(VLOOKUP(AF1267,Group,7,FALSE)=\"\",0,ROUND(AJ1267-0.04999,1)-AJ1267+AM1267)","v":0},{"$f":"IF(VLOOKUP(AF1267,Group,7,FALSE)=\"\",\"\",VLOOKUP(AF1267,Group,7,FALSE))","v":""},null,"X"]
["x",null,null,null,null,null,null,null,null,null,null,null,null,null,null,null,null,null,null,null,null,null,null,null,null,null,null,null,null,null,null,null,null,null,null,null,null,null,null,null,"X"]
[null,null,null,"Notes:","The NXT Pedestal Maintenance Key is an essential accessory for making quick, effortless height adjustments post-installation.  Designed ",null,null,null,null,null,null,null,null,null,null,null,null,null,null,null,null,null,null,null,null,null,null,null,null,null,null,null,null,null,null,null,null,null,null,null,"X"]
[null,null,null,null,"for convenience, it allows for fine-tuning without disrupting the surrounding surface.",null,null,null,null,null,null,null,null,null,null,null,null,null,null,null," ",null,null,null,null,null,null,null,null,null,null,null,null,null,null,null,null,null,null,null,"X"]
[]
[null,null,null,"ANTI-FRACTURE",null,null,null,null,null," ",null,null,null,null,null,null,null,null,null,null,null,null,null,null,null,null,null,null,null,null,null,null,null,null,null,null,null,null,null,null,"X"]
[]
[null,null,null,"Blue 92 Anti-Fracture Membrane",null,null,null,null,null,null,null,null,null,null,null,null,null,"Item # Lookup:","LT9200",null,null,null,null,null,null,null,null,null,null,null,null,null,null,null,null,null,null,null,null,null,"X"]
[]
[null,"Membranes",null,null,"Full Unit",null,"Pail/Carton",null,null,"9200-0001-2",null,"  Approximate Coverage: 300 SF",null,null,null,null,null,"a",{"$f":"IF(Suggested=\"Yes\",AA1276,AG1276)","v":1446.75},"EA",{"$f":"+Instructions!$B$3","v":"I"},null,{"$f":"+Instructions!$C$22","v":0},{"$f":"ROUND($AA1276*(1-W1276)+0.004999,2)","v":1446.75},null,"",1446.75,{"$f":"+W1276","v":0},{"$f":"+X1276","v":1446.75},{"$f":"(AG1276-AC1276)/AG1276","v":0},null,5,{"$f":"SUM(AJ1276:AL1276)+AE1276","v":1446.75},null,null,{"$f":"ROUND(AC1276/(1-VLOOKUP(AF1276,Group,2,FALSE)),2)","v":1446.75},{"$f":"IF(VLOOKUP(AF1276,Group,5,FALSE)=\"YES\",VLOOKUP(ROUND(ROUND(AJ1276,1)-AJ1276,2),Round,2,FALSE)+VLOOKUP(AF1276,Group,6,FALSE),0)","v":0},{"$f":"IF(VLOOKUP(AF1276,Group,7,FALSE)=\"\",0,ROUND(AJ1276-0.04999,1)-AJ1276+AM1276)","v":0},{"$f":"IF(VLOOKUP(AF1276,Group,7,FALSE)=\"\",\"\",VLOOKUP(AF1276,Group,7,FALSE))","v":""},null,"X"]
["x",null,null,null,null,null,null,null,null,null,null,null,null,null,null,null,null,null,null,null,null,null,null,null,null,null,null,null,null,null,null,null,null,null,null,null,null,null,null,null,"X"]
[null,null,null,"Notes:","A 2-part system that forms a highly flexible, full coverage membrane that reduces crack transmission from the substrate to floor finishes.  ",null,null,null,null,null,null,null,null,null,null,null,null,null,null,null,null,null,null,null,null,null,null,null,null,null,null,null,null,null,null,null,null,null,null,null,"X"]
[null,null,null,null,"Adds no appreciable thickness to floor construction, & is ready to receive floor finish in just a few hours.  Inhibits the growth of stain-",null,null,null,null,null,null,null,null,null,null,null,null,null,null,null,null,null,null,null,null,null,null,null,null,null,null,null,null,null,null,null,null,null,null,null,"X"]
[null,null,null,null,"causing mold & mildew in substrates with Microban antimicrobial product protection. ",null,null,null,null,null,null,null,null,null,null,null,null,null,null,null,null,null,null,null,null,null,null,null,null,null,null,null,null,null,null,null,null,null,null,null,"X"]
[null,null,null,null,"a) Full Unit consists of a 5 Gallon pail of liquid and 1 carton Laticrete Waterproofing/Anti-Fracture Fabric.",null,null,null,null,null,null,null,null,null,null,null,null,null,null,null,null,null,null,null,null,null,null,null,null,null,null,null,null,null,null,null,null,null,null,null,"X"]
[]
[null,null,null,"9200 Crack Suppression Kit",null,null,null,null,null,null," ",null,null,null,null,null,null,"Item # Lookup:","LT9200KIT",null,null,null,null,null,null,null,null,null,null,null,null,null,null,null,null,null,null,null,null,null,"X"]
[]
[null,"Membranes",null,null,null,null,"Pail",null," ","9200-0001-2-4",null,null,null,null,null,null,null,null,{"$f":"IF(Suggested=\"Yes\",AA1285,AG1285)","v":448.1},"EA",{"$f":"+Instructions!$B$3","v":"I"},null,{"$f":"+Instructions!$C$22","v":0},{"$f":"ROUND($AA1285*(1-W1285)+0.004999,2)","v":448.1},null,"",448.1,{"$f":"+W1285","v":0},{"$f":"+X1285","v":448.1},{"$f":"(AG1285-AC1285)/AG1285","v":0},null,5,{"$f":"SUM(AJ1285:AL1285)+AE1285","v":448.1},null,null,{"$f":"ROUND(AC1285/(1-VLOOKUP(AF1285,Group,2,FALSE)),2)","v":448.1},{"$f":"IF(VLOOKUP(AF1285,Group,5,FALSE)=\"YES\",VLOOKUP(ROUND(ROUND(AJ1285,1)-AJ1285,2),Round,2,FALSE)+VLOOKUP(AF1285,Group,6,FALSE),0)","v":0},{"$f":"IF(VLOOKUP(AF1285,Group,7,FALSE)=\"\",0,ROUND(AJ1285-0.04999,1)-AJ1285+AM1285)","v":0},{"$f":"IF(VLOOKUP(AF1285,Group,7,FALSE)=\"\",\"\",VLOOKUP(AF1285,Group,7,FALSE))","v":""},null,"X"]
["x",null,null,null,null,null,null,null,null,null,null,null,null,null,null,null,null,null,null,null,null,null,null,null,null,null,null,null,null,null,null,null,null,null,null,null,null,null,null,null,"X"]
[null,null,null,"Notes:","Conveniently packaged 2-part system for spot treatment of substrate cracks.  Reduces crack transmission in ceramic tile, thin brick & ",null,null,null,null,null,null,null,null,null,null,null,null,null,null,null,null,null,null,null,null,null,null,null,null,null,null,null,null,null,null,null,null,null,null,null,"X"]
[null,null,null,null,"stone.  Inhibits the growth of stain-causing mold & mildew in substrates with Microban antimicrobial product protection.  ",null,null,null,null,null,null,null,null,null,null,null,null,null,null,null,null,null,null,null,null,null,null,null,null,null,null,null,null,null,null,null,null,null,null,null,"X"]
[null,null,null,null,"Approximate coverage is 75 linear feet at 15\" wide.   ",null,null,null,null,null,null,null,null,null,null,null,null,null,null,null,null,null,null,null,null,null,null,null,null,null,null,null,null,null,null,null,null,null,null,null,"X"]
[]
[null,null,null,"9209 Fracture Ban SC",null,null,null,null,null,null,null,null,null,null,null,null,null,"Item # Lookup:","LT9209",null,null,null,null,null,null,null,null,null,null,null,null,null,null,null,null,null,null,null,null,null,"X"]
[]
[null,"Membranes",null,null,"1 Gallon",null,"Pail","Approximate Coverage: 50 SF/unit at wet coat thickness 30-44mils",null,null,null,null,null,null,null,"4 Gallons/CTN",null,null,{"$f":"IF(Suggested=\"Yes\",AA1293,AG1293)","v":78.7},"EA",{"$f":"+Instructions!$B$3","v":"I"},null,{"$f":"+Instructions!$C$22","v":0},{"$f":"ROUND($AA1293*(1-W1293)+0.004999,2)","v":78.7},null,"",78.7,{"$f":"+W1293","v":0},{"$f":"+X1293","v":78.7},{"$f":"(AG1293-AC1293)/AG1293","v":0},null,5,{"$f":"SUM(AJ1293:AL1293)+AE1293","v":78.7},null,null,{"$f":"ROUND(AC1293/(1-VLOOKUP(AF1293,Group,2,FALSE)),2)","v":78.7},{"$f":"IF(VLOOKUP(AF1293,Group,5,FALSE)=\"YES\",VLOOKUP(ROUND(ROUND(AJ1293,1)-AJ1293,2),Round,2,FALSE)+VLOOKUP(AF1293,Group,6,FALSE),0)","v":0},{"$f":"IF(VLOOKUP(AF1293,Group,7,FALSE)=\"\",0,ROUND(AJ1293-0.04999,1)-AJ1293+AM1293)","v":0},{"$f":"IF(VLOOKUP(AF1293,Group,7,FALSE)=\"\",\"\",VLOOKUP(AF1293,Group,7,FALSE))","v":""},null,"X"]
[null,"Membranes",null,null,"3-1/2 Gallon",null,"Pail","Approximate Coverage: 175 SF/unit at wet coat thickness 30-44mils",null,null,null,null,null,null,null,null,null,null,{"$f":"IF(Suggested=\"Yes\",AA1294,AG1294)","v":240.95},"EA",{"$f":"+Instructions!$B$3","v":"I"},null,{"$f":"+Instructions!$C$22","v":0},{"$f":"ROUND($AA1294*(1-W1294)+0.004999,2)","v":240.95},null,"",240.95,{"$f":"+W1294","v":0},{"$f":"+X1294","v":240.95},{"$f":"(AG1294-AC1294)/AG1294","v":0},null,5,{"$f":"SUM(AJ1294:AL1294)+AE1294","v":240.95},null,null,{"$f":"ROUND(AC1294/(1-VLOOKUP(AF1294,Group,2,FALSE)),2)","v":240.95},{"$f":"IF(VLOOKUP(AF1294,Group,5,FALSE)=\"YES\",VLOOKUP(ROUND(ROUND(AJ1294,1)-AJ1294,2),Round,2,FALSE)+VLOOKUP(AF1294,Group,6,FALSE),0)","v":0},{"$f":"IF(VLOOKUP(AF1294,Group,7,FALSE)=\"\",0,ROUND(AJ1294-0.04999,1)-AJ1294+AM1294)","v":0},{"$f":"IF(VLOOKUP(AF1294,Group,7,FALSE)=\"\",\"\",VLOOKUP(AF1294,Group,7,FALSE))","v":""},null,"X"]
["x",null,null,null,null,null,null,null,null,null,null,null,null,null,null,null,null,null,null,null,null,null,null,null,null,null,null,null,null,null,null,null,null,null,null,null,null,null,null,null,"X"]
[null,null,null,"Notes:","A thin, load bearing, self-curing liquid rubber polymer that can be easily applied in a single coat to form a flexible seamless antifracture",null,null,null,null,null,null,null,null,null,null,null,null,null,null,null,null,null,null,null,null,null,null,null,null,null,null,null,null,null,null,null,null,null,null,null,"X"]
[null,null,null,null,"membrane.  Anti-fracture protection of up to 1/8\" over shrinkage and other non-structural cracks.  Exceeds ANSI A118.12.",null,null,null,null,null,null,null,null,null,null,null,null,null,null,null,null,null,null,null,null,null,null,null,null,null,null,null,null,null,null,null,null,null,null,null,"X"]
[null,null,null,null,null,null,null,null,null,null,null,null,null,null,null,null,null,null,null,null,null,null,null,null,null,null,null,null,null,null,null,null,null,null,null,null,null,null,null,null,"X"]
["x",null,null,"SOUND CONTROL/CRACK SUPPRESSION",null,null,null,null,null,null,null,null,null,null,null,null,null,null,null,null,null,null,null,null,null,null,null,null,null,null,null,null,null,null,null,null,null,null,null,null,"X"]
[null,null,null,null,null,null,null,null,null,null,null,null,null,null,null,null," "]
[null,null,null,"125 Tri Max (formally known as 125 Sound & Crack Adhesive)",null,null,null,null,null,null,null,null,null,null,null,null,null,"Item # Lookup:","LT012525LB",null,null,null,null,null,null,null,null,null,null,null,null,null,null,null,null,null,null,null,null,null,"X"]
[]
[null,"Membranes",null,null,"25 lb",null,"Bag",null,null,null,null,null,null,null,null,null,null,null,{"$f":"IF(Suggested=\"Yes\",AA1303,AG1303)","v":288.05},"EA",{"$f":"+Instructions!$B$3","v":"I"},null,{"$f":"+Instructions!$C$22","v":0},{"$f":"ROUND($AA1303*(1-W1303)+0.004999,2)","v":288.05},null,"",288.05,{"$f":"+W1303","v":0},{"$f":"+X1303","v":288.05},{"$f":"(AG1303-AC1303)/AG1303","v":0},null,5,{"$f":"SUM(AJ1303:AL1303)+AE1303","v":288.05},null,null,{"$f":"ROUND(AC1303/(1-VLOOKUP(AF1303,Group,2,FALSE)),2)","v":288.05},{"$f":"IF(VLOOKUP(AF1303,Group,5,FALSE)=\"YES\",VLOOKUP(ROUND(ROUND(AJ1303,1)-AJ1303,2),Round,2,FALSE)+VLOOKUP(AF1303,Group,6,FALSE),0)","v":0},{"$f":"IF(VLOOKUP(AF1303,Group,7,FALSE)=\"\",0,ROUND(AJ1303-0.04999,1)-AJ1303+AM1303)","v":0},{"$f":"IF(VLOOKUP(AF1303,Group,7,FALSE)=\"\",\"\",VLOOKUP(AF1303,Group,7,FALSE))","v":""},null,"X"]
["x",null,null,null,null,null,null,null,null,null,null,null,null,null,null,null,null,null,null,null,null,null,null,null,null,null,null,null,null,null,null,null,null,null,null,null,null,null,null,null,"X"]
[null,null,null," ",null,null,"Approximate Coverage per 25 lb Bag*",null,null,null,null,null,null,null,null,null,null,null,null,null,null,null,null,null,null,null,null,null,null,null,null,null,null,null,null,null,null,null,null,null,"X"]
[null,null,null,null,null,null,"NOTCH TROWEL",null,null,null,"COVERAGE",null,null,null,null,null,null,null,null,null,null,null,null,null,null,null,null,null,null,null,null,null,null,null,null,null,null,null,null,null,"X"]
[null,null,null,null,null,null,"1/4\" x 1/4\"",null,null,null,"73 to 82 sq ft",null,null,null,null,null,null,null,null,null,null,null,null,null,null,null,null,null,null,null,null,null,null,null,null,null,null,null,null,null,"X"]
[null,null,null," ",null,null,"1/4\" x 3/8\"",null,null,null,"49 to 54 sq ft",null,null,null,null,null," ",null,null,null,null,null,null,null,null,null,null,null,null,null,null,null,null,null,null,null,null,null,null,null,"X"]
[null,null,null,null," ",null,"1/2\" x 1/2\"",null,null,null,"37 to 41 sq ft",null,null,null,null," ",null,null,null,null,null,null,null,null,null,null,null,null,null,null,null,null,null,null,null,null,null,null,null,null,"X"]
[]
[null,null,null,"Notes:","TRI MAX provides incredible sound isolation protection while simultaneously protecting the tile or stone finish from any cracking by reducing",null,null,null,null,null,null,null,null,null,null,null,null,null,null,null,null,null,null,null,null,null,null,null,null,null,null,null,null,null,null,null,null,null,null,null,"X"]
[null,null,null,null,"the transmission of stresses in the substrate through to the tile or stone finish.  It prevents the transmission of cracks from the approved sub-",null,null,null,null,null,null,null,null,null,null,null,null,null,null,null,null,null,null,null,null,null,null,null,null,null,null,null,null,null,null,null,null,null,null,null,"X"]
[null,null,null,null,"strates to the tile or stone finish when subjected to horizontal in plane movement of cracks up to 1/8\" under normal usage.  It can be used for",null,null,null,null,null,null,null,null,null,null,null,null,null,null,null,null,null,null,null,null,null,null,null,null,null,null,null,null,null,null,null,null,null,null,null,"X"]
[null,null,null,null,"thin-bed or medium-bed applications and used with any size tile or stone.  125 TRI MAX is a single component adhesive mortar which takes",null,null,null,null,null,null,null,null,null,null,null,null,null,null,null,null,null,null,null,null,null,null,null,null,null,null,null,null,null,null,null,null,null,null,null,"X"]
[null,null,null,null,"the place of costly time consuming membrane or mat systems by allowing for faster more effective tile or stone installations.  For installations",null,null,null,null,null,null,null,null,null,null,null,null,null,null,null,null,null,null,null,null,null,null,null,null,null,null,null,null,null,null,null,null,null,null,null,"X"]
[null,null,null,null,"only requiring anti-fracture protection, a 1/4\" x 1/4\" or 1/4\" x 3/8\" may be used for maximum coverage.  For all installations requiring sound",null,null,null,null,null,null,null,null,null,null,null,null,null,null,null,null,null,null,null,null,null,null,null,null,null,null,null,null,null,null,null,null,null,null,null,"X"]
[null,null,null,null,"protection, use a 1/4\" x 3/8\" notched trowel for back buttering tiles.",null,null,null,null,null,null,null,null,null,null,null,null,null,null,null,null,null,null,null,null,null,null,null,null,null,null,null,null,null,null,null,null,null,null,null,"X"]
[null,null,null,null,"*When back buttering tile for sound control applications, there will be a significant decrease in coverage.",null,null,null,null,null,null,null,null,null,null,null,null,null,null,null,null,null,null,null,null,null,null,null,null,null,null,null,null,null,null,null,null,null,null,null,"X"]
[]
[null,null,null,"170 Sound & Crack Isolation Mat",null,null,null,null,null,null,null,null,null,null,null,null,null,"Item # Lookup:","LT0170150SF",null,null,null,null,null,null,null,null,null,null,null,null,null,null,null,null,null,null,null,null,null,"X"]
[]
[null,"Membranes",null,null,"4' x 37.5'",null,"Roll",null,null,"Approximate Coverage:  150 SF",null,null,null,null,null,null,null,null,{"$f":"IF(Suggested=\"Yes\",AA1322,AG1322)","v":603.20000000000005},"EA",{"$f":"+Instructions!$B$3","v":"I"},null,{"$f":"+Instructions!$C$22","v":0},{"$f":"ROUND($AA1322*(1-W1322)+0.004999,2)","v":603.20000000000005},null,"",603.20000000000005,{"$f":"+W1322","v":0},{"$f":"+X1322","v":603.20000000000005},{"$f":"(AG1322-AC1322)/AG1322","v":0},null,5,{"$f":"SUM(AJ1322:AL1322)+AE1322","v":603.20000000000005},null,null,{"$f":"ROUND(AC1322/(1-VLOOKUP(AF1322,Group,2,FALSE)),2)","v":603.20000000000005},{"$f":"IF(VLOOKUP(AF1322,Group,5,FALSE)=\"YES\",VLOOKUP(ROUND(ROUND(AJ1322,1)-AJ1322,2),Round,2,FALSE)+VLOOKUP(AF1322,Group,6,FALSE),0)","v":0},{"$f":"IF(VLOOKUP(AF1322,Group,7,FALSE)=\"\",0,ROUND(AJ1322-0.04999,1)-AJ1322+AM1322)","v":0},{"$f":"IF(VLOOKUP(AF1322,Group,7,FALSE)=\"\",\"\",VLOOKUP(AF1322,Group,7,FALSE))","v":""},null,"X"]
["x",null,null,null,null,null,null,null,null,null,null,null,null,null,null,null,null,null,null,null,null,null,null,null,null,null,null,null,null,null,null,null,null,null,null,null,null,null,null,null,"X"]
[null,null,null,"Notes:","A 1/8\" thick underlayment membrane that provides sound reduction and anti-fracture protection for tile or stone installations.",null,null,null,null,null,null,null,null,null,null,null,null,null,null,null,null,null,null,null,null,null,null,null,null,null,null,null,null,null,null,null,null,null,null,null,"X"]
[]
[null,null,null,"170.5 Sound & Crack Isolation Mat",null,null,null,null,null,null,null,null,null,null,null,null,null,"Item # Lookup:","LT0176120SF",null,null,null,null,null,null,null,null,null,null,null,null,null,null,null,null,null,null,null,null,null,"X"]
[]
[null,"Membranes",null,null,"4' x 30'",null,"Roll",null,null,"Approximate Coverage:  120 SF",null,null,null,null,null,null,null,null,{"$f":"IF(Suggested=\"Yes\",AA1328,AG1328)","v":714.25},"EA",{"$f":"+Instructions!$B$3","v":"I"},null,{"$f":"+Instructions!$C$22","v":0},{"$f":"ROUND($AA1328*(1-W1328)+0.004999,2)","v":714.25},null,"",714.25,{"$f":"+W1328","v":0},{"$f":"+X1328","v":714.25},{"$f":"(AG1328-AC1328)/AG1328","v":0},null,5,{"$f":"SUM(AJ1328:AL1328)+AE1328","v":714.25},null,null,{"$f":"ROUND(AC1328/(1-VLOOKUP(AF1328,Group,2,FALSE)),2)","v":714.25},{"$f":"IF(VLOOKUP(AF1328,Group,5,FALSE)=\"YES\",VLOOKUP(ROUND(ROUND(AJ1328,1)-AJ1328,2),Round,2,FALSE)+VLOOKUP(AF1328,Group,6,FALSE),0)","v":0},{"$f":"IF(VLOOKUP(AF1328,Group,7,FALSE)=\"\",0,ROUND(AJ1328-0.04999,1)-AJ1328+AM1328)","v":0},{"$f":"IF(VLOOKUP(AF1328,Group,7,FALSE)=\"\",\"\",VLOOKUP(AF1328,Group,7,FALSE))","v":""},null,"X"]
["x",null,null,null,null,null,null,null,null,null,null,null,null,null,null,null,null,null,null,null,null,null,null,null,null,null,null,null,null,null,null,null,null,null,null,null,null,null,null,null,"X"]
[null,null,null,"Notes:","A high performance acoustical underlayment system that muffles impact noises through ceramic tiles, stone and other hard surfacing materials.",null,null,null,null,null,null,null,null,null,null,null,null,null,null,null,null,null,null,null,null,null,null,null,null,null,null,null,null,null,null,null,null,null,null,null,"X"]
[null,null,null,null,"It also minimizes the transmission of cracks from the substrate to the tile installation up to 1/8\" non-movement cracks.  170 Sound & Crack",null,null,null,null,null,null,null,null,null,null,null,null,null,null,null,null,null,null,null,null,null,null,null,null,null,null,null,null,null,null,null,null,null,null,null,"X"]
[null,null,null,null,"Isolation Mat is a 5 mm thick rubberized membrane comprised of 88.5% post-consumer recycled materials.",null,null,null,null,null,null,null,null,null,null,null,null,null,null,null,null,null,null,null,null,null,null,null,null,null,null,null,null,null,null,null,null,null,null,null,"X"]
[]
[null,null,null,"178 Fracture Ban",null,null,null,null,null,null,null,null,null,null,null,null,null,"Item # Lookup:","LT0178",null,null,null,null,null,null,null,null,null,null,null,null,null,null,null,null,null,null,null,null,null,"X"]
[]
[null,"Membranes",null,null,"39.25\" x 69' ",null,"Roll",null,null,"Peel & Stick Sheet Membrane (40 mil - 225 SF Roll)",null,null,null,null,null,null,null,null,{"$f":"IF(Suggested=\"Yes\",AA1336,AG1336)","v":693.5},"EA",{"$f":"+Instructions!$B$3","v":"I"},null,{"$f":"+Instructions!$C$22","v":0},{"$f":"ROUND($AA1336*(1-W1336)+0.004999,2)","v":693.5},null,"",693.5,{"$f":"+W1336","v":0},{"$f":"+X1336","v":693.5},{"$f":"(AG1336-AC1336)/AG1336","v":0},null,5,{"$f":"SUM(AJ1336:AL1336)+AE1336","v":693.5},null,null,{"$f":"ROUND(AC1336/(1-VLOOKUP(AF1336,Group,2,FALSE)),2)","v":693.5},{"$f":"IF(VLOOKUP(AF1336,Group,5,FALSE)=\"YES\",VLOOKUP(ROUND(ROUND(AJ1336,1)-AJ1336,2),Round,2,FALSE)+VLOOKUP(AF1336,Group,6,FALSE),0)","v":0},{"$f":"IF(VLOOKUP(AF1336,Group,7,FALSE)=\"\",0,ROUND(AJ1336-0.04999,1)-AJ1336+AM1336)","v":0},{"$f":"IF(VLOOKUP(AF1336,Group,7,FALSE)=\"\",\"\",VLOOKUP(AF1336,Group,7,FALSE))","v":""},null,"X"]
[null,"Membranes",null,null,"39.25\" x 30.6'",null,"Roll",null,null,"Peel & Stick Sheet Membrane (90 mil - 100 SF Roll)",null,null,null,null,null,null,null,null,{"$f":"IF(Suggested=\"Yes\",AA1337,AG1337)","v":477},"EA",{"$f":"+Instructions!$B$3","v":"I"},null,{"$f":"+Instructions!$C$22","v":0},{"$f":"ROUND($AA1337*(1-W1337)+0.004999,2)","v":477},null,"",477,{"$f":"+W1337","v":0},{"$f":"+X1337","v":477},{"$f":"(AG1337-AC1337)/AG1337","v":0},null,5,{"$f":"SUM(AJ1337:AL1337)+AE1337","v":477},null,null,{"$f":"ROUND(AC1337/(1-VLOOKUP(AF1337,Group,2,FALSE)),2)","v":477},{"$f":"IF(VLOOKUP(AF1337,Group,5,FALSE)=\"YES\",VLOOKUP(ROUND(ROUND(AJ1337,1)-AJ1337,2),Round,2,FALSE)+VLOOKUP(AF1337,Group,6,FALSE),0)","v":0},{"$f":"IF(VLOOKUP(AF1337,Group,7,FALSE)=\"\",0,ROUND(AJ1337-0.04999,1)-AJ1337+AM1337)","v":0},{"$f":"IF(VLOOKUP(AF1337,Group,7,FALSE)=\"\",\"\",VLOOKUP(AF1337,Group,7,FALSE))","v":""},null,"X"]
["x",null,null,null,null,null,null,null,null,null,null,null,null,null,null,null,null,null,null,null,null,null,null,null,null,null,null,null,null,null,null,null,null,null,null,null,null,null,null,null,"X"]
[null,null,null,"Notes:","A high performance, pliable, light weight peel & stick membrane designed for use under ceramic tile, stone and other hard surface ",null,null,null,null,null,null,null,null,null,null,null,null,null,null,null,null,null,null,null,null,null,null,null,null,null,null,null,null,null,null,null,null,null,null,null,"X"]
[null,null,null,null,"installations.  This reinforced high strength membrane performs as an anti-fracture & an acoustical underlayment system that eliminates the",null,null,null,null,null,null,null,null,null,null,null,null,null,null,null,null,null,null,null,null,null,null,null,null,null,null,null,null,null,null,null,null,null,null,null,"X"]
[null,null,null,null,"transmission of stresses from the substrate while dampening the transmission of impact & air borne noise through the floor to the room ",null,null,null,null,null,null,null,null,null,null,null,null,null,null,null,null,null,null,null,null,null,null,null,null,null,null,null,null,null,null,null,null,null,null,null,"X"]
[null,null,null,null,"below.  The unique design of this peel & stick membrane allows for usage in both commercial and residential settings where a quick ",null,null,null,null,null,null,null,null,null,null,null,null,null,null,null,null,null,null,null,null,null,null,null,null,null,null,null,null,null,null,null,null,null,null,null,"X"]
[null,null,null,null,"dependable turnaround is required on interior installations.  Must be installed on a clean substrate primed using Laticrete Primer Plus primer.",null,null,null,null,null,null,null,null,null,null,null,null,null,null,null,null,null,null,null,null,null,null,null,null,null,null,null,null,null,null,null,null,null,null,null,"X"]
[null,null,null,null,"*  Hot-applied polymer modified asphaltic adhesive coated on a 100% polyester non-woven with a 60# release liner paper.",null,null,null,null,null,null,null,null,null,null,null,null,null,null,null,null,null,null,null,null,null,null,null,null,null,null,null,null,null,null,null,null,null,null,null,"X"]
[null,null,null,null,"*  Has a white non-woven surface for easy chalk line identification.",null,null,null,null,null,null,null,null,null,null,null,null,null,null,null,null,null,null,null,null,null,null,null,null,null,null,null,null,null,null,null,null,null,null,null,"X"]
[null,null,null,null,"*  Acts as a water resistive barrier.",null,null,null,null,null,null,null,null,null,null,null,null,null,null,null,null,null,null,null,null,null,null,null,null,null,null,null,null,null,null,null,null,null,null,null,"X"]
[null,null,null,null,"Anti-Fracture:  Helps to prevent the transmission of horizontal in plane cracks from the substrate, up to 3/8\", transmitting up through the tile & stone.",null,null,null,null,null,null,null,null,null,null,null,null,null,null,null,null,null,null,null,null,null,null,null,null,null,null,null,null,null,null,null,null,null,null,null,"X"]
[null,null,null,null,"Sound control:  FRACTURE BAN 40 mil has a IIC of 14 and FRACTURE BAN 90 mil a IIC of 17 through independent ASTM E2179 testing.",null,null,null,null,null,null,null,null,null,null,null,null,null,null,null,null,null,null,null,null,null,null,null,null,null,null,null,null,null,null,null,null,null,null,null,"X"]
["x",null,null,null,null,null,null,null,null,null,null,null,null,null,null,null,null,null,null,null,null,null,null,null,null,null,null,null,null,null,null,null,null,null,null,null,null,null,null,null,"X"]
[null,null,"SHOWER SYSTEMS & WATERPROOFING",null,null,null,null,null,null,null,null,null,null,null,null,null,null,null,null,null,null,null,null,null,null,null,null,null,null,null,null,null,null,null,null,null,null,null,null,null,"X"]
[]
[null,null,null,"HYDRO BAN SHOWER & DRAIN SYSTEM",null,null,null,null,null,null,null,null,null,null,null,null,null,null,null,null,null,null,null,null,null,null,null,null,null,null,null,null,null,null,null,null,null,null,null,null,"X"]
[]
[null,null,null,"Hydro Ban Board",null,null,null,null,null,null,null,null,null,null,null,null,null,"Item # Lookup:","LT9450",null,null,null,null,null,null,null,null,null,null,null,null,null,null,null,null,null,null,null,null,null,"X"]
[]
[null,"Membranes",null,null,"3' x 5' x 1/4\"",null,"9450-0014-2",null,null,"Board",null,null,null,null,null,"21 Sheets/Bundle",null,null,{"$f":"IF(Suggested=\"Yes\",AA1356,AG1356)","v":86.45},"Sheet",{"$f":"+Instructions!$B$3","v":"I"},null,{"$f":"+Instructions!$C$22","v":0},{"$f":"ROUND($AA1356*(1-W1356)+0.004999,2)","v":86.45},null,"",86.45,{"$f":"+W1356","v":0},86.45,{"$f":"(AG1356-AC1356)/AG1356","v":0},null,5,{"$f":"SUM(AJ1356:AL1356)+AE1356","v":86.45},null,null,{"$f":"ROUND(AC1356/(1-VLOOKUP(AF1356,Group,2,FALSE)),2)","v":86.45},{"$f":"IF(VLOOKUP(AF1356,Group,5,FALSE)=\"YES\",VLOOKUP(ROUND(ROUND(AJ1356,1)-AJ1356,2),Round,2,FALSE)+VLOOKUP(AF1356,Group,6,FALSE),0)","v":0},{"$f":"IF(VLOOKUP(AF1356,Group,7,FALSE)=\"\",0,ROUND(AJ1356-0.04999,1)-AJ1356+AM1356)","v":0},{"$f":"IF(VLOOKUP(AF1356,Group,7,FALSE)=\"\",\"\",VLOOKUP(AF1356,Group,7,FALSE))","v":""},null,"X"]
[null,"Membranes",null,null,"3' x 5' x 1/2\"",null,"9450-0012-2",null,null,"Board",null,null,null,null,null,null,"Stock",null,95.1,"Sheet",{"$f":"+Instructions!$B$3","v":"I"},null,{"$f":"+Instructions!$C$22","v":0},95.1,null,"",95.1,0,95.1,0,null,5,95.1,null,null,95.1,0,0,"",null,"X"]
[null,"Membranes",null,null,"3' x 5' x 5/8\"",null,"9450-0058-2",null,null,"Board",null,null,null,null,null,"10 Sheets/Bundle",null,null,106.9,"Sheet",{"$f":"+Instructions!$B$3","v":"I"},null,{"$f":"+Instructions!$C$22","v":0},106.9,null,"",106.9,0,106.9,0,null,5,106.9,null,null,106.9,0,0,"",null,"X"]
[null,"Membranes",null,null,"3' x 5' x 2\"",null,"9450-0200-2",null,null,"Board",null,null,null,null,null,"3 Sheets/Bundle",null,null,138.1,"Sheet",{"$f":"+Instructions!$B$3","v":"I"},null,{"$f":"+Instructions!$C$22","v":0},138.1,null,"",138.1,0,138.1,0,null,5,138.1,null,null,138.1,0,0,"",null,"X"]
[null,"Membranes",null,null,"4' x 8' x 1/2\"",null,"9450-4812-2",null,null,"Board",null,null,null,null,null,null,"Stock",null,187.1,"Sheet",{"$f":"+Instructions!$B$3","v":"I"},null,{"$f":"+Instructions!$C$22","v":0},187.1,null,"",187.1,0,187.1,0,null,5,187.1,null,null,187.1,0,0,"",null,"X"]
[]
[null,null,null,"Notes:","HYDRO BAN Board is a lightweight construction panel designed to be used in bonded tile or stone installations.  It is made with a ",null,null,null,null,null,null,null,null,null,null,null,null,null,null,null,null,null,null,null,null,null,null,null,null,null,null,null,null,null,null,null,null,null,null,null,"X"]
[null,null,null,null,"high-density, waterproof foam core and a reinforced, waterproof membrane on both sides.  Available in a variety of thicknesses from ",null,null,null,null,null,null,null,null,null,null,null,null,null,null,null,null,null,null,null,null,null,null,null,null,null,null,null,null,null,null,null,null,null,null,null,"X"]
[null,null,null,null,"1/4\" to 2\" the HYDRO BAN Board can be used as a substrate for tile and stone on walls or floors, as well as in many installations ",null,null,null,null,null,null,null,null,null,null,null,null,null,null,null,null,null,null,null,null,null,null,null,null,null,null,null,null,null,null,null,null,null,null,null,"X"]
[null,null,null,null,"requiring dimensionally sound and stable substrates.  The Hydro Ban Board can be secured to wood or steel wall framing studs using ",null,null,null,null,null,null,null,null,null,null,null,null,null,null,null,null,null,null,null,null,null,null,null,null,null,null,null,null,null,null,null,null,null,null,null,"X"]
[null,null,null,null,"the coated Hydro Ban Board screws at 1-5/8\", 2\" or 3\", depending on the board thickness.",null,null,null,null,null,null,null,null,null,null,null,null,null,null,null,null,null,null,null,null,null,null,null,null,null,null,null,null,null,null,null,null,null,null,null,"X"]
[]
[null,null,null,"Hydro Ban Board Accessories",null,null,null,null,null,null,null,null,null,null,null,null,null,"Item # Lookup:","LT9450",null,null,null,null,null,null,null,null,null,null,null,null,null,null,null,null,null,null,null,null,null,"X"]
[]
[null,"Membranes",null,null,"1-1/4\"",null,"9450-0114-TW",null,null,"Tab Washer",null,null,null,null,null,"250 Each/Box","Stock",null,{"$f":"IF(Suggested=\"Yes\",AA1370,AG1370)","v":61},"BOX",{"$f":"+Instructions!$B$3","v":"I"},null,{"$f":"+Instructions!$C$22","v":0},{"$f":"ROUND($AA1370*(1-W1370)+0.004999,2)","v":61},null,"",61,{"$f":"+W1370","v":0},61,{"$f":"(AG1370-AC1370)/AG1370","v":0},null,5,{"$f":"SUM(AJ1370:AL1370)+AE1370","v":61},null,null,{"$f":"ROUND(AC1370/(1-VLOOKUP(AF1370,Group,2,FALSE)),2)","v":61},{"$f":"IF(VLOOKUP(AF1370,Group,5,FALSE)=\"YES\",VLOOKUP(ROUND(ROUND(AJ1370,1)-AJ1370,2),Round,2,FALSE)+VLOOKUP(AF1370,Group,6,FALSE),0)","v":0},{"$f":"IF(VLOOKUP(AF1370,Group,7,FALSE)=\"\",0,ROUND(AJ1370-0.04999,1)-AJ1370+AM1370)","v":0},{"$f":"IF(VLOOKUP(AF1370,Group,7,FALSE)=\"\",\"\",VLOOKUP(AF1370,Group,7,FALSE))","v":""},null,"X"]
[null,"Membranes",null,null,"1-5/8\"",null,"9450-0158-S",null,null,"Screw",null,null,null,null,null,"250 Each/Box","Stock",null,{"$f":"IF(Suggested=\"Yes\",AA1371,AG1371)","v":41.3},"BOX",{"$f":"+Instructions!$B$3","v":"I"},null,{"$f":"+Instructions!$C$22","v":0},{"$f":"ROUND($AA1371*(1-W1371)+0.004999,2)","v":41.3},null,"",41.3,0,41.3,{"$f":"(AG1371-AC1371)/AG1371","v":0},null,5,{"$f":"SUM(AJ1371:AL1371)+AE1371","v":41.3},null,null,{"$f":"ROUND(AC1371/(1-VLOOKUP(AF1371,Group,2,FALSE)),2)","v":41.3},{"$f":"IF(VLOOKUP(AF1371,Group,5,FALSE)=\"YES\",VLOOKUP(ROUND(ROUND(AJ1371,1)-AJ1371,2),Round,2,FALSE)+VLOOKUP(AF1371,Group,6,FALSE),0)","v":0},{"$f":"IF(VLOOKUP(AF1371,Group,7,FALSE)=\"\",0,ROUND(AJ1371-0.04999,1)-AJ1371+AM1371)","v":0},{"$f":"IF(VLOOKUP(AF1371,Group,7,FALSE)=\"\",\"\",VLOOKUP(AF1371,Group,7,FALSE))","v":""},null,"X"]
[null,"Membranes",null,null,"3\"",null,"9450-0300-S",null,null,"Screw",null,null,null,null,null,"250 Each/Box",null,null,{"$f":"IF(Suggested=\"Yes\",AA1372,AG1372)","v":69.55},"BOX",{"$f":"+Instructions!$B$3","v":"I"},null,{"$f":"+Instructions!$C$22","v":0},{"$f":"ROUND($AA1372*(1-W1372)+0.004999,2)","v":69.55},null,"",69.55,0,69.55,{"$f":"(AG1372-AC1372)/AG1372","v":0},null,5,{"$f":"SUM(AJ1372:AL1372)+AE1372","v":69.55},null,null,{"$f":"ROUND(AC1372/(1-VLOOKUP(AF1372,Group,2,FALSE)),2)","v":69.55},{"$f":"IF(VLOOKUP(AF1372,Group,5,FALSE)=\"YES\",VLOOKUP(ROUND(ROUND(AJ1372,1)-AJ1372,2),Round,2,FALSE)+VLOOKUP(AF1372,Group,6,FALSE),0)","v":0},{"$f":"IF(VLOOKUP(AF1372,Group,7,FALSE)=\"\",0,ROUND(AJ1372-0.04999,1)-AJ1372+AM1372)","v":0},{"$f":"IF(VLOOKUP(AF1372,Group,7,FALSE)=\"\",\"\",VLOOKUP(AF1372,Group,7,FALSE))","v":""},null,"X"]
[]
[null,null,null,"Hydro Ban Sheet Membrane",null,null,null,null,null,null,null,null,null,null,null,null,null,"Item # Lookup:","LT9455",null,null,null,null,null,null,null,null,null,null,null,null,null,null,null,null,null,null,null,null,null,"X"]
[]
[null,"Membranes",null,null,"3' 3\" x 98' 5\"",null,"9455-0323-2",null,null,"Sheet Membrane (323 SF Roll)",null,null,null,null,null,null,"Stock",null,{"$f":"IF(Suggested=\"Yes\",AA1376,AG1376)","v":823.45},"ROLL",{"$f":"+Instructions!$B$3","v":"I"},null,{"$f":"+Instructions!$C$22","v":0},{"$f":"ROUND($AA1376*(1-W1376)+0.004999,2)","v":823.45},null,"",823.45,{"$f":"+W1376","v":0},{"$f":"+X1376","v":823.45},{"$f":"(AG1376-AC1376)/AG1376","v":0},null,5,{"$f":"SUM(AJ1376:AL1376)+AE1376","v":823.45},null,null,{"$f":"ROUND(AC1376/(1-VLOOKUP(AF1376,Group,2,FALSE)),2)","v":823.45},{"$f":"IF(VLOOKUP(AF1376,Group,5,FALSE)=\"YES\",VLOOKUP(ROUND(ROUND(AJ1376,1)-AJ1376,2),Round,2,FALSE)+VLOOKUP(AF1376,Group,6,FALSE),0)","v":0},{"$f":"IF(VLOOKUP(AF1376,Group,7,FALSE)=\"\",0,ROUND(AJ1376-0.04999,1)-AJ1376+AM1376)","v":0},{"$f":"IF(VLOOKUP(AF1376,Group,7,FALSE)=\"\",\"\",VLOOKUP(AF1376,Group,7,FALSE))","v":""},null,"X"]
[null,"Membranes",null,null,"3' 3\" x 33'",null,"9455-0108-2",null,null,"Sheet Membrane (108 SF Roll)",null,null,null,null,null,null,null,null,{"$f":"IF(Suggested=\"Yes\",AA1377,AG1377)","v":312.8},"ROLL",{"$f":"+Instructions!$B$3","v":"I"},null,{"$f":"+Instructions!$C$22","v":0},{"$f":"ROUND($AA1377*(1-W1377)+0.004999,2)","v":312.8},null,"",312.8,{"$f":"+W1377","v":0},{"$f":"+X1377","v":312.8},{"$f":"(AG1377-AC1377)/AG1377","v":0},null,5,{"$f":"SUM(AJ1377:AL1377)+AE1377","v":312.8},null,null,{"$f":"ROUND(AC1377/(1-VLOOKUP(AF1377,Group,2,FALSE)),2)","v":312.8},{"$f":"IF(VLOOKUP(AF1377,Group,5,FALSE)=\"YES\",VLOOKUP(ROUND(ROUND(AJ1377,1)-AJ1377,2),Round,2,FALSE)+VLOOKUP(AF1377,Group,6,FALSE),0)","v":0},{"$f":"IF(VLOOKUP(AF1377,Group,7,FALSE)=\"\",0,ROUND(AJ1377-0.04999,1)-AJ1377+AM1377)","v":0},{"$f":"IF(VLOOKUP(AF1377,Group,7,FALSE)=\"\",\"\",VLOOKUP(AF1377,Group,7,FALSE))","v":""},null,"X"]
[]
[null,null,null,"Notes:","Hydro Ban Sheet Membrane is a high performance low-perm waterproofing sheet membrane for use in interior residential and commercial ",null,null,null,null,null,null,null,null,null,null,null,null,null,null,null,null,null,null,null,null,null,null,null,null,null,null,null,null,null,null,null,null,null,null,null,"X"]
[null,null,null,null,"waterproofing applications including steam showers and steam rooms.  Constructed of a thin, durable polyethylene core with a fused non-",null,null,null,null,null,null,null,null,null,null,null,null,null,null,null,null,null,null,null,null,null,null,null,null,null,null,null,null,null,null,null,null,null,null,null,"X"]
[null,null,null,null,"woven polypropylene exterior surface for optimum bond strength, Hydro Ban sheet membrane allows for the appropriate mortar usage — ",null,null,null,null,null,null,null,null,null,null,null,null,null,null," ",null,null,null,null,null,null,null,null,null,null,null,null,null,null,null,null,null,null,null,null,"X"]
[null,null,null,null,"polymer-modified or unmodified, depending upon substrate and type of tile used.  Available in rolls, sealing tapes, pre-formed inside and ",null,null,null,null,null,null,null,null,null,null,null,null,null,null,null,null,null,null,null,null,null,null,null,null,null,null,null,null,null,null,null,null,null,null,null,"X"]
[null,null,null,null,"outside corners and collars, Hydro Ban Sheet Membrane allows for quick easy waterproofing installations which will retain their integrity for ",null,null,null,null,null,null,null,null,null,null,null,null,null,null,null,null,null,null,null,null,null,null,null,null,null,null,null,null,null,null,null,null,null,null,null,"X"]
[null,null,null,null,"the life of the installation, backed by an available lifetime system warranty. ",null,null,null,null,null,null,null,null,null,null,null,null,null,null,null,null,null,null,null,null,null,null,null,null,null,null,null,null,null,null,null,null,null,null,null,"X"]
[]
[null,null,null,"Hydro Ban Sealing Tape",null,null,null,null,null,null,null,null,null,null,null,null,null,"Item # Lookup:","LT9455",null,null,null,null,null,null,null,null,null,null,null,null,null,null,null,null,null,null,null,null,null,"X"]
[]
[null,"Membranes",null,null,"5\" x 16' 5\"",null,"9455-0516-2",null,null,"Sealing Tape",null,null,null,null,null,null,null,null,{"$f":"IF(Suggested=\"Yes\",AA1388,AG1388)","v":35.65},"EA",{"$f":"+Instructions!$B$3","v":"I"},null,{"$f":"+Instructions!$C$22","v":0},{"$f":"ROUND($AA1388*(1-W1388)+0.004999,2)","v":35.65},null,"",35.65,{"$f":"+W1388","v":0},{"$f":"+X1388","v":35.65},{"$f":"(AG1388-AC1388)/AG1388","v":0},null,5,{"$f":"SUM(AJ1388:AL1388)+AE1388","v":35.65},null,null,{"$f":"ROUND(AC1388/(1-VLOOKUP(AF1388,Group,2,FALSE)),2)","v":35.65},{"$f":"IF(VLOOKUP(AF1388,Group,5,FALSE)=\"YES\",VLOOKUP(ROUND(ROUND(AJ1388,1)-AJ1388,2),Round,2,FALSE)+VLOOKUP(AF1388,Group,6,FALSE),0)","v":0},{"$f":"IF(VLOOKUP(AF1388,Group,7,FALSE)=\"\",0,ROUND(AJ1388-0.04999,1)-AJ1388+AM1388)","v":0},{"$f":"IF(VLOOKUP(AF1388,Group,7,FALSE)=\"\",\"\",VLOOKUP(AF1388,Group,7,FALSE))","v":""},null,"X"]
[null,"Membranes",null,null,"5\" x 98' 5\"",null,"9455-0598-2",null,null,"Sealing Tape",null,null,null,null,null,null,null,null,{"$f":"IF(Suggested=\"Yes\",AA1389,AG1389)","v":164.25},"EA",{"$f":"+Instructions!$B$3","v":"I"},null,{"$f":"+Instructions!$C$22","v":0},{"$f":"ROUND($AA1389*(1-W1389)+0.004999,2)","v":164.25},null,"",164.25,{"$f":"+W1389","v":0},{"$f":"+X1389","v":164.25},{"$f":"(AG1389-AC1389)/AG1389","v":0},null,5,{"$f":"SUM(AJ1389:AL1389)+AE1389","v":164.25},null,null,{"$f":"ROUND(AC1389/(1-VLOOKUP(AF1389,Group,2,FALSE)),2)","v":164.25},{"$f":"IF(VLOOKUP(AF1389,Group,5,FALSE)=\"YES\",VLOOKUP(ROUND(ROUND(AJ1389,1)-AJ1389,2),Round,2,FALSE)+VLOOKUP(AF1389,Group,6,FALSE),0)","v":0},{"$f":"IF(VLOOKUP(AF1389,Group,7,FALSE)=\"\",0,ROUND(AJ1389-0.04999,1)-AJ1389+AM1389)","v":0},{"$f":"IF(VLOOKUP(AF1389,Group,7,FALSE)=\"\",\"\",VLOOKUP(AF1389,Group,7,FALSE))","v":""},null,"X"]
[]
[null,null,null,"Hydro Ban Adhesive & Sealant",null,null,null,null,null,null,null,null,null,null,null,null,null,"Item # Lookup:","LT90",null,null,null,null,null,null,null,null,null,null,null,null,null,null,null,null,null,null,null,null,null,"X"]
[]
[null,"Other Items",null,null,"10.3 oz",null,"9099",null,null,"Hydro Ban Adhesive & Sealant",null,null,null,null,null,null,"Stock",null,{"$f":"IF(Suggested=\"Yes\",AA1393,AG1393)","v":34.4},"EA",{"$f":"+Instructions!$B$3","v":"I"},null,{"$f":"+Instructions!$C$22","v":0},{"$f":"ROUND($AA1393*(1-W1393)+0.004999,2)","v":34.4},null,"",34.4,{"$f":"+W1393","v":0},{"$f":"+X1393","v":34.4},{"$f":"(AG1393-AC1393)/AG1393","v":0},null,7,{"$f":"SUM(AJ1393:AL1393)+AE1393","v":34.4},null,null,{"$f":"ROUND(AC1393/(1-VLOOKUP(AF1393,Group,2,FALSE)),2)","v":34.4},{"$f":"IF(VLOOKUP(AF1393,Group,5,FALSE)=\"YES\",VLOOKUP(ROUND(ROUND(AJ1393,1)-AJ1393,2),Round,2,FALSE)+VLOOKUP(AF1393,Group,6,FALSE),0)","v":0},{"$f":"IF(VLOOKUP(AF1393,Group,7,FALSE)=\"\",0,ROUND(AJ1393-0.04999,1)-AJ1393+AM1393)","v":0},{"$f":"IF(VLOOKUP(AF1393,Group,7,FALSE)=\"\",\"\",VLOOKUP(AF1393,Group,7,FALSE))","v":""},null,"X"]
[]
[null,null,null,"Hydro Ban Preformed Corners",null,null,null,null,null,null,null," ",null,null,null,null,null,"Item # Lookup:","LT9455",null,null,null,null,null,null,null,null,null,null,null,null,null,null,null,null,null,null,null,null,null,"X"]
[]
[null,"Membranes",null,null,null,null,"9455-0002-IC",null,null,"Inside Corner",null,"(2 each per Package)",null,null,null,null,null,null,{"$f":"IF(Suggested=\"Yes\",AA1397,AG1397)","v":26.6},"PKG",{"$f":"+Instructions!$B$3","v":"I"},null,{"$f":"+Instructions!$C$22","v":0},{"$f":"ROUND($AA1397*(1-W1397)+0.004999,2)","v":26.6},null,"",26.6,{"$f":"+W1397","v":0},{"$f":"+X1397","v":26.6},{"$f":"(AG1397-AC1397)/AG1397","v":0},null,5,{"$f":"SUM(AJ1397:AL1397)+AE1397","v":26.6},null,null,{"$f":"ROUND(AC1397/(1-VLOOKUP(AF1397,Group,2,FALSE)),2)","v":26.6},{"$f":"IF(VLOOKUP(AF1397,Group,5,FALSE)=\"YES\",VLOOKUP(ROUND(ROUND(AJ1397,1)-AJ1397,2),Round,2,FALSE)+VLOOKUP(AF1397,Group,6,FALSE),0)","v":0},{"$f":"IF(VLOOKUP(AF1397,Group,7,FALSE)=\"\",0,ROUND(AJ1397-0.04999,1)-AJ1397+AM1397)","v":0},{"$f":"IF(VLOOKUP(AF1397,Group,7,FALSE)=\"\",\"\",VLOOKUP(AF1397,Group,7,FALSE))","v":""},null,"X"]
[null,"Membranes",null,null,null,null,"9455-0002-OC",null,null,"Outside Corner",null,"(2 each per Package)",null,null,null,null,null,null,{"$f":"IF(Suggested=\"Yes\",AA1398,AG1398)","v":26.9},"PKG",{"$f":"+Instructions!$B$3","v":"I"},null,{"$f":"+Instructions!$C$22","v":0},{"$f":"ROUND($AA1398*(1-W1398)+0.004999,2)","v":26.9},null,"",26.9,{"$f":"+W1398","v":0},{"$f":"+X1398","v":26.9},{"$f":"(AG1398-AC1398)/AG1398","v":0},null,5,{"$f":"SUM(AJ1398:AL1398)+AE1398","v":26.9},null,null,{"$f":"ROUND(AC1398/(1-VLOOKUP(AF1398,Group,2,FALSE)),2)","v":26.9},{"$f":"IF(VLOOKUP(AF1398,Group,5,FALSE)=\"YES\",VLOOKUP(ROUND(ROUND(AJ1398,1)-AJ1398,2),Round,2,FALSE)+VLOOKUP(AF1398,Group,6,FALSE),0)","v":0},{"$f":"IF(VLOOKUP(AF1398,Group,7,FALSE)=\"\",0,ROUND(AJ1398-0.04999,1)-AJ1398+AM1398)","v":0},{"$f":"IF(VLOOKUP(AF1398,Group,7,FALSE)=\"\",\"\",VLOOKUP(AF1398,Group,7,FALSE))","v":""},null,"X"]
[]
[null,null,null,"Hydro Ban Collars",null,null,null,null,null,null,null,null,null,null,null,null,null,"Item # Lookup:","LT9455",null,null,null,null,null,null,null,null,null,null,null,null,null,null,null,null,null,null,null,null,null,"X"]
[]
[null,"Membranes",null,null,"3/4\"",null,"9455-0034-PC",null,null,"Pipe Collar",null,null,null,null,null,"12 EA/CTN",null,"a",{"$f":"IF(Suggested=\"Yes\",AA1402,AG1402)","v":17.149999999999999},"EA",{"$f":"+Instructions!$B$3","v":"I"},null,{"$f":"+Instructions!$C$22","v":0},{"$f":"ROUND($AA1402*(1-W1402)+0.004999,2)","v":17.149999999999999},null,"",17.149999999999999,{"$f":"+W1402","v":0},{"$f":"+X1402","v":17.149999999999999},{"$f":"(AG1402-AC1402)/AG1402","v":0},null,5,{"$f":"SUM(AJ1402:AL1402)+AE1402","v":17.149999999999999},null,null,{"$f":"ROUND(AC1402/(1-VLOOKUP(AF1402,Group,2,FALSE)),2)","v":17.149999999999999},{"$f":"IF(VLOOKUP(AF1402,Group,5,FALSE)=\"YES\",VLOOKUP(ROUND(ROUND(AJ1402,1)-AJ1402,2),Round,2,FALSE)+VLOOKUP(AF1402,Group,6,FALSE),0)","v":0},{"$f":"IF(VLOOKUP(AF1402,Group,7,FALSE)=\"\",0,ROUND(AJ1402-0.04999,1)-AJ1402+AM1402)","v":0},{"$f":"IF(VLOOKUP(AF1402,Group,7,FALSE)=\"\",\"\",VLOOKUP(AF1402,Group,7,FALSE))","v":""},null,"X"]
[null,"Membranes",null,null,"9-3/8\"",null,"9455-0938-MV",null,null,"Mixing Valve Seal",null,null,null,null,null,"10 EA/CTN",null,null,{"$f":"IF(Suggested=\"Yes\",AA1403,AG1403)","v":23.25},"EA",{"$f":"+Instructions!$B$3","v":"I"},null,{"$f":"+Instructions!$C$22","v":0},{"$f":"ROUND($AA1403*(1-W1403)+0.004999,2)","v":23.25},null,"",23.25,{"$f":"+W1403","v":0},{"$f":"+X1403","v":23.25},{"$f":"(AG1403-AC1403)/AG1403","v":0},null,5,{"$f":"SUM(AJ1403:AL1403)+AE1403","v":23.25},null,null,{"$f":"ROUND(AC1403/(1-VLOOKUP(AF1403,Group,2,FALSE)),2)","v":23.25},{"$f":"IF(VLOOKUP(AF1403,Group,5,FALSE)=\"YES\",VLOOKUP(ROUND(ROUND(AJ1403,1)-AJ1403,2),Round,2,FALSE)+VLOOKUP(AF1403,Group,6,FALSE),0)","v":0},{"$f":"IF(VLOOKUP(AF1403,Group,7,FALSE)=\"\",0,ROUND(AJ1403-0.04999,1)-AJ1403+AM1403)","v":0},{"$f":"IF(VLOOKUP(AF1403,Group,7,FALSE)=\"\",\"\",VLOOKUP(AF1403,Group,7,FALSE))","v":""},null,"X"]
["x",null,null,null,null,null,null,null,null,null,null,null,null,null,null,null,null,null,null,null,null,null,null,null,null,null,null,null,null,null,null,null,null,null,null,null,null,null,null,null,"X"]
[null,null,null,"Hydro Ban Drain Collars",null,null,null,null,null,null,null,null,null,null,null,null,null,"Item # Lookup:","LT9455",null,null,null,null,null,null,null,null,null,null,null,null,null,null,null,null,null,null,null,null,null,"X"]
[]
[null,"Membranes",null,null,"3/4\"",null,"9455-0034-DC",null,null,"Deep Drawn Drain Collar",null,null,null,null,null,"10 EA/CTN",null,"b",{"$f":"IF(Suggested=\"Yes\",AA1407,AG1407)","v":30.9},"EA",{"$f":"+Instructions!$B$3","v":"I"},null,{"$f":"+Instructions!$C$22","v":0},{"$f":"ROUND($AA1407*(1-W1407)+0.004999,2)","v":30.9},null,"",30.9,{"$f":"+W1407","v":0},{"$f":"+X1407","v":30.9},{"$f":"(AG1407-AC1407)/AG1407","v":0},null,5,{"$f":"SUM(AJ1407:AL1407)+AE1407","v":30.9},null,null,{"$f":"ROUND(AC1407/(1-VLOOKUP(AF1407,Group,2,FALSE)),2)","v":30.9},{"$f":"IF(VLOOKUP(AF1407,Group,5,FALSE)=\"YES\",VLOOKUP(ROUND(ROUND(AJ1407,1)-AJ1407,2),Round,2,FALSE)+VLOOKUP(AF1407,Group,6,FALSE),0)","v":0},{"$f":"IF(VLOOKUP(AF1407,Group,7,FALSE)=\"\",0,ROUND(AJ1407-0.04999,1)-AJ1407+AM1407)","v":0},{"$f":"IF(VLOOKUP(AF1407,Group,7,FALSE)=\"\",\"\",VLOOKUP(AF1407,Group,7,FALSE))","v":""},null,"X"]
[null,"Membranes",null,null,"1-1/2\"",null,"9455-0112-DC",null,null,"Deep Drawn Drain Collar",null,null,null,null,null,"10 EA/CTN",null,"b",{"$f":"IF(Suggested=\"Yes\",AA1408,AG1408)","v":30.9},"EA",{"$f":"+Instructions!$B$3","v":"I"},null,{"$f":"+Instructions!$C$22","v":0},{"$f":"ROUND($AA1408*(1-W1408)+0.004999,2)","v":30.9},null,"",30.9,{"$f":"+W1408","v":0},{"$f":"+X1408","v":30.9},{"$f":"(AG1408-AC1408)/AG1408","v":0},null,5,{"$f":"SUM(AJ1408:AL1408)+AE1408","v":30.9},null,null,{"$f":"ROUND(AC1408/(1-VLOOKUP(AF1408,Group,2,FALSE)),2)","v":30.9},{"$f":"IF(VLOOKUP(AF1408,Group,5,FALSE)=\"YES\",VLOOKUP(ROUND(ROUND(AJ1408,1)-AJ1408,2),Round,2,FALSE)+VLOOKUP(AF1408,Group,6,FALSE),0)","v":0},{"$f":"IF(VLOOKUP(AF1408,Group,7,FALSE)=\"\",0,ROUND(AJ1408-0.04999,1)-AJ1408+AM1408)","v":0},{"$f":"IF(VLOOKUP(AF1408,Group,7,FALSE)=\"\",\"\",VLOOKUP(AF1408,Group,7,FALSE))","v":""},null,"X"]
[]
[null,null,null,"Notes:","a) Can be used with 1/2\" to 3/4\" pipe.",null,null,null,null,null,null,null,null,null,null,null,null,null,null,null,null,null,null,null,null,null,null,null,null,null,null,null,null,null,null,null,null,null,null,null,"X"]
[null,null,null,null,"b) Preformed drain collars are designed to use with HYDRO BAN Sheet Membrane when a shower pan is installed using 3701 Fortified",null,null,null,null,null,null,null,null,null,null,null,null,null,null,null,null,null,null,null,null,null,null,null,null,null,null,null,null,null,null,null,null,null,null,null,"X"]
[null,null,null,null,"Mortar Bed or similar materials.  The HYDRO BAN Drain Collar enables the installer to easily waterproof a shower pan when using a",null,null,null,null,null,null,null,null,null,null,null,null,null,null,null,null,null,null,null,null,null,null,null,null,null,null,null,null,null,null,null,null,null,null,null,"X"]
[null,null,null,null,"divot method with mortar around a clamping ring drain assembly. ",null,null,null,null,null,null,null,null,null,null,null,null,null,null,null,null,null,null,null,null,null,null,null,null,null,null,null,null,null,null,null,null,null,null,null,"X"]
[null,null,null,null,null,null,null,null,null,null,null,null,null,null,null,null,null,null,null,null,null,null,null,null,null,null,null,null,null,null,null,null,null,null,null,null,null,null,null,null,"X"]
[null,null,null,"Hydro Ban Peel & Stick Sheet Membrane Accessories",null,null,null,null,null,null,null,null,null,null,null,null,null,"Item # Lookup:","LT9455",null,null,null,null,null,null,null,null,null,null,null,null,null,null,null,null,null,null,null,null,null,"X"]
[]
[null,"Membranes",null,null,"5\" x 33'",null,"9455-0533-2-PS",null,null,null,"Peel & Stick Sealing Tape",null,null,null,null,null,null,null,{"$f":"IF(Suggested=\"Yes\",AA1417,AG1417)","v":150.80000000000001},"EA",{"$f":"+Instructions!$B$3","v":"I"},null,{"$f":"+Instructions!$C$22","v":0},{"$f":"ROUND($AA1417*(1-W1417)+0.004999,2)","v":150.80000000000001},null,"new",150.80000000000001,{"$f":"+W1417","v":0},{"$f":"+X1417","v":150.80000000000001},{"$f":"(AG1417-AC1417)/AG1417","v":0},null,5,{"$f":"SUM(AJ1417:AL1417)+AE1417","v":150.80000000000001},null,null,{"$f":"ROUND(AC1417/(1-VLOOKUP(AF1417,Group,2,FALSE)),2)","v":150.80000000000001},{"$f":"IF(VLOOKUP(AF1417,Group,5,FALSE)=\"YES\",VLOOKUP(ROUND(ROUND(AJ1417,1)-AJ1417,2),Round,2,FALSE)+VLOOKUP(AF1417,Group,6,FALSE),0)","v":0},{"$f":"IF(VLOOKUP(AF1417,Group,7,FALSE)=\"\",0,ROUND(AJ1417-0.04999,1)-AJ1417+AM1417)","v":0},{"$f":"IF(VLOOKUP(AF1417,Group,7,FALSE)=\"\",\"\",VLOOKUP(AF1417,Group,7,FALSE))","v":""},null,"X"]
[null,"Membranes",null,null,"5\" x 66'",null,"9455-0566-2-PS",null,null,null,"Peel & Stick Sealing Tape",null,null,null,null,null,null,null,232.85,"EA",{"$f":"+Instructions!$B$3","v":"I"},null,{"$f":"+Instructions!$C$22","v":0},232.85,null,"new",232.85,0,232.85,0,null,5,232.85,null,null,232.85,0,0,"",null,"X"]
[null,"Membranes",null,null,"5\" x 98' 5\"",null,"9455-0598-2-PS",null,null,null,"Peel & Stick Sealing Tape",null,null,null,null,null,null,null,301.3,"EA",{"$f":"+Instructions!$B$3","v":"I"},null,{"$f":"+Instructions!$C$22","v":0},301.3,null,"new",301.3,0,301.3,0,null,5,301.3,null,null,301.3,0,0,"",null,"X"]
[]
[null,"Membranes",null,null,null,null,"9455-0002-IC-PS",null,null,null,"Peel & Stick Inside Corner",null,null,null,null,"24 EA/CTN",null,null,{"$f":"IF(Suggested=\"Yes\",AA1421,AG1421)","v":26},"EA",{"$f":"+Instructions!$B$3","v":"I"},null,{"$f":"+Instructions!$C$22","v":0},{"$f":"ROUND($AA1421*(1-W1421)+0.004999,2)","v":26},null,"new",26,{"$f":"+W1421","v":0},{"$f":"+X1421","v":26},{"$f":"(AG1421-AC1421)/AG1421","v":0},null,5,{"$f":"SUM(AJ1421:AL1421)+AE1421","v":26},null,null,{"$f":"ROUND(AC1421/(1-VLOOKUP(AF1421,Group,2,FALSE)),2)","v":26},{"$f":"IF(VLOOKUP(AF1421,Group,5,FALSE)=\"YES\",VLOOKUP(ROUND(ROUND(AJ1421,1)-AJ1421,2),Round,2,FALSE)+VLOOKUP(AF1421,Group,6,FALSE),0)","v":0},{"$f":"IF(VLOOKUP(AF1421,Group,7,FALSE)=\"\",0,ROUND(AJ1421-0.04999,1)-AJ1421+AM1421)","v":0},{"$f":"IF(VLOOKUP(AF1421,Group,7,FALSE)=\"\",\"\",VLOOKUP(AF1421,Group,7,FALSE))","v":""},null,"X"]
[null,"Membranes",null,null,null,null,"9455-0002-OC-PS",null,null,null,"Peel & Stick Outside Corner",null,null,null,null,"24 EA/CTN",null,null,26,"EA",{"$f":"+Instructions!$B$3","v":"I"},null,{"$f":"+Instructions!$C$22","v":0},26,null,"new",26,0,26,0,null,5,26,null,null,26,0,0,"",null,"X"]
[]
[null,"Membranes",null,null,"3/4\"",null,"9455-0034-PC-PS",null,null,null,"Peel & Stick Pipe Collar",null,null,null,null,"50 EA/CTN",null,null,{"$f":"IF(Suggested=\"Yes\",AA1424,AG1424)","v":3.95},"EA",{"$f":"+Instructions!$B$3","v":"I"},null,{"$f":"+Instructions!$C$22","v":0},{"$f":"ROUND($AA1424*(1-W1424)+0.004999,2)","v":3.95},null,"new",3.95,{"$f":"+W1424","v":0},{"$f":"+X1424","v":3.95},{"$f":"(AG1424-AC1424)/AG1424","v":0},null,5,{"$f":"SUM(AJ1424:AL1424)+AE1424","v":3.95},null,null,{"$f":"ROUND(AC1424/(1-VLOOKUP(AF1424,Group,2,FALSE)),2)","v":3.95},{"$f":"IF(VLOOKUP(AF1424,Group,5,FALSE)=\"YES\",VLOOKUP(ROUND(ROUND(AJ1424,1)-AJ1424,2),Round,2,FALSE)+VLOOKUP(AF1424,Group,6,FALSE),0)","v":0},{"$f":"IF(VLOOKUP(AF1424,Group,7,FALSE)=\"\",0,ROUND(AJ1424-0.04999,1)-AJ1424+AM1424)","v":0},{"$f":"IF(VLOOKUP(AF1424,Group,7,FALSE)=\"\",\"\",VLOOKUP(AF1424,Group,7,FALSE))","v":""},null,"X"]
[null,"Membranes",null,null,null,null,"9455-0075-NC-PS",null,null,null,"Peel & Stick Nail Circle (200 PC/ROLL)",null,null,null,null,null,null,null,{"$f":"IF(Suggested=\"Yes\",AA1425,AG1425)","v":301.3},"EA",{"$f":"+Instructions!$B$3","v":"I"},null,{"$f":"+Instructions!$C$22","v":0},{"$f":"ROUND($AA1425*(1-W1425)+0.004999,2)","v":301.3},null,"new",301.3,{"$f":"+W1425","v":0},{"$f":"+X1425","v":301.3},{"$f":"(AG1425-AC1425)/AG1425","v":0},null,5,{"$f":"SUM(AJ1425:AL1425)+AE1425","v":301.3},null,null,{"$f":"ROUND(AC1425/(1-VLOOKUP(AF1425,Group,2,FALSE)),2)","v":301.3},{"$f":"IF(VLOOKUP(AF1425,Group,5,FALSE)=\"YES\",VLOOKUP(ROUND(ROUND(AJ1425,1)-AJ1425,2),Round,2,FALSE)+VLOOKUP(AF1425,Group,6,FALSE),0)","v":0},{"$f":"IF(VLOOKUP(AF1425,Group,7,FALSE)=\"\",0,ROUND(AJ1425-0.04999,1)-AJ1425+AM1425)","v":0},{"$f":"IF(VLOOKUP(AF1425,Group,7,FALSE)=\"\",\"\",VLOOKUP(AF1425,Group,7,FALSE))","v":""},null,"X"]
[]
[null,null,null,"Notes:","HYDRO BAN Modular Pre-Sloped Shower Pan is a component of the expanded HYDRO BAN line of products. The 4 piece modular",null,null,null,null,null,null,null,null,null,null,null,null,null,null,null,null,null,null,null,null,null,null,null,null,null,null,null,null,null,null,null,null,null,null,null,"X"]
[null,null,null,null,"system is designed for easier transport, storage, dry-fitting, and installation flexibility.  It does not include an integrated drain, available in",null,null,null,null,null,null,null,null,null,null,null,null,null,null,null,null,null,null,null,null,null,null,null,null,null,null,null,null,null,null,null,null,null,null,null,"X"]
[null,null,null,null,"center and off-center drain placements, low-profile builds, or barrier-free designs.  Includes:  (4) Piece Shower Pan, Peel & Stick Sealing",null,null,null,null,null,null,null,null,null,null,null,null,null,null,null,null,null,null,null,null,null,null,null,null,null,null,null,null,null,null,null,null,null,null,null,"X"]
[null,null,null,null,"Tape and Peel & Stick Adhesion Ring for on-site assembly and waterproof joint sealing.  Fully compatible with the HYDRO BAN Shower System.",null,null,null,null,null,null,null,null,null,null,null,null,null,null,null,null,null,null,null,null,null,null,null,null,null,null,null,null,null,null,null,null,null,null,null,"X"]
[null,null,null,null,null,null,null,null,null,null,null,null,null,null,null,null,null,null,null,null,null,null,null,null,null,null,null,null,null,null,null,null,null,null,null,null,null,null,null,null,"X"]
[null,null,null,"Hydro Ban Pre-Sloped Shower Pans",null,null,null,null,null,null,null,null,null,null,null,null,null,"Item # Lookup:","LT93",null,null,null,null,null,null,null,null,null,null,null,null,null,null,null,null,null,null,null,null,null,"X"]
[]
[null,"Other Items",null,null,"36\" x 48\"",null,"9352-3648-PVC",null,null,null,"PVC Center Drain",null,null,null,null,null,null,null,{"$f":"IF(Suggested=\"Yes\",AA1434,AG1434)","v":960.8},"EA",{"$f":"+Instructions!$B$3","v":"I"},null,{"$f":"+Instructions!$C$22","v":0},{"$f":"ROUND($AA1434*(1-W1434)+0.004999,2)","v":960.8},null,"",960.8,{"$f":"+W1434","v":0},960.8,{"$f":"(AG1434-AC1434)/AG1434","v":0},null,7,{"$f":"SUM(AJ1434:AL1434)+AE1434","v":960.8},null,null,{"$f":"ROUND(AC1434/(1-VLOOKUP(AF1434,Group,2,FALSE)),2)","v":960.8},{"$f":"IF(VLOOKUP(AF1434,Group,5,FALSE)=\"YES\",VLOOKUP(ROUND(ROUND(AJ1434,1)-AJ1434,2),Round,2,FALSE)+VLOOKUP(AF1434,Group,6,FALSE),0)","v":0},{"$f":"IF(VLOOKUP(AF1434,Group,7,FALSE)=\"\",0,ROUND(AJ1434-0.04999,1)-AJ1434+AM1434)","v":0},{"$f":"IF(VLOOKUP(AF1434,Group,7,FALSE)=\"\",\"\",VLOOKUP(AF1434,Group,7,FALSE))","v":""},null,"X"]
[null,"Other Items",null,null,"36\" x 48\"",null,"9353-3648-ABS",null,null,null,"ABS Center Drain",null,null,null,null,null,null,null,960.8,"EA",{"$f":"+Instructions!$B$3","v":"I"},null,{"$f":"+Instructions!$C$22","v":0},960.8,null,"",960.8,0,960.8,0,null,7,960.8,null,null,960.8,0,0,"",null,"X"]
[]
[null,"Other Items",null,null,"48\" x 48\"",null,"9362-4848-PVC",null,null,null,"PVC Center Drain",null,null,null,null,null,null,null,1051.75,"EA",{"$f":"+Instructions!$B$3","v":"I"},null,{"$f":"+Instructions!$C$22","v":0},1051.75,null,"",1051.75,0,1051.75,0,null,7,1051.75,null,null,1051.75,0,0,"",null,"X"]
[null,"Other Items",null,null,"48\" x 48\"",null,"9363-4848-ABS",null,null,null,"ABS Center Drain",null,null,null,null,null,null,null,1051.75,"EA",{"$f":"+Instructions!$B$3","v":"I"},null,{"$f":"+Instructions!$C$22","v":0},1051.75,null,"",1051.75,0,1051.75,0,null,7,1051.75,null,null,1051.75,0,0,"",null,"X"]
[]
[null,"Other Items",null,null,"36\" x 60\"",null,"9350-3660-PVC",null,null,null,"PVC Center Drain",null,null,null,null,null,null,null,{"$f":"IF(Suggested=\"Yes\",AA1440,AG1440)","v":1225.3499999999999},"EA",{"$f":"+Instructions!$B$3","v":"I"},null,{"$f":"+Instructions!$C$22","v":0},{"$f":"ROUND($AA1440*(1-W1440)+0.004999,2)","v":1225.3499999999999},null,"",1225.3499999999999,{"$f":"+W1440","v":0},{"$f":"+X1440","v":1225.3499999999999},{"$f":"(AG1440-AC1440)/AG1440","v":0},null,7,{"$f":"SUM(AJ1440:AL1440)+AE1440","v":1225.3499999999999},null,null,{"$f":"ROUND(AC1440/(1-VLOOKUP(AF1440,Group,2,FALSE)),2)","v":1225.3499999999999},{"$f":"IF(VLOOKUP(AF1440,Group,5,FALSE)=\"YES\",VLOOKUP(ROUND(ROUND(AJ1440,1)-AJ1440,2),Round,2,FALSE)+VLOOKUP(AF1440,Group,6,FALSE),0)","v":0},{"$f":"IF(VLOOKUP(AF1440,Group,7,FALSE)=\"\",0,ROUND(AJ1440-0.04999,1)-AJ1440+AM1440)","v":0},{"$f":"IF(VLOOKUP(AF1440,Group,7,FALSE)=\"\",\"\",VLOOKUP(AF1440,Group,7,FALSE))","v":""},null,"X"]
[null,"Other Items",null,null,"36\" x 60\"",null,"9351-3660-ABS",null,null,null,"ABS Center Drain",null,null,null,null,null,null,null,1225.3499999999999,"EA",{"$f":"+Instructions!$B$3","v":"I"},null,{"$f":"+Instructions!$C$22","v":0},1225.3499999999999,null,"",1225.3499999999999,0,1225.3499999999999,0,null,7,1225.3499999999999,null,null,1225.3499999999999,0,0,"",null,"X"]
[]
[null,"Other Items",null,null,"48\" x 60\"",null,"9360-4860-PVC",null,null,null,"PVC Center Drain",null,null,null,null,null,null,null,1564.65,"EA",{"$f":"+Instructions!$B$3","v":"I"},null,{"$f":"+Instructions!$C$22","v":0},1564.65,null,"",1564.65,0,1564.65,0,null,7,1564.65,null,null,1564.65,0,0,"",null,"X"]
[null,"Other Items",null,null,"48\" x 60\"",null,"9361-4860-ABS",null,null,null,"ABS Center Drain",null,null,null,null,null,null,null,1564.65,"EA",{"$f":"+Instructions!$B$3","v":"I"},null,{"$f":"+Instructions!$C$22","v":0},1564.65,null,"",1564.65,0,1564.65,0,null,7,1564.65,null,null,1564.65,0,0,"",null,"X"]
[]
[null,"Other Items",null," ","38\" x 66\"",null,"9370-3866-PVC",null,null,null,"PVC Off Center Drain",null,null,null,null,null,null,null,1564.15,"EA",{"$f":"+Instructions!$B$3","v":"I"},null,{"$f":"+Instructions!$C$22","v":0},1564.15,null,"",1564.15,0,1564.15,0,null,7,1564.15,null,null,1564.15,0,0,"",null,"X"]
[null,"Other Items",null,null,"38\" x 66\"",null,"9371-3866-ABS",null,null,null,"ABS Off Center Drain",null,null,null,null,null,null,null,1564.15,"EA",{"$f":"+Instructions!$B$3","v":"I"},null,{"$f":"+Instructions!$C$22","v":0},1564.15,null,"",1564.15,0,1564.15,0,null,7,1564.15,null,null,1564.15,0,0,"",null,"X"]
[]
[null,null,null,"Notes:","Laticrete Hydro Ban Pre-Sloped Shower Pans come equipped with a factory installed drain assembly saving time during installation & can ",null,null,null,null,null,null,null,null,null,null,null,null,null,null,null,null,null,null,null,null,null,null,null,null,null,null,null,null,null,null,null,null,null,null,null,"X"]
[null,null,null,null,"easily be modified onsite to adjust for any measurement variations.  Lightweight, durable & code approved, the Laticrete Hydro Ban Shower ",null,null,null,null,null,null,null,null,null,null,null,null,null,null,null,null,null,null,null,null,null,null,null,null,null,null,null,null,null,null,null,null,null,null,null,"X"]
[null,null,null,null,"System is backed by an available Lifetime System Warranty providing your peace of mind & insurance on your installation.  Laticrete Hydro ",null,null,null,null,null,null,null,null,null,null,null,null,null,null,null,null,null,null,null,null,null,null,null,null,null,null,null,null,null,null,null,null,null,null,null,"X"]
[null,null,null,null,"Ban Pre-Sloped Shower Pans, as well as Preformed Niches, Seats, Benches & Shelves are components of the expanded Laticrete Hydro ",null,null,null,null,null,null,null,null,null,null,null,null,null,null,null,null,null,null,null,null,null,null,null,null,null,null,null,null,null,null,null,null,null,null,null,"X"]
[null,null,null,null,"Ban line of waterproof products that allow for high quality rapid shower installations.  Constructed of lightweight high-density polystyrene, ",null,null,null,null,null,null,null,null,null,null,null,null,null,null,null,null,null,null,null,null,null,null,null,null,null,null,null,null,null,null,null,null,null,null,null,"X"]
[null,null,null,null,"each component is equipped with a code approved waterproof coating, ready for tile.",null,null,null,null,null,null,null,null,null,null,null,null,null,null,null,null,null,null,null,null,null,null,null,null,null,null,null,null,null,null,null,null,null,null,null,"X"]
["x",null,null,null,null,null,null,null,null,null,null,null,null,null,null,null,null,null,null,null,null,null,null,null,null,null,null,null,null,null,null,null,null,null,null,null,null,null,null,null,"X"]
[null,null,null,null,"Laticrete Hydro Ban Pre-Sloped Shower Pans come equipped with a preformed curb, a factory installed drain assembly, & a 10.3 ounce ",null,null,null,null,null,null,null,null,null,null,null,null,null,null,null,null,null,null,null,null,null,null,null,null,null,null,null,null,null,null,null,null,null,null,null,"X"]
[null,null,null,null,"tube of Hydro Ban Adhesive & Sealant.  The Hydro Ban Drain Grate is sold separately."]
[]
[null,null,null," ","Hydro Ban Pre-Sloped PVC or ABS Shower Pans can be Special Ordered.  Contact customer service for Custom Dimensions Form to "]
[null,null,null,null,"be filled out & submitted, price quote will then be provided.   "]
[null,null,null,null,null,null,null,null,null,null,null,null,null,null,null,null,null,null,null,null,null,null,null,null,null,null,null,null,null,null,null,null,null,null,null,null,null,null,null,null,"X"]
[null,null,null,"Hydro Ban Modular Pre-Sloped Shower Pan + Preformed Curb",null,null,null,null,null,null,null,null,null,null,null,null,null,"Item # Lookup:","LT9241",null,null,null,null,null,null,null,null,null,null,null,null,null,null,null,null,null,null,null,null,null,"X"]
[]
[null,"Other Items",null,null,"38\" x 38\"",null,"9241-3838-CPC",null,null,null,"Center Drain Pan",null,null,null,null,null,null,null,{"$f":"IF(Suggested=\"Yes\",AA1464,AG1464)","v":191.75},"EA",{"$f":"+Instructions!$B$3","v":"I"},null,{"$f":"+Instructions!$C$22","v":0},{"$f":"ROUND($AA1464*(1-W1464)+0.004999,2)","v":191.75},null,"new",191.75,{"$f":"+W1464","v":0},191.75,{"$f":"(AG1464-AC1464)/AG1464","v":0},null,8,{"$f":"SUM(AJ1464:AL1464)+AE1464","v":191.75},null,null,{"$f":"ROUND(AC1464/(1-VLOOKUP(AF1464,Group,2,FALSE)),2)","v":191.75},{"$f":"IF(VLOOKUP(AF1464,Group,5,FALSE)=\"YES\",VLOOKUP(ROUND(ROUND(AJ1464,1)-AJ1464,2),Round,2,FALSE)+VLOOKUP(AF1464,Group,6,FALSE),0)","v":0},{"$f":"IF(VLOOKUP(AF1464,Group,7,FALSE)=\"\",0,ROUND(AJ1464-0.04999,1)-AJ1464+AM1464)","v":0},{"$f":"IF(VLOOKUP(AF1464,Group,7,FALSE)=\"\",\"\",VLOOKUP(AF1464,Group,7,FALSE))","v":""},null,"X"]
[null,"Other Items",null,null,"48\" x 48\"",null,"9241-4848-CPC",null,null,null,"Center Drain Pan",null,null,null,null,null,null,null,219.55,"EA",{"$f":"+Instructions!$B$3","v":"I"},null,{"$f":"+Instructions!$C$22","v":0},219.55,null,"new",219.55,0,219.55,0,null,8,219.55,null,null,219.55,0,0,"",null,"X"]
[null,"Other Items",null,null,"38\" x 60\"",null,"9241-3860-CPC",null,null,null,"Center Drain Pan",null,null,null,null,null,null,null,232.95,"EA",{"$f":"+Instructions!$B$3","v":"I"},null,{"$f":"+Instructions!$C$22","v":0},232.95,null,"new",232.95,0,232.95,0,null,8,232.95,null,null,232.95,0,0,"",null,"X"]
[null,"Other Items",null,null,"38\" x 60\"",null,"9241-3860-OCPC",null,null,null,"Off Center Pan",null,null,null,null,null,null,null,232.95,"EA",{"$f":"+Instructions!$B$3","v":"I"},null,{"$f":"+Instructions!$C$22","v":0},232.95,null,"new",232.95,0,232.95,0,null,8,232.95,null,null,232.95,0,0,"",null,"X"]
[null,"Other Items",null,null,"48\" x 60\"",null,"9241-4860-CPC",null,null,null,"Center Drain Pan",null,null,null,null,null,null,null,287.55,"EA",{"$f":"+Instructions!$B$3","v":"I"},null,{"$f":"+Instructions!$C$22","v":0},287.55,null,"new",287.55,0,287.55,0,null,8,287.55,null,null,287.55,0,0,"",null,"X"]
[null,"Other Items",null,null,"60\" x 60\"",null,"9241-6060-CPC",null,null,null,"Center Drain Pan",null,null,null,null,null,null,null,369.45,"EA",{"$f":"+Instructions!$B$3","v":"I"},null,{"$f":"+Instructions!$C$22","v":0},369.45,null,"new",369.45,0,369.45,0,null,8,369.45,null,null,369.45,0,0,"",null,"X"]
[null,"Other Items",null,null,"48\" x 72\"",null,"9241-4872-CPC",null,null,null,"Center Drain Pan",null,null,null,null,null,null,null,329.3,"EA",{"$f":"+Instructions!$B$3","v":"I"},null,{"$f":"+Instructions!$C$22","v":0},329.3,null,"new",329.3,0,329.3,0,null,8,329.3,null,null,329.3,0,0,"",null,"X"]
[null,"Other Items",null,null,"72\" x 72\"",null,"9241-7272-CPC",null,null,null,"Center Drain Pan",null,null,null,null,null,null,null,425.9,"EA",{"$f":"+Instructions!$B$3","v":"I"},null,{"$f":"+Instructions!$C$22","v":0},425.9,null,"new",425.9,0,425.9,0,null,8,425.9,null,null,425.9,0,0,"",null,"X"]
[]
[null,"Other Items",null,null,"24\" x 3-1/2\" x 3-1/2\"",null,"9241-0024-CC",null,null,null,"Preformed Curb",null,null,null,null,null,null,null,{"$f":"IF(Suggested=\"Yes\",AA1473,AG1473)","v":54.75},"EA",{"$f":"+Instructions!$B$3","v":"I"},null,{"$f":"+Instructions!$C$22","v":0},{"$f":"ROUND($AA1473*(1-W1473)+0.004999,2)","v":54.75},null,"new",54.75,{"$f":"+W1473","v":0},{"$f":"+X1473","v":54.75},{"$f":"(AG1473-AC1473)/AG1473","v":0},null,8,{"$f":"SUM(AJ1473:AL1473)+AE1473","v":54.75},null,null,{"$f":"ROUND(AC1473/(1-VLOOKUP(AF1473,Group,2,FALSE)),2)","v":54.75},{"$f":"IF(VLOOKUP(AF1473,Group,5,FALSE)=\"YES\",VLOOKUP(ROUND(ROUND(AJ1473,1)-AJ1473,2),Round,2,FALSE)+VLOOKUP(AF1473,Group,6,FALSE),0)","v":0},{"$f":"IF(VLOOKUP(AF1473,Group,7,FALSE)=\"\",0,ROUND(AJ1473-0.04999,1)-AJ1473+AM1473)","v":0},{"$f":"IF(VLOOKUP(AF1473,Group,7,FALSE)=\"\",\"\",VLOOKUP(AF1473,Group,7,FALSE))","v":""},null,"X"]
[null,"Other Items",null,null,"48\" x 3-1/2\" x 3-1/2\"",null,"9241-0048-CC",null,null,null,"Preformed Curb",null,null,null,null,null,null,null,{"$f":"IF(Suggested=\"Yes\",AA1474,AG1474)","v":104},"EA",{"$f":"+Instructions!$B$3","v":"I"},null,{"$f":"+Instructions!$C$22","v":0},{"$f":"ROUND($AA1474*(1-W1474)+0.004999,2)","v":104},null,"new",104,{"$f":"+W1474","v":0},{"$f":"+X1474","v":104},{"$f":"(AG1474-AC1474)/AG1474","v":0},null,8,{"$f":"SUM(AJ1474:AL1474)+AE1474","v":104},null,null,{"$f":"ROUND(AC1474/(1-VLOOKUP(AF1474,Group,2,FALSE)),2)","v":104},{"$f":"IF(VLOOKUP(AF1474,Group,5,FALSE)=\"YES\",VLOOKUP(ROUND(ROUND(AJ1474,1)-AJ1474,2),Round,2,FALSE)+VLOOKUP(AF1474,Group,6,FALSE),0)","v":0},{"$f":"IF(VLOOKUP(AF1474,Group,7,FALSE)=\"\",0,ROUND(AJ1474-0.04999,1)-AJ1474+AM1474)","v":0},{"$f":"IF(VLOOKUP(AF1474,Group,7,FALSE)=\"\",\"\",VLOOKUP(AF1474,Group,7,FALSE))","v":""},null,"X"]
[null,"Other Items",null,null,"72\" x 3-1/2\" x 3-1/2\"",null,"9241-0072-CC",null,null,null,"Preformed Curb",null,null,null,null,null,null,null,{"$f":"IF(Suggested=\"Yes\",AA1475,AG1475)","v":153.35},"EA",{"$f":"+Instructions!$B$3","v":"I"},null,{"$f":"+Instructions!$C$22","v":0},{"$f":"ROUND($AA1475*(1-W1475)+0.004999,2)","v":153.35},null,"new",153.35,{"$f":"+W1475","v":0},{"$f":"+X1475","v":153.35},{"$f":"(AG1475-AC1475)/AG1475","v":0},null,8,{"$f":"SUM(AJ1475:AL1475)+AE1475","v":153.35},null,null,{"$f":"ROUND(AC1475/(1-VLOOKUP(AF1475,Group,2,FALSE)),2)","v":153.35},{"$f":"IF(VLOOKUP(AF1475,Group,5,FALSE)=\"YES\",VLOOKUP(ROUND(ROUND(AJ1475,1)-AJ1475,2),Round,2,FALSE)+VLOOKUP(AF1475,Group,6,FALSE),0)","v":0},{"$f":"IF(VLOOKUP(AF1475,Group,7,FALSE)=\"\",0,ROUND(AJ1475-0.04999,1)-AJ1475+AM1475)","v":0},{"$f":"IF(VLOOKUP(AF1475,Group,7,FALSE)=\"\",\"\",VLOOKUP(AF1475,Group,7,FALSE))","v":""},null,"X"]
[]
[null,null,null,"Notes:","HYDRO BAN Modular Pre-Sloped Shower Pan is a component of the expanded HYDRO BAN line of products. The 4 piece modular",null,null,null,null,null,null,null,null,null,null,null,null,null,null,null,null,null,null,null,null,null,null,null,null,null,null,null,null,null,null,null,null,null,null,null,"X"]
[null,null,null,null,"system is designed for easier transport, storage, dry-fitting, and installation flexibility.  It does not include an integrated drain, available in",null,null,null,null,null,null,null,null,null,null,null,null,null,null,null,null,null,null,null,null,null,null,null,null,null,null,null,null,null,null,null,null,null,null,null,"X"]
[null,null,null,null,"center and off-center drain placements, low-profile builds, or barrier-free designs.  Includes:  (4) Piece Shower Pan, Peel & Stick Sealing",null,null,null,null,null,null,null,null,null,null,null,null,null,null,null,null,null,null,null,null,null,null,null,null,null,null,null,null,null,null,null,null,null,null,null,"X"]
[null,null,null,null,"Tape and Peel & Stick Adhesion Ring for on-site assembly and waterproof joint sealing.  Fully compatible with the HYDRO BAN Shower System.",null,null,null,null,null,null,null,null,null,null,null,null,null,null,null,null,null,null,null,null,null,null,null,null,null,null,null,null,null,null,null,null,null,null,null,"X"]
[null,null,null,null,"The new flat-edge curbs allow for broader compatibility and flexibility during installation.",null,null,null,null,null,null,null,null,null,null,null,null,null,null,null,null,null,null,null,null,null,null,null,null,null,null,null,null,null,null,null,null,null,null,null,"X"]
[null,null,null,null,null,null,null,null,null,null,null,null,null,null,null,null,null,null,null,null,null,null,null,null,null,null,null,null,null,null,null,null,null,null,null,null,null,null,null,null,"X"]
[null,null,null,"Hydro Ban Shower Pan",null,null,null,null,null,null,"Discontinued 1/26/26",null,null,null,null,null,null,"Item # Lookup:","LT9243",null,null,null,null,null,null,null,null,null,null,null,null,null,null,null,null,null,null,null,null,null,"X"]
[]
[null,"Other Items",null,null,"48\" x 48\"",null,"9243-4848-CDP",null,null,null,"Center Drain Location",null,null,null,null,null,"Stock",null,{"$f":"IF(Suggested=\"Yes\",AA1485,AG1485)","v":162.9},"EA",{"$f":"+Instructions!$B$3","v":"I"},null,{"$f":"+Instructions!$C$22","v":0},{"$f":"ROUND($AA1485*(1-W1485)+0.004999,2)","v":162.9},null,"",162.9,{"$f":"+W1485","v":0},162.9,{"$f":"(AG1485-AC1485)/AG1485","v":0},null,7,{"$f":"SUM(AJ1485:AL1485)+AE1485","v":162.9},null,null,{"$f":"ROUND(AC1485/(1-VLOOKUP(AF1485,Group,2,FALSE)),2)","v":162.9},{"$f":"IF(VLOOKUP(AF1485,Group,5,FALSE)=\"YES\",VLOOKUP(ROUND(ROUND(AJ1485,1)-AJ1485,2),Round,2,FALSE)+VLOOKUP(AF1485,Group,6,FALSE),0)","v":0},{"$f":"IF(VLOOKUP(AF1485,Group,7,FALSE)=\"\",0,ROUND(AJ1485-0.04999,1)-AJ1485+AM1485)","v":0},{"$f":"IF(VLOOKUP(AF1485,Group,7,FALSE)=\"\",\"\",VLOOKUP(AF1485,Group,7,FALSE))","v":""},null,"X"]
[null,"Other Items",null,null,"48\" x 48\"",null,"9243-4848-CDP-BF",null,null,null,"Center Drain Location (Barrier Free)",null,null,null,null,null,null,null,206.65,"EA",{"$f":"+Instructions!$B$3","v":"I"},null,{"$f":"+Instructions!$C$22","v":0},206.65,null,"",206.65,0,206.65,0,null,8,206.65,null,null,206.65,0,0,"",null,"X"]
[null,"Other Items",null,null,"32\" x 60\"",null,"9243-3260-CDP",null,null,null,"Center Drain Location",null,null,null,null,null,"Stock",null,{"$f":"IF(Suggested=\"Yes\",AA1487,AG1487)","v":177.9},"EA",{"$f":"+Instructions!$B$3","v":"I"},null,{"$f":"+Instructions!$C$22","v":0},{"$f":"ROUND($AA1487*(1-W1487)+0.004999,2)","v":177.9},null,"",177.9,{"$f":"+W1487","v":0},{"$f":"+X1487","v":177.9},{"$f":"(AG1487-AC1487)/AG1487","v":0},null,8,{"$f":"SUM(AJ1487:AL1487)+AE1487","v":177.9},null,null,{"$f":"ROUND(AC1487/(1-VLOOKUP(AF1487,Group,2,FALSE)),2)","v":177.9},{"$f":"IF(VLOOKUP(AF1487,Group,5,FALSE)=\"YES\",VLOOKUP(ROUND(ROUND(AJ1487,1)-AJ1487,2),Round,2,FALSE)+VLOOKUP(AF1487,Group,6,FALSE),0)","v":0},{"$f":"IF(VLOOKUP(AF1487,Group,7,FALSE)=\"\",0,ROUND(AJ1487-0.04999,1)-AJ1487+AM1487)","v":0},{"$f":"IF(VLOOKUP(AF1487,Group,7,FALSE)=\"\",\"\",VLOOKUP(AF1487,Group,7,FALSE))","v":""},null,"X"]
[null,"Other Items",null,null,"32\" x 60\"",null,"9243-3260-OCDP",null,null,null,"Off-Center Drain Location",null,null,null,null,null,"Stock",null,{"$f":"IF(Suggested=\"Yes\",AA1488,AG1488)","v":177.95},"EA",{"$f":"+Instructions!$B$3","v":"I"},null,{"$f":"+Instructions!$C$22","v":0},{"$f":"ROUND($AA1488*(1-W1488)+0.004999,2)","v":177.95},null,"",177.95,{"$f":"+W1488","v":0},{"$f":"+X1488","v":177.95},{"$f":"(AG1488-AC1488)/AG1488","v":0},null,8,{"$f":"SUM(AJ1488:AL1488)+AE1488","v":177.95},null,null,{"$f":"ROUND(AC1488/(1-VLOOKUP(AF1488,Group,2,FALSE)),2)","v":177.95},{"$f":"IF(VLOOKUP(AF1488,Group,5,FALSE)=\"YES\",VLOOKUP(ROUND(ROUND(AJ1488,1)-AJ1488,2),Round,2,FALSE)+VLOOKUP(AF1488,Group,6,FALSE),0)","v":0},{"$f":"IF(VLOOKUP(AF1488,Group,7,FALSE)=\"\",0,ROUND(AJ1488-0.04999,1)-AJ1488+AM1488)","v":0},{"$f":"IF(VLOOKUP(AF1488,Group,7,FALSE)=\"\",\"\",VLOOKUP(AF1488,Group,7,FALSE))","v":""},null,"X"]
[null,"Other Items",null,null,"48\" x 72\"",null,"9243-4872-CDP",null,null,null,"Center Drain Location",null,null,null,null,null,"Stock",null,283.95,"EA",{"$f":"+Instructions!$B$3","v":"I"},null,{"$f":"+Instructions!$C$22","v":0},283.95,null,"",283.95,0,283.95,0,null,8,283.95,null,null,283.95,0,0,"",null,"X"]
[null,"Other Items",null,null,"72\" x 72\"",null,"9243-7272-CDP",null,null,null,"Center Drain Location",null,null,null,null,null,"Stock",null,378.65,"EA",{"$f":"+Instructions!$B$3","v":"I"},null,{"$f":"+Instructions!$C$22","v":0},378.65,null,"",378.65,0,378.65,0,null,8,378.65,null,null,378.65,0,0,"",null,"X"]
[]
[null,null,null,"Notes:","The Hydro Ban Shower Pan comes with a high density EPS pan along with Hydro Ban Sheet Membrane to cover the pan (the Hydro Ban Curb",null,null,null,null,null,null,null,null,null,null,null,null,null,null,null,null,null,null,null,null,null,null,null,null,null,null,null,null,null,null,null,null,null,null,null,"X"]
[null,null,null,null,"and Bonding Flange Drain and accessories are sold separately).  The Hydro Ban Shower Pan gives installer the option to finish the shower walls",null,null,null,null,null,null,null,null,null,null,null,null,null,null,null,null,null,null,null,null,null,null,null,null,null,null,null,null,null,null,null,null,null,null,null,"X"]
[null,null,null,null,"using a variety of approved methods; cement backer board with Hydro Ban Sheet Membrane, cement backer board with liquid applied Hydro Ban",null,null,null,null,null,null,null,null,null,null,null,null,null,null,null,null,null,null,null,null,null,null,null,null,null,null,null,null,null,null,null,null,null,null,null,"X"]
[null,null,null,null,"or Hydro Ban Board.  The Hydro Ban Shower Pans are Pre-Sloped, lightweight, durable and can quickly and easily be modified to size on site.",null,null,null,null,null,null,null,null,null,null,null,null,null,null,null,null,null,null,null,null,null,null,null,null,null,null,null,null,null,null,null,null,null,null,null,"X"]
[null,null,null,null,null,null,null,null,null,null,null,null,null,null,null,null,null,null,null,null,null,null,null,null,null,null,null,null,null,null,null,null,null,null,null,null,null,null,null,null,"X"]
[null,null,null,"Hydro Ban Curb",null,null,null,null,null,null,null,null,null,null,null,null,null,"Item # Lookup:","LT9243",null,null,null,null,null,null,null,null,null,null,null,null,null,null,null,null,null,null,null,null,null,"X"]
[]
[null,"Other Items",null,null,"24\" x 4-1/2\" x 3-3/4\"",null,"9243-0024-C",null,null,null,"Shower Curb",null,null,null,null,null,null,null,{"$f":"IF(Suggested=\"Yes\",AA1499,AG1499)","v":48.6},"EA",{"$f":"+Instructions!$B$3","v":"I"},null,{"$f":"+Instructions!$C$22","v":0},{"$f":"ROUND($AA1499*(1-W1499)+0.004999,2)","v":48.6},null,"",48.6,{"$f":"+W1499","v":0},{"$f":"+X1499","v":48.6},{"$f":"(AG1499-AC1499)/AG1499","v":0},null,7,{"$f":"SUM(AJ1499:AL1499)+AE1499","v":48.6},null,null,{"$f":"ROUND(AC1499/(1-VLOOKUP(AF1499,Group,2,FALSE)),2)","v":48.6},{"$f":"IF(VLOOKUP(AF1499,Group,5,FALSE)=\"YES\",VLOOKUP(ROUND(ROUND(AJ1499,1)-AJ1499,2),Round,2,FALSE)+VLOOKUP(AF1499,Group,6,FALSE),0)","v":0},{"$f":"IF(VLOOKUP(AF1499,Group,7,FALSE)=\"\",0,ROUND(AJ1499-0.04999,1)-AJ1499+AM1499)","v":0},{"$f":"IF(VLOOKUP(AF1499,Group,7,FALSE)=\"\",\"\",VLOOKUP(AF1499,Group,7,FALSE))","v":""},null,"X"]
[]
[null,null,null,"Notes:","The Hydro Ban Curb is a 24\" long EPS curb to be used with the Hydro Ban Shower Pan and is sold separately.  The Hydro Ban Curb should",null,null,null,null,null,null,null,null,null,null,null,null,null,null,null,null,null,null,null,null,null,null,null,null,null,null,null,null,null,null,null,null,null,null,null,"X"]
[null,null,null,null,"be waterproofed using Hydro Ban Sheet Membrane.",null,null,null,null,null,null,null,null,null,null,null,null,null,null,null,null,null,null,null,null,null,null,null,null,null,null,null,null,null,null,null,null,null,null,null,"X"]
[null,null,null,null,null,null,null,null,null,null,null,null,null,null,null,null,null,null,null,null,null,null,null,null,null,null,null,null,null,null,null,null,null,null,null,null,null,null,null,null,"X"]
[null,null,null,"Hydro Ban Shower Pan Kit",null,null,null,null,null,null,"Discontinued 1/26/26",null,null,null,null,null,null,"Item # Lookup:","LT9243",null,null,null,null,null,null,null,null,null,null,null,null,null,null,null,null,null,null,null,null,null,"X"]
[]
[null,"Other Items",null,null,"48\" x 48\"",null,"9243-4848-CDK",null,null,null,"Center Drain Location",null,null,null,null,null,null,null,{"$f":"IF(Suggested=\"Yes\",AA1506,AG1506)","v":723.2},"EA",{"$f":"+Instructions!$B$3","v":"I"},null,{"$f":"+Instructions!$C$22","v":0},{"$f":"ROUND($AA1506*(1-W1506)+0.004999,2)","v":723.2},null,"",723.2,{"$f":"+W1506","v":0},{"$f":"+X1506","v":723.2},{"$f":"(AG1506-AC1506)/AG1506","v":0},null,7,{"$f":"SUM(AJ1506:AL1506)+AE1506","v":723.2},null,null,{"$f":"ROUND(AC1506/(1-VLOOKUP(AF1506,Group,2,FALSE)),2)","v":723.2},{"$f":"IF(VLOOKUP(AF1506,Group,5,FALSE)=\"YES\",VLOOKUP(ROUND(ROUND(AJ1506,1)-AJ1506,2),Round,2,FALSE)+VLOOKUP(AF1506,Group,6,FALSE),0)","v":0},{"$f":"IF(VLOOKUP(AF1506,Group,7,FALSE)=\"\",0,ROUND(AJ1506-0.04999,1)-AJ1506+AM1506)","v":0},{"$f":"IF(VLOOKUP(AF1506,Group,7,FALSE)=\"\",\"\",VLOOKUP(AF1506,Group,7,FALSE))","v":""},null,"X"]
[null,"Other Items",null,null,"32\" x 60\"",null,"9243-3260-CDK",null,null,null,"Center Drain Location",null,null,null,null,null,null,null,{"$f":"IF(Suggested=\"Yes\",AA1507,AG1507)","v":802.6},"EA",{"$f":"+Instructions!$B$3","v":"I"},null,{"$f":"+Instructions!$C$22","v":0},{"$f":"ROUND($AA1507*(1-W1507)+0.004999,2)","v":802.6},null,"",802.6,{"$f":"+W1507","v":0},{"$f":"+X1507","v":802.6},{"$f":"(AG1507-AC1507)/AG1507","v":0},null,8,{"$f":"SUM(AJ1507:AL1507)+AE1507","v":802.6},null,null,{"$f":"ROUND(AC1507/(1-VLOOKUP(AF1507,Group,2,FALSE)),2)","v":802.6},{"$f":"IF(VLOOKUP(AF1507,Group,5,FALSE)=\"YES\",VLOOKUP(ROUND(ROUND(AJ1507,1)-AJ1507,2),Round,2,FALSE)+VLOOKUP(AF1507,Group,6,FALSE),0)","v":0},{"$f":"IF(VLOOKUP(AF1507,Group,7,FALSE)=\"\",0,ROUND(AJ1507-0.04999,1)-AJ1507+AM1507)","v":0},{"$f":"IF(VLOOKUP(AF1507,Group,7,FALSE)=\"\",\"\",VLOOKUP(AF1507,Group,7,FALSE))","v":""},null,"X"]
[null,"Other Items",null,null,"32\" x 60\"",null,"9243-3260-OCDK",null,null,null,"Off-Center Drain Location",null,null,null,null,null,null,null,{"$f":"IF(Suggested=\"Yes\",AA1508,AG1508)","v":802.7},"EA",{"$f":"+Instructions!$B$3","v":"I"},null,{"$f":"+Instructions!$C$22","v":0},{"$f":"ROUND($AA1508*(1-W1508)+0.004999,2)","v":802.7},null,"",802.7,{"$f":"+W1508","v":0},{"$f":"+X1508","v":802.7},{"$f":"(AG1508-AC1508)/AG1508","v":0},null,8,{"$f":"SUM(AJ1508:AL1508)+AE1508","v":802.7},null,null,{"$f":"ROUND(AC1508/(1-VLOOKUP(AF1508,Group,2,FALSE)),2)","v":802.7},{"$f":"IF(VLOOKUP(AF1508,Group,5,FALSE)=\"YES\",VLOOKUP(ROUND(ROUND(AJ1508,1)-AJ1508,2),Round,2,FALSE)+VLOOKUP(AF1508,Group,6,FALSE),0)","v":0},{"$f":"IF(VLOOKUP(AF1508,Group,7,FALSE)=\"\",0,ROUND(AJ1508-0.04999,1)-AJ1508+AM1508)","v":0},{"$f":"IF(VLOOKUP(AF1508,Group,7,FALSE)=\"\",\"\",VLOOKUP(AF1508,Group,7,FALSE))","v":""},null,"X"]
[null,"Other Items",null,null,"48\" x 72\"",null,"9243-4872-CDK",null,null,null,"Center Drain Location",null,null,null,null,null,null,null,1125.4000000000001,"EA",{"$f":"+Instructions!$B$3","v":"I"},null,{"$f":"+Instructions!$C$22","v":0},1125.4000000000001,null,"",1125.4000000000001,0,1125.4000000000001,0,null,8,1125.4000000000001,null,null,1125.4000000000001,0,0,"",null,"X"]
[null,"Other Items",null,null,"72\" x 72\"",null,"9243-7272-CDK",null,null,null,"Center Drain Location",null,null,null,null,null,null,null,1334.3,"EA",{"$f":"+Instructions!$B$3","v":"I"},null,{"$f":"+Instructions!$C$22","v":0},1334.3,null,"",1334.3,0,1334.3,0,null,8,1334.3,null,null,1334.3,0,0,"",null,"X"]
[]
[null,null,null,"Notes:","The Hydro Ban Shower Pan Kit comes with a high density EPS pan and curb along with all of the Hydro Ban Sheet Membrane and",null,null,null,null,null,null,null,null,null,null,null,null,null,null,null,null,null,null,null,null,null,null,null,null,null,null,null,null,null,null,null,null,null,null,null,"X"]
[null,null,null,null,"accessories needed for a shower installation (the Hydro Ban Bonding Flange Drain is sold separately).",null,null,null,null,null,null,null,null,null,null,null,null,null,null,null,null,null,null,null,null,null,null,null,null,null,null,null,null,null,null,null,null,null,null,null,"X"]
["x",null,null,null,null,null,null,null,null,null,null,null,null,null,null,null,null,null,null,null,null,null,null,null,null,null,null,null,null,null,null,null,null,null,null,null,null,null,null,null,"X"]
[null,null,null,"Hydro Ban Point Drain Grate",null,null,null,null,null,null,null,null,null," ",null,null,null,"Item # Lookup:","LT9248",null,null,null,null,null,null,null,null,null,null,null,null,null,null,null,null,null,null,null,null,null,"X"]
[]
[null,"Other Items",null,null,"2\" Throat",null,"9248-0404-BS",null,null,null,"4\" x 4\" Brushed Stainless Steel Grate",null,null,null,null,null,null,null,{"$f":"IF(Suggested=\"Yes\",AA1517,AG1517)","v":103.4},"EA",{"$f":"+Instructions!$B$3","v":"I"},null,{"$f":"+Instructions!$C$22","v":0},{"$f":"ROUND($AA1517*(1-W1517)+0.004999,2)","v":103.4},null,"",103.4,{"$f":"+W1517","v":0},103.4,{"$f":"(AG1517-AC1517)/AG1517","v":0},null,8,{"$f":"SUM(AJ1517:AL1517)+AE1517","v":103.4},null,null,{"$f":"ROUND(AC1517/(1-VLOOKUP(AF1517,Group,2,FALSE)),2)","v":103.4},{"$f":"IF(VLOOKUP(AF1517,Group,5,FALSE)=\"YES\",VLOOKUP(ROUND(ROUND(AJ1517,1)-AJ1517,2),Round,2,FALSE)+VLOOKUP(AF1517,Group,6,FALSE),0)","v":0},{"$f":"IF(VLOOKUP(AF1517,Group,7,FALSE)=\"\",0,ROUND(AJ1517-0.04999,1)-AJ1517+AM1517)","v":0},{"$f":"IF(VLOOKUP(AF1517,Group,7,FALSE)=\"\",\"\",VLOOKUP(AF1517,Group,7,FALSE))","v":""},null,"X"]
[null,"Other Items",null,null,"2\" Throat",null,"9248-0404-PS",null,null,null,"4\" x 4\" Polished Stainless Steel Grate",null,null,null,null,null,null,null,{"$f":"IF(Suggested=\"Yes\",AA1518,AG1518)","v":128.35},"EA",{"$f":"+Instructions!$B$3","v":"I"},null,{"$f":"+Instructions!$C$22","v":0},{"$f":"ROUND($AA1518*(1-W1518)+0.004999,2)","v":128.35},null,"",128.35,0,128.35,{"$f":"(AG1518-AC1518)/AG1518","v":0},null,8,{"$f":"SUM(AJ1518:AL1518)+AE1518","v":128.35},null,null,{"$f":"ROUND(AC1518/(1-VLOOKUP(AF1518,Group,2,FALSE)),2)","v":128.35},{"$f":"IF(VLOOKUP(AF1518,Group,5,FALSE)=\"YES\",VLOOKUP(ROUND(ROUND(AJ1518,1)-AJ1518,2),Round,2,FALSE)+VLOOKUP(AF1518,Group,6,FALSE),0)","v":0},{"$f":"IF(VLOOKUP(AF1518,Group,7,FALSE)=\"\",0,ROUND(AJ1518-0.04999,1)-AJ1518+AM1518)","v":0},{"$f":"IF(VLOOKUP(AF1518,Group,7,FALSE)=\"\",\"\",VLOOKUP(AF1518,Group,7,FALSE))","v":""},null,"X"]
[null,"Other Items",null,null,"2\" Throat",null,"9248-0404-ORB",null,null,null,"4\" x 4\" Oil Rubbed Bronze Grate",null,null,null,null,null,null,null,{"$f":"IF(Suggested=\"Yes\",AA1519,AG1519)","v":157.80000000000001},"EA",{"$f":"+Instructions!$B$3","v":"I"},null,{"$f":"+Instructions!$C$22","v":0},{"$f":"ROUND($AA1519*(1-W1519)+0.004999,2)","v":157.80000000000001},null,"",157.80000000000001,0,157.80000000000001,{"$f":"(AG1519-AC1519)/AG1519","v":0},null,8,{"$f":"SUM(AJ1519:AL1519)+AE1519","v":157.80000000000001},null,null,{"$f":"ROUND(AC1519/(1-VLOOKUP(AF1519,Group,2,FALSE)),2)","v":157.80000000000001},{"$f":"IF(VLOOKUP(AF1519,Group,5,FALSE)=\"YES\",VLOOKUP(ROUND(ROUND(AJ1519,1)-AJ1519,2),Round,2,FALSE)+VLOOKUP(AF1519,Group,6,FALSE),0)","v":0},{"$f":"IF(VLOOKUP(AF1519,Group,7,FALSE)=\"\",0,ROUND(AJ1519-0.04999,1)-AJ1519+AM1519)","v":0},{"$f":"IF(VLOOKUP(AF1519,Group,7,FALSE)=\"\",\"\",VLOOKUP(AF1519,Group,7,FALSE))","v":""},null,"X"]
[null,"Other Items",null,null,"2\" Throat",null,"9248-0404-MB",null,null,null,"4\" x 4\" Matte Black Grate",null,null,null,null,null,null,null,{"$f":"IF(Suggested=\"Yes\",AA1520,AG1520)","v":157.80000000000001},"EA",{"$f":"+Instructions!$B$3","v":"I"},null,{"$f":"+Instructions!$C$22","v":0},{"$f":"ROUND($AA1520*(1-W1520)+0.004999,2)","v":157.80000000000001},null,"",157.80000000000001,0,157.80000000000001,{"$f":"(AG1520-AC1520)/AG1520","v":0},null,8,{"$f":"SUM(AJ1520:AL1520)+AE1520","v":157.80000000000001},null,null,{"$f":"ROUND(AC1520/(1-VLOOKUP(AF1520,Group,2,FALSE)),2)","v":157.80000000000001},{"$f":"IF(VLOOKUP(AF1520,Group,5,FALSE)=\"YES\",VLOOKUP(ROUND(ROUND(AJ1520,1)-AJ1520,2),Round,2,FALSE)+VLOOKUP(AF1520,Group,6,FALSE),0)","v":0},{"$f":"IF(VLOOKUP(AF1520,Group,7,FALSE)=\"\",0,ROUND(AJ1520-0.04999,1)-AJ1520+AM1520)","v":0},{"$f":"IF(VLOOKUP(AF1520,Group,7,FALSE)=\"\",\"\",VLOOKUP(AF1520,Group,7,FALSE))","v":""},null,"X"]
[]
[null,null,null,"Notes:","LATICRETE Hydro Ban Drain Grates are low profile floor drains specifically designed for use with the LATICRETE Hydro Ban Pre-Sloped ",null,null,null,null,null,null,null,null,null,null,null,null,null,null,null,null,null,null,null,null,null,null,null,null,null,null,null,null,null,null,null,null,null,null,null,"X"]
[null,null,null,null,"Shower Pan.  The LATICRETE Hydro Ban Drain Grate can also be used in other areas requiring standard drain grate installations (i.e. with ",null,null,null,null,null,null,null,null,null,null,null,null,null,null,null,null,null,null,null,null,null,null,null,null,null,null,null,null,null,null,null,null,null,null,null,"X"]
[null,null,null,null,"standard clamping ring drains).",null,null,null,null,null,null,null,null,null,null,null,null,null,null,null,null,null,null,null,null,null,null,null,null,null,null,null,null,null,null,null,null,null,null,null,"X"]
[]
[null,null,null,"Hydro Ban Accessories",null,null,null,null,null,null,null,null,null,null,null,null,null,"Item # Lookup:","LT93",null,null,null,null,null,null,null,null,null,null,null,null,null,null,null,null,null,null,null,null,null,"X"]
[]
[null,"Other Items",null,null,"24\" x 48\"",null,"9372-2448-EXT",null,null,null,"Pre-Sloped Extension",null,null,null,null,null,null,null,{"$f":"IF(Suggested=\"Yes\",AA1528,AG1528)","v":329.75},"EA",{"$f":"+Instructions!$B$3","v":"I"},null,{"$f":"+Instructions!$C$22","v":0},{"$f":"ROUND($AA1528*(1-W1528)+0.004999,2)","v":329.75},null,"",329.75,{"$f":"+W1528","v":0},329.75,{"$f":"(AG1528-AC1528)/AG1528","v":0},null,7,{"$f":"SUM(AJ1528:AL1528)+AE1528","v":329.75},null,null,{"$f":"ROUND(AC1528/(1-VLOOKUP(AF1528,Group,2,FALSE)),2)","v":329.75},{"$f":"IF(VLOOKUP(AF1528,Group,5,FALSE)=\"YES\",VLOOKUP(ROUND(ROUND(AJ1528,1)-AJ1528,2),Round,2,FALSE)+VLOOKUP(AF1528,Group,6,FALSE),0)","v":0},{"$f":"IF(VLOOKUP(AF1528,Group,7,FALSE)=\"\",0,ROUND(AJ1528-0.04999,1)-AJ1528+AM1528)","v":0},{"$f":"IF(VLOOKUP(AF1528,Group,7,FALSE)=\"\",\"\",VLOOKUP(AF1528,Group,7,FALSE))","v":""},null,"X"]
[null,"Other Items",null,null,"13-1/2\" x 60\"",null,"9372-1360-RMP",null,null,null,"Pre-Sloped Ramp",null,null,null,null,null,null,null,{"$f":"IF(Suggested=\"Yes\",AA1529,AG1529)","v":422.5},"EA",{"$f":"+Instructions!$B$3","v":"I"},null,{"$f":"+Instructions!$C$22","v":0},{"$f":"ROUND($AA1529*(1-W1529)+0.004999,2)","v":422.5},null,"",422.5,0,422.5,{"$f":"(AG1529-AC1529)/AG1529","v":0},null,7,{"$f":"SUM(AJ1529:AL1529)+AE1529","v":422.5},null,null,{"$f":"ROUND(AC1529/(1-VLOOKUP(AF1529,Group,2,FALSE)),2)","v":422.5},{"$f":"IF(VLOOKUP(AF1529,Group,5,FALSE)=\"YES\",VLOOKUP(ROUND(ROUND(AJ1529,1)-AJ1529,2),Round,2,FALSE)+VLOOKUP(AF1529,Group,6,FALSE),0)","v":0},{"$f":"IF(VLOOKUP(AF1529,Group,7,FALSE)=\"\",0,ROUND(AJ1529-0.04999,1)-AJ1529+AM1529)","v":0},{"$f":"IF(VLOOKUP(AF1529,Group,7,FALSE)=\"\",\"\",VLOOKUP(AF1529,Group,7,FALSE))","v":""},null,"X"]
[null,"Other Items",null,null,"5'",null,"9372-0005-CRB",null,null,null,"Preformed Full Foam Curb",null,null,null,null,null,null,null,{"$f":"IF(Suggested=\"Yes\",AA1530,AG1530)","v":198.6},"EA",{"$f":"+Instructions!$B$3","v":"I"},null,{"$f":"+Instructions!$C$22","v":0},{"$f":"ROUND($AA1530*(1-W1530)+0.004999,2)","v":198.6},null,"",198.6,0,198.6,{"$f":"(AG1530-AC1530)/AG1530","v":0},null,7,{"$f":"SUM(AJ1530:AL1530)+AE1530","v":198.6},null,null,{"$f":"ROUND(AC1530/(1-VLOOKUP(AF1530,Group,2,FALSE)),2)","v":198.6},{"$f":"IF(VLOOKUP(AF1530,Group,5,FALSE)=\"YES\",VLOOKUP(ROUND(ROUND(AJ1530,1)-AJ1530,2),Round,2,FALSE)+VLOOKUP(AF1530,Group,6,FALSE),0)","v":0},{"$f":"IF(VLOOKUP(AF1530,Group,7,FALSE)=\"\",0,ROUND(AJ1530-0.04999,1)-AJ1530+AM1530)","v":0},{"$f":"IF(VLOOKUP(AF1530,Group,7,FALSE)=\"\",\"\",VLOOKUP(AF1530,Group,7,FALSE))","v":""},null,"X"]
[null,"Other Items",null,null,"4'",null,"9372-0004-OVL",null,null,null,"Preformed Overlay Curb",null,null,null,null,null,null,null,{"$f":"IF(Suggested=\"Yes\",AA1531,AG1531)","v":145.65},"EA",{"$f":"+Instructions!$B$3","v":"I"},null,{"$f":"+Instructions!$C$22","v":0},{"$f":"ROUND($AA1531*(1-W1531)+0.004999,2)","v":145.65},null,"",145.65,0,145.65,{"$f":"(AG1531-AC1531)/AG1531","v":0},null,7,{"$f":"SUM(AJ1531:AL1531)+AE1531","v":145.65},null,null,{"$f":"ROUND(AC1531/(1-VLOOKUP(AF1531,Group,2,FALSE)),2)","v":145.65},{"$f":"IF(VLOOKUP(AF1531,Group,5,FALSE)=\"YES\",VLOOKUP(ROUND(ROUND(AJ1531,1)-AJ1531,2),Round,2,FALSE)+VLOOKUP(AF1531,Group,6,FALSE),0)","v":0},{"$f":"IF(VLOOKUP(AF1531,Group,7,FALSE)=\"\",0,ROUND(AJ1531-0.04999,1)-AJ1531+AM1531)","v":0},{"$f":"IF(VLOOKUP(AF1531,Group,7,FALSE)=\"\",\"\",VLOOKUP(AF1531,Group,7,FALSE))","v":""},null,"X"]
[null,"Other Items",null,null,"8'",null,"9372-0008-OVL",null,null,null,"Preformed Overlay Curb",null,null,null,null,null,null,null,{"$f":"IF(Suggested=\"Yes\",AA1532,AG1532)","v":244},"EA",{"$f":"+Instructions!$B$3","v":"I"},null,{"$f":"+Instructions!$C$22","v":0},{"$f":"ROUND($AA1532*(1-W1532)+0.004999,2)","v":244},null,"",244,0,244,{"$f":"(AG1532-AC1532)/AG1532","v":0},null,7,{"$f":"SUM(AJ1532:AL1532)+AE1532","v":244},null,null,{"$f":"ROUND(AC1532/(1-VLOOKUP(AF1532,Group,2,FALSE)),2)","v":244},{"$f":"IF(VLOOKUP(AF1532,Group,5,FALSE)=\"YES\",VLOOKUP(ROUND(ROUND(AJ1532,1)-AJ1532,2),Round,2,FALSE)+VLOOKUP(AF1532,Group,6,FALSE),0)","v":0},{"$f":"IF(VLOOKUP(AF1532,Group,7,FALSE)=\"\",0,ROUND(AJ1532-0.04999,1)-AJ1532+AM1532)","v":0},{"$f":"IF(VLOOKUP(AF1532,Group,7,FALSE)=\"\",\"\",VLOOKUP(AF1532,Group,7,FALSE))","v":""},null,"X"]
[]
[null,null,null,"Hydro Ban Preformed Niche",null,null,null,null,null,null,null,null,null,null,null,null,null,"Item # Lookup:","LT93",null,null,null,null,null,null,null,null,null,null,null,null,null,null,null,null,null,null,null,null,null,"X"]
[]
[null,"Other Items",null,null,"12\" x 12\"",null,"9311-1212-S",null,null,null,"Square ",null,null,null,null,null,"Stock",null,{"$f":"IF(Suggested=\"Yes\",AA1536,AG1536)","v":141.9},"EA",{"$f":"+Instructions!$B$3","v":"I"},null,{"$f":"+Instructions!$C$22","v":0},{"$f":"ROUND($AA1536*(1-W1536)+0.004999,2)","v":141.9},null,"",141.9,{"$f":"+W1536","v":0},141.9,{"$f":"(AG1536-AC1536)/AG1536","v":0},null,7,{"$f":"SUM(AJ1536:AL1536)+AE1536","v":141.9},null,null,{"$f":"ROUND(AC1536/(1-VLOOKUP(AF1536,Group,2,FALSE)),2)","v":141.9},{"$f":"IF(VLOOKUP(AF1536,Group,5,FALSE)=\"YES\",VLOOKUP(ROUND(ROUND(AJ1536,1)-AJ1536,2),Round,2,FALSE)+VLOOKUP(AF1536,Group,6,FALSE),0)","v":0},{"$f":"IF(VLOOKUP(AF1536,Group,7,FALSE)=\"\",0,ROUND(AJ1536-0.04999,1)-AJ1536+AM1536)","v":0},{"$f":"IF(VLOOKUP(AF1536,Group,7,FALSE)=\"\",\"\",VLOOKUP(AF1536,Group,7,FALSE))","v":""},null,"X"]
[null,"Other Items",null,null,"21\" x 12\"",null,"9312-1212-WC",null,null,null,"Wide Combo",null,"(12\" x 6\" and 12\" x 12\" compartments) ",null,null,null,"Stock",null,{"$f":"IF(Suggested=\"Yes\",AA1537,AG1537)","v":165.65},"EA",{"$f":"+Instructions!$B$3","v":"I"},null,{"$f":"+Instructions!$C$22","v":0},{"$f":"ROUND($AA1537*(1-W1537)+0.004999,2)","v":165.65},null,"",165.65,0,165.65,{"$f":"(AG1537-AC1537)/AG1537","v":0},null,7,{"$f":"SUM(AJ1537:AL1537)+AE1537","v":165.65},null,null,{"$f":"ROUND(AC1537/(1-VLOOKUP(AF1537,Group,2,FALSE)),2)","v":165.65},{"$f":"IF(VLOOKUP(AF1537,Group,5,FALSE)=\"YES\",VLOOKUP(ROUND(ROUND(AJ1537,1)-AJ1537,2),Round,2,FALSE)+VLOOKUP(AF1537,Group,6,FALSE),0)","v":0},{"$f":"IF(VLOOKUP(AF1537,Group,7,FALSE)=\"\",0,ROUND(AJ1537-0.04999,1)-AJ1537+AM1537)","v":0},{"$f":"IF(VLOOKUP(AF1537,Group,7,FALSE)=\"\",\"\",VLOOKUP(AF1537,Group,7,FALSE))","v":""},null,"X"]
[null,"Other Items",null,null,"21\" x 8\"",null,"9313-0812-NC",null,null,null,"Narrow Combo",null,"(8\" x 6\" and 8\" x 12\" compartments)  ",null,null,null,null,null,{"$f":"IF(Suggested=\"Yes\",AA1538,AG1538)","v":165.5},"EA",{"$f":"+Instructions!$B$3","v":"I"},null,{"$f":"+Instructions!$C$22","v":0},{"$f":"ROUND($AA1538*(1-W1538)+0.004999,2)","v":165.5},null,"",165.5,0,165.5,{"$f":"(AG1538-AC1538)/AG1538","v":0},null,7,{"$f":"SUM(AJ1538:AL1538)+AE1538","v":165.5},null,null,{"$f":"ROUND(AC1538/(1-VLOOKUP(AF1538,Group,2,FALSE)),2)","v":165.5},{"$f":"IF(VLOOKUP(AF1538,Group,5,FALSE)=\"YES\",VLOOKUP(ROUND(ROUND(AJ1538,1)-AJ1538,2),Round,2,FALSE)+VLOOKUP(AF1538,Group,6,FALSE),0)","v":0},{"$f":"IF(VLOOKUP(AF1538,Group,7,FALSE)=\"\",0,ROUND(AJ1538-0.04999,1)-AJ1538+AM1538)","v":0},{"$f":"IF(VLOOKUP(AF1538,Group,7,FALSE)=\"\",\"\",VLOOKUP(AF1538,Group,7,FALSE))","v":""},null,"X"]
[null,"Other Items",null,null,"20\" x 12\"",null,"9314-1220-M",null,null,null,"Mega ",null,null,null,null,null,"Stock",null,{"$f":"IF(Suggested=\"Yes\",AA1539,AG1539)","v":165.65},"EA",{"$f":"+Instructions!$B$3","v":"I"},null,{"$f":"+Instructions!$C$22","v":0},{"$f":"ROUND($AA1539*(1-W1539)+0.004999,2)","v":165.65},null,"",165.65,0,165.65,{"$f":"(AG1539-AC1539)/AG1539","v":0},null,7,{"$f":"SUM(AJ1539:AL1539)+AE1539","v":165.65},null,null,{"$f":"ROUND(AC1539/(1-VLOOKUP(AF1539,Group,2,FALSE)),2)","v":165.65},{"$f":"IF(VLOOKUP(AF1539,Group,5,FALSE)=\"YES\",VLOOKUP(ROUND(ROUND(AJ1539,1)-AJ1539,2),Round,2,FALSE)+VLOOKUP(AF1539,Group,6,FALSE),0)","v":0},{"$f":"IF(VLOOKUP(AF1539,Group,7,FALSE)=\"\",0,ROUND(AJ1539-0.04999,1)-AJ1539+AM1539)","v":0},{"$f":"IF(VLOOKUP(AF1539,Group,7,FALSE)=\"\",\"\",VLOOKUP(AF1539,Group,7,FALSE))","v":""},null,"X"]
[]
[null,null,null,"Hydro Ban Preformed Seat",null,null,null,null,null,null," ",null,null,null,null,null,null,"Item # Lookup:","LT93",null,null,null,null,null,null,null,null,null,null,null,null,null,null,null,null,null,null,null,null,null,"X"]
[]
[null,"Other Items",null,null,"16\" x 16\" x 20\"",null,"9301-1616-T",null,null,null,"Triangle",null,null,null,null,null,null,null,{"$f":"IF(Suggested=\"Yes\",AA1543,AG1543)","v":294.64999999999998},"EA",{"$f":"+Instructions!$B$3","v":"I"},null,{"$f":"+Instructions!$C$22","v":0},{"$f":"ROUND($AA1543*(1-W1543)+0.004999,2)","v":294.64999999999998},null,"",294.64999999999998,{"$f":"+W1543","v":0},294.64999999999998,{"$f":"(AG1543-AC1543)/AG1543","v":0},null,7,{"$f":"SUM(AJ1543:AL1543)+AE1543","v":294.64999999999998},null,null,{"$f":"ROUND(AC1543/(1-VLOOKUP(AF1543,Group,2,FALSE)),2)","v":294.64999999999998},{"$f":"IF(VLOOKUP(AF1543,Group,5,FALSE)=\"YES\",VLOOKUP(ROUND(ROUND(AJ1543,1)-AJ1543,2),Round,2,FALSE)+VLOOKUP(AF1543,Group,6,FALSE),0)","v":0},{"$f":"IF(VLOOKUP(AF1543,Group,7,FALSE)=\"\",0,ROUND(AJ1543-0.04999,1)-AJ1543+AM1543)","v":0},{"$f":"IF(VLOOKUP(AF1543,Group,7,FALSE)=\"\",\"\",VLOOKUP(AF1543,Group,7,FALSE))","v":""},null,"X"]
[null,"Other Items",null,null,"16\" x 16\" x 20\"",null,"9304-1616-C",null,null,null,"Convex Triangle",null,null,null,null,null,null,null,{"$f":"IF(Suggested=\"Yes\",AA1544,AG1544)","v":322.25},"EA",{"$f":"+Instructions!$B$3","v":"I"},null,{"$f":"+Instructions!$C$22","v":0},{"$f":"ROUND($AA1544*(1-W1544)+0.004999,2)","v":322.25},null,"",322.25,0,322.25,{"$f":"(AG1544-AC1544)/AG1544","v":0},null,7,{"$f":"SUM(AJ1544:AL1544)+AE1544","v":322.25},null,null,{"$f":"ROUND(AC1544/(1-VLOOKUP(AF1544,Group,2,FALSE)),2)","v":322.25},{"$f":"IF(VLOOKUP(AF1544,Group,5,FALSE)=\"YES\",VLOOKUP(ROUND(ROUND(AJ1544,1)-AJ1544,2),Round,2,FALSE)+VLOOKUP(AF1544,Group,6,FALSE),0)","v":0},{"$f":"IF(VLOOKUP(AF1544,Group,7,FALSE)=\"\",0,ROUND(AJ1544-0.04999,1)-AJ1544+AM1544)","v":0},{"$f":"IF(VLOOKUP(AF1544,Group,7,FALSE)=\"\",\"\",VLOOKUP(AF1544,Group,7,FALSE))","v":""},null,"X"]
[]
[null,null,null,"Hydro Ban Preformed Bench",null,null,null,null,null,null,null,null,null,null,null,null,null,"Item # Lookup:","LT93",null,null,null,null,null,null,null,null,null,null,null,null,null,null,null,null,null,null,null,null,null,"X"]
[]
[null,"Other Items",null,null,"35\" x 11-1/2\" x 20\"",null,"9305-3511-B",null,null,null,"Rectangle",null," "," ",null,null,null,null,{"$f":"IF(Suggested=\"Yes\",AA1548,AG1548)","v":597},"EA",{"$f":"+Instructions!$B$3","v":"I"},null,{"$f":"+Instructions!$C$22","v":0},{"$f":"ROUND($AA1548*(1-W1548)+0.004999,2)","v":597},null,"",597,{"$f":"+W1548","v":0},{"$f":"+X1548","v":597},{"$f":"(AG1548-AC1548)/AG1548","v":0},null,7,{"$f":"SUM(AJ1548:AL1548)+AE1548","v":597},null,null,{"$f":"ROUND(AC1548/(1-VLOOKUP(AF1548,Group,2,FALSE)),2)","v":597},{"$f":"IF(VLOOKUP(AF1548,Group,5,FALSE)=\"YES\",VLOOKUP(ROUND(ROUND(AJ1548,1)-AJ1548,2),Round,2,FALSE)+VLOOKUP(AF1548,Group,6,FALSE),0)","v":0},{"$f":"IF(VLOOKUP(AF1548,Group,7,FALSE)=\"\",0,ROUND(AJ1548-0.04999,1)-AJ1548+AM1548)","v":0},{"$f":"IF(VLOOKUP(AF1548,Group,7,FALSE)=\"\",\"\",VLOOKUP(AF1548,Group,7,FALSE))","v":""},null,"X"]
[null,null,null,null,null,null,null,null,null,null,null,null,null,null,null,null,null,null,null,null,null,null,null,null,null,null,null,null,null,null,null,null,null,null,null,null,null,null,null,null,"X"]
[null,null,null,"Hydro Ban Bonding Flange Drain",null,null,null,null,null,null,null,null,null,null,null,null,null,"Item # Lookup:","LT924",null,null,null,null,null,null,null,null,null,null,null,null,null,null,null,null,null,null,null,null,null,"X"]
[]
[null,"Other Items",null,null,"4\" Throat",null,"9246-0404-BSP2",null,null,null,"PVC with/ 4\" x 4\" Brushed Stainless Steel Grate",null,null,null,null,null,null,null,{"$f":"IF(Suggested=\"Yes\",AA1552,AG1552)","v":176.65},"EA",{"$f":"+Instructions!$B$3","v":"I"},null,{"$f":"+Instructions!$C$22","v":0},{"$f":"ROUND($AA1552*(1-W1552)+0.004999,2)","v":176.65},null,"",176.65,{"$f":"+W1552","v":0},176.65,{"$f":"(AG1552-AC1552)/AG1552","v":0},null,8,{"$f":"SUM(AJ1552:AL1552)+AE1552","v":176.65},null,null,{"$f":"ROUND(AC1552/(1-VLOOKUP(AF1552,Group,2,FALSE)),2)","v":176.65},{"$f":"IF(VLOOKUP(AF1552,Group,5,FALSE)=\"YES\",VLOOKUP(ROUND(ROUND(AJ1552,1)-AJ1552,2),Round,2,FALSE)+VLOOKUP(AF1552,Group,6,FALSE),0)","v":0},{"$f":"IF(VLOOKUP(AF1552,Group,7,FALSE)=\"\",0,ROUND(AJ1552-0.04999,1)-AJ1552+AM1552)","v":0},{"$f":"IF(VLOOKUP(AF1552,Group,7,FALSE)=\"\",\"\",VLOOKUP(AF1552,Group,7,FALSE))","v":""},null,"X"]
[null,"Other Items",null,null,"4\" Throat",null,"9246-0404-MBP2",null,null,null,"PVC with/ 4\" x 4\" Matte Black Grate",null,null,null,null,null,null,null,{"$f":"IF(Suggested=\"Yes\",AA1553,AG1553)","v":229.1},"EA",{"$f":"+Instructions!$B$3","v":"I"},null,{"$f":"+Instructions!$C$22","v":0},{"$f":"ROUND($AA1553*(1-W1553)+0.004999,2)","v":229.1},null,"",229.1,{"$f":"+W1553","v":0},{"$f":"+X1553","v":229.1},{"$f":"(AG1553-AC1553)/AG1553","v":0},null,8,{"$f":"SUM(AJ1553:AL1553)+AE1553","v":229.1},null,null,{"$f":"ROUND(AC1553/(1-VLOOKUP(AF1553,Group,2,FALSE)),2)","v":229.1},{"$f":"IF(VLOOKUP(AF1553,Group,5,FALSE)=\"YES\",VLOOKUP(ROUND(ROUND(AJ1553,1)-AJ1553,2),Round,2,FALSE)+VLOOKUP(AF1553,Group,6,FALSE),0)","v":0},{"$f":"IF(VLOOKUP(AF1553,Group,7,FALSE)=\"\",0,ROUND(AJ1553-0.04999,1)-AJ1553+AM1553)","v":0},{"$f":"IF(VLOOKUP(AF1553,Group,7,FALSE)=\"\",\"\",VLOOKUP(AF1553,Group,7,FALSE))","v":""},null,"X"]
[null,"Other Items",null,null,"4\" Throat",null,"9246-0404-ORBP2",null,null,null,"PVC with/ 4\" x 4\" Oil Rubbed Bronze Grate",null,null,null,null,null,null,null,229.1,"EA",{"$f":"+Instructions!$B$3","v":"I"},null,{"$f":"+Instructions!$C$22","v":0},229.1,null,"",229.1,0,229.1,0,null,8,229.1,null,null,229.1,0,0,"",null,"X"]
[null,"Other Items",null,null,"4\" Throat",null,"9246-0404-PSP2",null,null,null,"PVC with/ 4\" x 4\" Polished Stainless Steel Grate",null,null,null,null,null,null,null,183.6,"EA",{"$f":"+Instructions!$B$3","v":"I"},null,{"$f":"+Instructions!$C$22","v":0},183.6,null,"",183.6,0,183.6,0,null,8,183.6,null,null,183.6,0,0,"",null,"X"]
[null,"Other Items",null,null,"4\" Throat",null,"9248-0BFD-A2",null,null,null,"ABS, no Grate included",null,null,null,null,null,null,null,80.7,"EA",{"$f":"+Instructions!$B$3","v":"I"},null,{"$f":"+Instructions!$C$22","v":0},80.7,null,"",80.7,0,80.7,0,null,8,80.7,null,null,80.7,0,0,"",null,"X"]
[null,"Other Items",null,null,"4\" Throat",null,"9248-0BFD-P2",null,null,null,"PVC, no Grate included",null,null,null,null,null,null,null,82.8,"EA",{"$f":"+Instructions!$B$3","v":"I"},null,{"$f":"+Instructions!$C$22","v":0},82.8,null,"",82.8,0,82.8,0,null,8,82.8,null,null,82.8,0,0,"",null,"X"]
[null,"Other Items",null,null,"4\" Throat",null,"9248-0BFD-SS",null,null,null,"Stainless Steel, no Grate included",null,null,null,null,null,null,null,277.45,"EA",{"$f":"+Instructions!$B$3","v":"I"},null,{"$f":"+Instructions!$C$22","v":0},277.45,null,"",277.45,0,277.45,0,null,8,277.45,null,null,277.45,0,0,"",null,"X"]
[null,"Other Items",null,null,"4\" Throat",null,"9246-0404BSP10",null,null,null,"PVC with/ 4\" x 4\" Brushed Stainless Steel Grate",null,null,null,null,"10 Pack",null,null,{"$f":"IF(Suggested=\"Yes\",AA1559,AG1559)","v":1678.35},"EA",{"$f":"+Instructions!$B$3","v":"I"},null,{"$f":"+Instructions!$C$22","v":0},{"$f":"ROUND($AA1559*(1-W1559)+0.004999,2)","v":1678.35},null,"",1678.35,{"$f":"+W1559","v":0},1678.35,{"$f":"(AG1559-AC1559)/AG1559","v":0},null,8,{"$f":"SUM(AJ1559:AL1559)+AE1559","v":1678.35},null,null,{"$f":"ROUND(AC1559/(1-VLOOKUP(AF1559,Group,2,FALSE)),2)","v":1678.35},{"$f":"IF(VLOOKUP(AF1559,Group,5,FALSE)=\"YES\",VLOOKUP(ROUND(ROUND(AJ1559,1)-AJ1559,2),Round,2,FALSE)+VLOOKUP(AF1559,Group,6,FALSE),0)","v":0},{"$f":"IF(VLOOKUP(AF1559,Group,7,FALSE)=\"\",0,ROUND(AJ1559-0.04999,1)-AJ1559+AM1559)","v":0},{"$f":"IF(VLOOKUP(AF1559,Group,7,FALSE)=\"\",\"\",VLOOKUP(AF1559,Group,7,FALSE))","v":""},null,"X"]
[null,"Other Items",null,null,"4\" Throat",null,"9246-0404ORBP10",null,null,null,"PVC with/ 4\" x 4\" Oil Rubbed Bronze Grate",null,null,null,null,"10 Pack",null,null,{"$f":"IF(Suggested=\"Yes\",AA1560,AG1560)","v":2269.1},"EA",{"$f":"+Instructions!$B$3","v":"I"},null,{"$f":"+Instructions!$C$22","v":0},{"$f":"ROUND($AA1560*(1-W1560)+0.004999,2)","v":2269.1},null,"",2269.1,0,2269.1,{"$f":"(AG1560-AC1560)/AG1560","v":0},null,8,{"$f":"SUM(AJ1560:AL1560)+AE1560","v":2269.1},null,null,{"$f":"ROUND(AC1560/(1-VLOOKUP(AF1560,Group,2,FALSE)),2)","v":2269.1},{"$f":"IF(VLOOKUP(AF1560,Group,5,FALSE)=\"YES\",VLOOKUP(ROUND(ROUND(AJ1560,1)-AJ1560,2),Round,2,FALSE)+VLOOKUP(AF1560,Group,6,FALSE),0)","v":0},{"$f":"IF(VLOOKUP(AF1560,Group,7,FALSE)=\"\",0,ROUND(AJ1560-0.04999,1)-AJ1560+AM1560)","v":0},{"$f":"IF(VLOOKUP(AF1560,Group,7,FALSE)=\"\",\"\",VLOOKUP(AF1560,Group,7,FALSE))","v":""},null,"X"]
[null,"Other Items",null,null,"4\" Throat",null,"9246-0404PSP10",null,null,null,"PVC with/ 4\" x 4\" Polished Stainless Steel Grate",null,null,null,null,"10 Pack",null,null,{"$f":"IF(Suggested=\"Yes\",AA1561,AG1561)","v":1809.35},"EA",{"$f":"+Instructions!$B$3","v":"I"},null,{"$f":"+Instructions!$C$22","v":0},{"$f":"ROUND($AA1561*(1-W1561)+0.004999,2)","v":1809.35},null,"",1809.35,0,1809.35,{"$f":"(AG1561-AC1561)/AG1561","v":0},null,8,{"$f":"SUM(AJ1561:AL1561)+AE1561","v":1809.35},null,null,{"$f":"ROUND(AC1561/(1-VLOOKUP(AF1561,Group,2,FALSE)),2)","v":1809.35},{"$f":"IF(VLOOKUP(AF1561,Group,5,FALSE)=\"YES\",VLOOKUP(ROUND(ROUND(AJ1561,1)-AJ1561,2),Round,2,FALSE)+VLOOKUP(AF1561,Group,6,FALSE),0)","v":0},{"$f":"IF(VLOOKUP(AF1561,Group,7,FALSE)=\"\",0,ROUND(AJ1561-0.04999,1)-AJ1561+AM1561)","v":0},{"$f":"IF(VLOOKUP(AF1561,Group,7,FALSE)=\"\",\"\",VLOOKUP(AF1561,Group,7,FALSE))","v":""},null,"X"]
[null,"Other Items",null,null,"4\" Throat",null,"9248-0BFDA10",null,null,null,"ABS, no Grate included",null,null,null,null,"10 Pack",null,null,{"$f":"IF(Suggested=\"Yes\",AA1562,AG1562)","v":769.95},"EA",{"$f":"+Instructions!$B$3","v":"I"},null,{"$f":"+Instructions!$C$22","v":0},{"$f":"ROUND($AA1562*(1-W1562)+0.004999,2)","v":769.95},null,"",769.95,0,769.95,{"$f":"(AG1562-AC1562)/AG1562","v":0},null,8,{"$f":"SUM(AJ1562:AL1562)+AE1562","v":769.95},null,null,{"$f":"ROUND(AC1562/(1-VLOOKUP(AF1562,Group,2,FALSE)),2)","v":769.95},{"$f":"IF(VLOOKUP(AF1562,Group,5,FALSE)=\"YES\",VLOOKUP(ROUND(ROUND(AJ1562,1)-AJ1562,2),Round,2,FALSE)+VLOOKUP(AF1562,Group,6,FALSE),0)","v":0},{"$f":"IF(VLOOKUP(AF1562,Group,7,FALSE)=\"\",0,ROUND(AJ1562-0.04999,1)-AJ1562+AM1562)","v":0},{"$f":"IF(VLOOKUP(AF1562,Group,7,FALSE)=\"\",\"\",VLOOKUP(AF1562,Group,7,FALSE))","v":""},null,"X"]
[null,"Other Items",null,null,"4\" Throat",null,"9248-0BFDP10",null,null,null,"PVC, no Grate included",null,null,null,null,"10 Pack",null,null,{"$f":"IF(Suggested=\"Yes\",AA1563,AG1563)","v":777.6},"EA",{"$f":"+Instructions!$B$3","v":"I"},null,{"$f":"+Instructions!$C$22","v":0},{"$f":"ROUND($AA1563*(1-W1563)+0.004999,2)","v":777.6},null,"",777.6,0,777.6,{"$f":"(AG1563-AC1563)/AG1563","v":0},null,8,{"$f":"SUM(AJ1563:AL1563)+AE1563","v":777.6},null,null,{"$f":"ROUND(AC1563/(1-VLOOKUP(AF1563,Group,2,FALSE)),2)","v":777.6},{"$f":"IF(VLOOKUP(AF1563,Group,5,FALSE)=\"YES\",VLOOKUP(ROUND(ROUND(AJ1563,1)-AJ1563,2),Round,2,FALSE)+VLOOKUP(AF1563,Group,6,FALSE),0)","v":0},{"$f":"IF(VLOOKUP(AF1563,Group,7,FALSE)=\"\",0,ROUND(AJ1563-0.04999,1)-AJ1563+AM1563)","v":0},{"$f":"IF(VLOOKUP(AF1563,Group,7,FALSE)=\"\",\"\",VLOOKUP(AF1563,Group,7,FALSE))","v":""},null,"X"]
["x",null,null,null,null,null,null,null,null,null,null,null,null,null,null,null,null,null,null,null,null,null,null,null,null,null,null,null,null,null,null,null,null,null,null,null,null,null,null,null,"X"]
[null,"Other Items",null,null,"2\" Throat",null,"9246-0404-TIP2",null,null,null,"PVC with/ 4\" x 4\" Tile-In Drain",null,null,null,null,null,null,null,{"$f":"IF(Suggested=\"Yes\",AA1565,AG1565)","v":188.35},"EA",{"$f":"+Instructions!$B$3","v":"I"},null,{"$f":"+Instructions!$C$22","v":0},{"$f":"ROUND($AA1565*(1-W1565)+0.004999,2)","v":188.35},null,"",188.35,{"$f":"+W1565","v":0},{"$f":"+X1565","v":188.35},{"$f":"(AG1565-AC1565)/AG1565","v":0},null,8,{"$f":"SUM(AJ1565:AL1565)+AE1565","v":188.35},null,null,{"$f":"ROUND(AC1565/(1-VLOOKUP(AF1565,Group,2,FALSE)),2)","v":188.35},{"$f":"IF(VLOOKUP(AF1565,Group,5,FALSE)=\"YES\",VLOOKUP(ROUND(ROUND(AJ1565,1)-AJ1565,2),Round,2,FALSE)+VLOOKUP(AF1565,Group,6,FALSE),0)","v":0},{"$f":"IF(VLOOKUP(AF1565,Group,7,FALSE)=\"\",0,ROUND(AJ1565-0.04999,1)-AJ1565+AM1565)","v":0},{"$f":"IF(VLOOKUP(AF1565,Group,7,FALSE)=\"\",\"\",VLOOKUP(AF1565,Group,7,FALSE))","v":""},null,"X"]
[null,null,null,null,null,null,null,null,null,null,null,null,null,null,null,null,null,null,null,null,null,null,null,null,null,null,null,null,null,null,null,null,null,null,null,null,null,null,null,null,"X"]
[null,"Other Items",null,null,"2\" Throat",null,"9246-0404TIP10",null,null,null,"PVC with/ 4\" x 4\" Tile-In Drain",null,null,null,null,"10 Pack",null,null,{"$f":"IF(Suggested=\"Yes\",AA1567,AG1567)","v":1806.9},"EA",{"$f":"+Instructions!$B$3","v":"I"},null,{"$f":"+Instructions!$C$22","v":0},{"$f":"ROUND($AA1567*(1-W1567)+0.004999,2)","v":1806.9},null,"",1806.9,{"$f":"+W1567","v":0},{"$f":"+X1567","v":1806.9},{"$f":"(AG1567-AC1567)/AG1567","v":0},null,8,{"$f":"SUM(AJ1567:AL1567)+AE1567","v":1806.9},null,null,{"$f":"ROUND(AC1567/(1-VLOOKUP(AF1567,Group,2,FALSE)),2)","v":1806.9},{"$f":"IF(VLOOKUP(AF1567,Group,5,FALSE)=\"YES\",VLOOKUP(ROUND(ROUND(AJ1567,1)-AJ1567,2),Round,2,FALSE)+VLOOKUP(AF1567,Group,6,FALSE),0)","v":0},{"$f":"IF(VLOOKUP(AF1567,Group,7,FALSE)=\"\",0,ROUND(AJ1567-0.04999,1)-AJ1567+AM1567)","v":0},{"$f":"IF(VLOOKUP(AF1567,Group,7,FALSE)=\"\",\"\",VLOOKUP(AF1567,Group,7,FALSE))","v":""},null,"X"]
[null,null,null,null,null,null,null,null,null,null,null,null,null,null,null,null,null,null,null,null,null,null,null,null,null,null,null,null,null,null,null,null,null,null,null,null,null,null,null,null,"X"]
[null,null,null,"Notes:","Laticrete Hydro Ban Flange Drain & the Laticrete Hydro Ban Flange Tile Drain are low profile floor drains specifically designed for bonded ",null,null,null,null,null,null,null,null,null,null,null,null,null,null,null,null,null,null,null,null,null,null,null,null,null,null,null,null,null,null,null,null,null,null,null,"X"]
[null,null,null,null,"waterproofing installations with Laticrete Hydro Ban waterproofing membrane.  Laticrete Hydro Ban Flange Drains allow for the installation ",null,null,null,null,null,null,null,null,null,null,null,null,null,null,null,null,null,null,null,null,null,null,null,null,null,null,null,null,null,null,null,null,null,null,null,"X"]
[null,null,null,null,"in a shower, eliminating the pre-slope & primary shower pan liner according to TCNA B422.     ",null,null,null,null,null,null,null,null,null,null,null,null,null,null,null,null,null,null,null,null,null,null,null,null,null,null,null,null,null,null,null,null,null,null,null,"X"]
[null,null,null,null,null,null,null,null,null,null,null,null,null,null,null,null,null,null,null,null,null,null,null,null,null,null,null,null,null,null,null,null,null,null,null,null,null,null,null,null,"X"]
[null,null,null,"Hydro Ban Linear Pre-Sloped Shower Pans",null,null,null,null,null,null,null,null,null,null,null,null,null,"Item # Lookup:","LT93",null,null,null,null,null,null,null,null,null,null,null,null,null,null,null,null,null,null,null,null,null,"X"]
[]
[null,"Other Items",null,null,"34\" x 66\"",null,"9349-3466-LDP",null,null,"Linear Drain Pan",null,"(Uses a 32\" Hydro Ban Linear Drain)",null,null,null,null,null,null,{"$f":"IF(Suggested=\"Yes\",AA1575,AG1575)","v":1226.95},"EA",{"$f":"+Instructions!$B$3","v":"I"},null,{"$f":"+Instructions!$C$22","v":0},{"$f":"ROUND($AA1575*(1-W1575)+0.004999,2)","v":1226.95},null,"",1226.95,{"$f":"+W1575","v":0},1226.95,{"$f":"(AG1575-AC1575)/AG1575","v":0},null,7,{"$f":"SUM(AJ1575:AL1575)+AE1575","v":1226.95},null,null,{"$f":"ROUND(AC1575/(1-VLOOKUP(AF1575,Group,2,FALSE)),2)","v":1226.95},{"$f":"IF(VLOOKUP(AF1575,Group,5,FALSE)=\"YES\",VLOOKUP(ROUND(ROUND(AJ1575,1)-AJ1575,2),Round,2,FALSE)+VLOOKUP(AF1575,Group,6,FALSE),0)","v":0},{"$f":"IF(VLOOKUP(AF1575,Group,7,FALSE)=\"\",0,ROUND(AJ1575-0.04999,1)-AJ1575+AM1575)","v":0},{"$f":"IF(VLOOKUP(AF1575,Group,7,FALSE)=\"\",\"\",VLOOKUP(AF1575,Group,7,FALSE))","v":""},null,"X"]
[null,"Other Items",null,null,"38\" x 66\"",null,"9349-3866-LDP",null,null,"Linear Drain Pan",null,"(Uses a 36\" Hydro Ban Linear Drain)",null,null,null,null,null,null,{"$f":"IF(Suggested=\"Yes\",AA1576,AG1576)","v":1318.25},"EA",{"$f":"+Instructions!$B$3","v":"I"},null,{"$f":"+Instructions!$C$22","v":0},{"$f":"ROUND($AA1576*(1-W1576)+0.004999,2)","v":1318.25},null,"",1318.25,0,1318.25,{"$f":"(AG1576-AC1576)/AG1576","v":0},null,7,{"$f":"SUM(AJ1576:AL1576)+AE1576","v":1318.25},null,null,{"$f":"ROUND(AC1576/(1-VLOOKUP(AF1576,Group,2,FALSE)),2)","v":1318.25},{"$f":"IF(VLOOKUP(AF1576,Group,5,FALSE)=\"YES\",VLOOKUP(ROUND(ROUND(AJ1576,1)-AJ1576,2),Round,2,FALSE)+VLOOKUP(AF1576,Group,6,FALSE),0)","v":0},{"$f":"IF(VLOOKUP(AF1576,Group,7,FALSE)=\"\",0,ROUND(AJ1576-0.04999,1)-AJ1576+AM1576)","v":0},{"$f":"IF(VLOOKUP(AF1576,Group,7,FALSE)=\"\",\"\",VLOOKUP(AF1576,Group,7,FALSE))","v":""},null,"X"]
[null,"Other Items",null,null,"44\" x 66\"",null,"9349-4466-LDP",null,null,"Linear Drain Pan",null,"(Uses a 42\" Hydro Ban Linear Drain)",null,null,null,null,null,null,{"$f":"IF(Suggested=\"Yes\",AA1577,AG1577)","v":1409.3},"EA",{"$f":"+Instructions!$B$3","v":"I"},null,{"$f":"+Instructions!$C$22","v":0},{"$f":"ROUND($AA1577*(1-W1577)+0.004999,2)","v":1409.3},null,"",1409.3,0,1409.3,{"$f":"(AG1577-AC1577)/AG1577","v":0},null,7,{"$f":"SUM(AJ1577:AL1577)+AE1577","v":1409.3},null,null,{"$f":"ROUND(AC1577/(1-VLOOKUP(AF1577,Group,2,FALSE)),2)","v":1409.3},{"$f":"IF(VLOOKUP(AF1577,Group,5,FALSE)=\"YES\",VLOOKUP(ROUND(ROUND(AJ1577,1)-AJ1577,2),Round,2,FALSE)+VLOOKUP(AF1577,Group,6,FALSE),0)","v":0},{"$f":"IF(VLOOKUP(AF1577,Group,7,FALSE)=\"\",0,ROUND(AJ1577-0.04999,1)-AJ1577+AM1577)","v":0},{"$f":"IF(VLOOKUP(AF1577,Group,7,FALSE)=\"\",\"\",VLOOKUP(AF1577,Group,7,FALSE))","v":""},null,"X"]
[null,"Other Items",null,null,"50\" x 66\"",null,"9349-5066-LDP",null,null,"Linear Drain Pan",null,"(Uses a 48\" Hydro Ban Linear Drain)",null,null,null,null,null,null,{"$f":"IF(Suggested=\"Yes\",AA1578,AG1578)","v":1500.35},"EA",{"$f":"+Instructions!$B$3","v":"I"},null,{"$f":"+Instructions!$C$22","v":0},{"$f":"ROUND($AA1578*(1-W1578)+0.004999,2)","v":1500.35},null,"",1500.35,0,1500.35,{"$f":"(AG1578-AC1578)/AG1578","v":0},null,7,{"$f":"SUM(AJ1578:AL1578)+AE1578","v":1500.35},null,null,{"$f":"ROUND(AC1578/(1-VLOOKUP(AF1578,Group,2,FALSE)),2)","v":1500.35},{"$f":"IF(VLOOKUP(AF1578,Group,5,FALSE)=\"YES\",VLOOKUP(ROUND(ROUND(AJ1578,1)-AJ1578,2),Round,2,FALSE)+VLOOKUP(AF1578,Group,6,FALSE),0)","v":0},{"$f":"IF(VLOOKUP(AF1578,Group,7,FALSE)=\"\",0,ROUND(AJ1578-0.04999,1)-AJ1578+AM1578)","v":0},{"$f":"IF(VLOOKUP(AF1578,Group,7,FALSE)=\"\",\"\",VLOOKUP(AF1578,Group,7,FALSE))","v":""},null,"X"]
[]
[null,null,null,"Notes:","Each pre-sloped shower pan is packaged with one Laticrete Hydro Ban Linear Pre-Sloped Shower Pan, one Laticrete Hydro Ban Preformed",null,null,null,null,null,null,null,null,null,null,null,null,null,null,null,null,null,null,null,null,null,null,null,null,null,null,null,null,null,null,null,null,null,null,null,"X"]
[null,null,null,null,"Curb, & one tube of Laticrete Hydro Ban Adhesive & Sealant.  Laticrete Hydro Ban Linear Drain Troughs & Grates are sold separately.   ",null,null,null,null,null,null,null,null,null,null,null,null,null,null,null,null,null,null,null,null,null,null,null,null,null,null,null,null,null,null,null,null,null,null,null,"X"]
[]
[null,null,null," ","Hydro Ban Linear Pre-Sloped Shower Pans can be Special Ordered.  Contact customer service for Custom Dimensions Form to be filled "]
[null,null,null,null,"out & submitted, price quote will then be provided."]
[]
[null,null,null,"Hydro Ban Linear Drain \"T\" Trough",null,null,null,null,null,null,null,null,null," ",null,null,null,"Item # Lookup:","LT9244",null,null,null,null,null,null,null,null,null,null,null,null,null,null,null,null,null,null,null,null,null,"X"]
[]
[null,"Other Items",null,null,"Length:  24\"",null,"9244-0024-T",null,null,"Hydro Ban Linear Drain \"T\" Trough",null,null,null,null,null,null,null,null,{"$f":"IF(Suggested=\"Yes\",AA1588,AG1588)","v":675.55},"EA",{"$f":"+Instructions!$B$3","v":"I"},null,{"$f":"+Instructions!$C$22","v":0},{"$f":"ROUND($AA1588*(1-W1588)+0.004999,2)","v":675.55},null,"",675.55,{"$f":"+W1588","v":0},{"$f":"+X1588","v":675.55},{"$f":"(AG1588-AC1588)/AG1588","v":0},null,8,{"$f":"SUM(AJ1588:AL1588)+AE1588","v":675.55},null,null,{"$f":"ROUND(AC1588/(1-VLOOKUP(AF1588,Group,2,FALSE)),2)","v":675.55},{"$f":"IF(VLOOKUP(AF1588,Group,5,FALSE)=\"YES\",VLOOKUP(ROUND(ROUND(AJ1588,1)-AJ1588,2),Round,2,FALSE)+VLOOKUP(AF1588,Group,6,FALSE),0)","v":0},{"$f":"IF(VLOOKUP(AF1588,Group,7,FALSE)=\"\",0,ROUND(AJ1588-0.04999,1)-AJ1588+AM1588)","v":0},{"$f":"IF(VLOOKUP(AF1588,Group,7,FALSE)=\"\",\"\",VLOOKUP(AF1588,Group,7,FALSE))","v":""},null,"X"]
[null,"Other Items",null,null,"Length:  30\"",null,"9244-0030-T",null,null,"Hydro Ban Linear Drain \"T\" Trough",null,null,null,null,null,null,null,null,773.4,"EA",{"$f":"+Instructions!$B$3","v":"I"},null,{"$f":"+Instructions!$C$22","v":0},773.4,null,"",773.4,0,773.4,0,null,8,773.4,null,null,773.4,0,0,"",null,"X"]
[null,"Other Items",null,null,"Length:  32\"",null,"9244-0032-T",null,null,"Hydro Ban Linear Drain \"T\" Trough",null,null,null,null,null,null,null,null,784.85,"EA",{"$f":"+Instructions!$B$3","v":"I"},null,{"$f":"+Instructions!$C$22","v":0},784.85,null,"",784.85,0,784.85,0,null,8,784.85,null,null,784.85,0,0,"",null,"X"]
[null,"Other Items",null,null,"Length:  36\"",null,"9244-0036-T",null,null,"Hydro Ban Linear Drain \"T\" Trough",null,null,null,null,null,null,null,null,854.6,"EA",{"$f":"+Instructions!$B$3","v":"I"},null,{"$f":"+Instructions!$C$22","v":0},854.6,null,"",854.6,0,854.6,0,null,8,854.6,null,null,854.6,0,0,"",null,"X"]
[null,"Other Items",null,null,"Length:  42\"",null,"9244-0042-T",null,null,"Hydro Ban Linear Drain \"T\" Trough",null,null,null,null,null,null,null,null,886.6,"EA",{"$f":"+Instructions!$B$3","v":"I"},null,{"$f":"+Instructions!$C$22","v":0},886.6,null,"",886.6,0,886.6,0,null,8,886.6,null,null,886.6,0,0,"",null,"X"]
[null,"Other Items",null,null,"Length:  48\"",null,"9244-0048-T",null,null,"Hydro Ban Linear Drain \"T\" Trough",null,null,null,null,null,null,null,null,916.65,"EA",{"$f":"+Instructions!$B$3","v":"I"},null,{"$f":"+Instructions!$C$22","v":0},916.65,null,"",916.65,0,916.65,0,null,8,916.65,null,null,916.65,0,0,"",null,"X"]
[null,"Other Items",null,null,"Length:  54\"",null,"9244-0054-T",null,null,"Hydro Ban Linear Drain \"T\" Trough",null,null,null,null,null,null,null,null,1008.9,"EA",{"$f":"+Instructions!$B$3","v":"I"},null,{"$f":"+Instructions!$C$22","v":0},1008.9,null,"",1008.9,0,1008.9,0,null,8,1008.9,null,null,1008.9,0,0,"",null,"X"]
[null,"Other Items",null,null,"Length:  60\"",null,"9244-0060-T",null,null,"Hydro Ban Linear Drain \"T\" Trough",null,null,null,null,null,null,null,null,1108.4000000000001,"EA",{"$f":"+Instructions!$B$3","v":"I"},null,{"$f":"+Instructions!$C$22","v":0},1108.4000000000001,null,"",1108.4000000000001,0,1108.4000000000001,0,null,8,1108.4000000000001,null,null,1108.4000000000001,0,0,"",null,"X"]
[]
[null,null,null,"Hydro Ban Linear Drain Side Outlet Trough",null,null,null,null,null,null,null,null,null," ",null,null,null,"Item # Lookup:","LT9244",null,null,null,null,null,null,null,null,null,null,null,null,null,null,null,null,null,null,null,null,null,"X"]
[]
[null,"Other Items",null,null,"Length:  24\"",null,"9244-0024-SO",null,null,"Hydro Ban Linear Drain Side Outlet Trough",null,null,null,null,null,null,null,null,{"$f":"IF(Suggested=\"Yes\",AA1599,AG1599)","v":858.8},"EA",{"$f":"+Instructions!$B$3","v":"I"},null,{"$f":"+Instructions!$C$22","v":0},{"$f":"ROUND($AA1599*(1-W1599)+0.004999,2)","v":858.8},null,"",858.8,{"$f":"+W1599","v":0},858.8,{"$f":"(AG1599-AC1599)/AG1599","v":0},null,8,{"$f":"SUM(AJ1599:AL1599)+AE1599","v":858.8},null,null,{"$f":"ROUND(AC1599/(1-VLOOKUP(AF1599,Group,2,FALSE)),2)","v":858.8},{"$f":"IF(VLOOKUP(AF1599,Group,5,FALSE)=\"YES\",VLOOKUP(ROUND(ROUND(AJ1599,1)-AJ1599,2),Round,2,FALSE)+VLOOKUP(AF1599,Group,6,FALSE),0)","v":0},{"$f":"IF(VLOOKUP(AF1599,Group,7,FALSE)=\"\",0,ROUND(AJ1599-0.04999,1)-AJ1599+AM1599)","v":0},{"$f":"IF(VLOOKUP(AF1599,Group,7,FALSE)=\"\",\"\",VLOOKUP(AF1599,Group,7,FALSE))","v":""},null,"X"]
[null,"Other Items",null,null,"Length:  30\"",null,"9244-0030-SO",null,null,"Hydro Ban Linear Drain Side Outlet Trough",null,null,null,null,null,null,null,null,934.8,"EA",{"$f":"+Instructions!$B$3","v":"I"},null,{"$f":"+Instructions!$C$22","v":0},934.8,null,"",934.8,0,934.8,0,null,8,934.8,null,null,934.8,0,0,"",null,"X"]
[null,"Other Items",null,null,"Length:  32\"",null,"9244-0032-SO",null,null,"Hydro Ban Linear Drain Side Outlet Trough",null,null,null,null,null,null,null,null,968.35,"EA",{"$f":"+Instructions!$B$3","v":"I"},null,{"$f":"+Instructions!$C$22","v":0},968.35,null,"",968.35,0,968.35,0,null,8,968.35,null,null,968.35,0,0,"",null,"X"]
[null,"Other Items",null,null,"Length:  36\"",null,"9244-0036-SO",null,null,"Hydro Ban Linear Drain Side Outlet Trough",null,null,null,null,null,null,null,null,1035.4000000000001,"EA",{"$f":"+Instructions!$B$3","v":"I"},null,{"$f":"+Instructions!$C$22","v":0},1035.4000000000001,null,"",1035.4000000000001,0,1035.4000000000001,0,null,8,1035.4000000000001,null,null,1035.4000000000001,0,0,"",null,"X"]
[null,"Other Items",null,null,"Length:  42\"",null,"9244-0042-SO",null,null,"Hydro Ban Linear Drain Side Outlet Trough",null,null,null,null,null,null,null,null,1091.6500000000001,"EA",{"$f":"+Instructions!$B$3","v":"I"},null,{"$f":"+Instructions!$C$22","v":0},1091.6500000000001,null,"",1091.6500000000001,0,1091.6500000000001,0,null,8,1091.6500000000001,null,null,1091.6500000000001,0,0,"",null,"X"]
[null,"Other Items",null,null,"Length:  48\"",null,"9244-0048-SO",null,null,"Hydro Ban Linear Drain Side Outlet Trough",null,null,null,null,null,null,null,null,1144.25,"EA",{"$f":"+Instructions!$B$3","v":"I"},null,{"$f":"+Instructions!$C$22","v":0},1144.25,null,"",1144.25,0,1144.25,0,null,8,1144.25,null,null,1144.25,0,0,"",null,"X"]
[null,"Other Items",null,null,"Length:  54\"",null,"9244-0054-SO",null,null,"Hydro Ban Linear Drain Side Outlet Trough",null,null,null,null,null,null,null,null,1220.3499999999999,"EA",{"$f":"+Instructions!$B$3","v":"I"},null,{"$f":"+Instructions!$C$22","v":0},1220.3499999999999,null,"",1220.3499999999999,0,1220.3499999999999,0,null,8,1220.3499999999999,null,null,1220.3499999999999,0,0,"",null,"X"]
[null,"Other Items",null,null,"Length:  60\"",null,"9244-0060-SO",null,null,"Hydro Ban Linear Drain Side Outlet Trough",null,null,null,null,null,null,null,null,1296.4000000000001,"EA",{"$f":"+Instructions!$B$3","v":"I"},null,{"$f":"+Instructions!$C$22","v":0},1296.4000000000001,null,"",1296.4000000000001,0,1296.4000000000001,0,null,8,1296.4000000000001,null,null,1296.4000000000001,0,0,"",null,"X"]
[]
[null,null,null,"Hydro Ban Linear Drain Threaded Connector Trough",null,null,null,null,null,null,null,null,null," ",null,null,null,"Item # Lookup:","LT9244",null,null,null,null,null,null,null,null,null,null,null,null,null,null,null,null,null,null,null,null,null,"X"]
[]
[null,"Other Items",null,null,"Length:  24\"",null,"9244-0024-TN",null,null,"Hydro Ban Linear Drain Threaded Connector Trough",null,null,null,null,null,null,null,null,{"$f":"IF(Suggested=\"Yes\",AA1610,AG1610)","v":767.15},"EA",{"$f":"+Instructions!$B$3","v":"I"},null,{"$f":"+Instructions!$C$22","v":0},{"$f":"ROUND($AA1610*(1-W1610)+0.004999,2)","v":767.15},null,"",767.15,{"$f":"+W1610","v":0},{"$f":"+X1610","v":767.15},{"$f":"(AG1610-AC1610)/AG1610","v":0},null,8,{"$f":"SUM(AJ1610:AL1610)+AE1610","v":767.15},null,null,{"$f":"ROUND(AC1610/(1-VLOOKUP(AF1610,Group,2,FALSE)),2)","v":767.15},{"$f":"IF(VLOOKUP(AF1610,Group,5,FALSE)=\"YES\",VLOOKUP(ROUND(ROUND(AJ1610,1)-AJ1610,2),Round,2,FALSE)+VLOOKUP(AF1610,Group,6,FALSE),0)","v":0},{"$f":"IF(VLOOKUP(AF1610,Group,7,FALSE)=\"\",0,ROUND(AJ1610-0.04999,1)-AJ1610+AM1610)","v":0},{"$f":"IF(VLOOKUP(AF1610,Group,7,FALSE)=\"\",\"\",VLOOKUP(AF1610,Group,7,FALSE))","v":""},null,"X"]
[null,"Other Items",null,null,"Length:  30\"",null,"9244-0030-TN",null,null,"Hydro Ban Linear Drain Threaded Connector Trough",null,null,null,null,null,null,null,null,{"$f":"IF(Suggested=\"Yes\",AA1611,AG1611)","v":854.05},"EA",{"$f":"+Instructions!$B$3","v":"I"},null,{"$f":"+Instructions!$C$22","v":0},854.05,null,"",854.05,0,854.05,0,null,8,854.05,null,null,854.05,0,0,"",null,"X"]
[null,"Other Items",null,null,"Length:  32\"",null,"9244-0032-TN",null,null,"Hydro Ban Linear Drain Threaded Connector Trough",null,null,null,null,null,null,null,null,884.4,"EA",{"$f":"+Instructions!$B$3","v":"I"},null,{"$f":"+Instructions!$C$22","v":0},884.4,null,"",884.4,0,884.4,0,null,8,884.4,null,null,884.4,0,0,"",null,"X"]
[null,"Other Items",null,null,"Length:  36\"",null,"9244-0036-TN",null,null,"Hydro Ban Linear Drain Threaded Connector Trough",null,null,null,null,null,null,null,null,944.95,"EA",{"$f":"+Instructions!$B$3","v":"I"},null,{"$f":"+Instructions!$C$22","v":0},944.95,null,"",944.95,0,944.95,0,null,8,944.95,null,null,944.95,0,0,"",null,"X"]
[null,"Other Items",null,null,"Length:  42\"",null,"9244-0042-TN",null,null,"Hydro Ban Linear Drain Threaded Connector Trough",null,null,null,null,null,null,null,null,989.05,"EA",{"$f":"+Instructions!$B$3","v":"I"},null,{"$f":"+Instructions!$C$22","v":0},989.05,null,"",989.05,0,989.05,0,null,8,989.05,null,null,989.05,0,0,"",null,"X"]
[null,"Other Items",null,null,"Length:  48\"",null,"9244-0048-TN",null,null,"Hydro Ban Linear Drain Threaded Connector Trough",null,null,null,null,null,null,null,null,1030.55,"EA",{"$f":"+Instructions!$B$3","v":"I"},null,{"$f":"+Instructions!$C$22","v":0},1030.55,null,"",1030.55,0,1030.55,0,null,8,1030.55,null,null,1030.55,0,0,"",null,"X"]
[null,"Other Items",null,null,"Length:  54\"",null,"9244-0054-TN",null,null,"Hydro Ban Linear Drain Threaded Connector Trough",null,null,null,null,null,null,null,null,1153,"EA",{"$f":"+Instructions!$B$3","v":"I"},null,{"$f":"+Instructions!$C$22","v":0},1153,null,"",1153,0,1153,0,null,8,1153,null,null,1153,0,0,"",null,"X"]
[null,"Other Items",null,null,"Length:  60\"",null,"9244-0060-TN",null,null,"Hydro Ban Linear Drain Threaded Connector Trough",null,null,null,null,null,null,null,null,1275.5,"EA",{"$f":"+Instructions!$B$3","v":"I"},null,{"$f":"+Instructions!$C$22","v":0},1275.5,null,"",1275.5,0,1275.5,0,null,8,1275.5,null,null,1275.5,0,0,"",null,"X"]
[]
[null,null,null,"Hydro Ban Linear Drain Offset Oval Grate",null,null,null,null,null,null,null," ",null," ",null,null,null,"Item # Lookup:","LT2418",null,null,null,null,null,null,null,null,null,null,null,null,null,null,null,null,null,null,null,null,null,"X"]
[]
[null,"Other Items",null,null,"Length:  24\"",null,"2418-0024-BS",null,null,"Brushed Stainless Steel",null,null,null,null,null,null,null,null,{"$f":"IF(Suggested=\"Yes\",AA1621,AG1621)","v":289.5},"EA",{"$f":"+Instructions!$B$3","v":"I"},null,{"$f":"+Instructions!$C$22","v":0},{"$f":"ROUND($AA1621*(1-W1621)+0.004999,2)","v":289.5},null,"",289.5,{"$f":"+W1621","v":0},{"$f":"+X1621","v":289.5},{"$f":"(AG1621-AC1621)/AG1621","v":0},null,8,{"$f":"SUM(AJ1621:AL1621)+AE1621","v":289.5},null,null,{"$f":"ROUND(AC1621/(1-VLOOKUP(AF1621,Group,2,FALSE)),2)","v":289.5},{"$f":"IF(VLOOKUP(AF1621,Group,5,FALSE)=\"YES\",VLOOKUP(ROUND(ROUND(AJ1621,1)-AJ1621,2),Round,2,FALSE)+VLOOKUP(AF1621,Group,6,FALSE),0)","v":0},{"$f":"IF(VLOOKUP(AF1621,Group,7,FALSE)=\"\",0,ROUND(AJ1621-0.04999,1)-AJ1621+AM1621)","v":0},{"$f":"IF(VLOOKUP(AF1621,Group,7,FALSE)=\"\",\"\",VLOOKUP(AF1621,Group,7,FALSE))","v":""},null,"X"]
[null,"Other Items",null,null,"Length:  30\"",null,"2418-0030-BS",null,null,"Brushed Stainless Steel",null,null,null,null,null,null,null,null,331.5,"EA",{"$f":"+Instructions!$B$3","v":"I"},null,{"$f":"+Instructions!$C$22","v":0},331.5,null,"",331.5,0,331.5,0,null,8,331.5,null,null,331.5,0,0,"",null,"X"]
[null,"Other Items",null,null,"Length:  32\"",null,"2418-0032-BS",null,null,"Brushed Stainless Steel",null,null,null,null,null,null,null,null,342.1,"EA",{"$f":"+Instructions!$B$3","v":"I"},null,{"$f":"+Instructions!$C$22","v":0},342.1,null,"",342.1,0,342.1,0,null,8,342.1,null,null,342.1,0,0,"",null,"X"]
[null,"Other Items",null,null,"Length:  36\"",null,"2418-0036-BS",null,null,"Brushed Stainless Steel",null,null,null,null,null,null,null,null,366.25,"EA",{"$f":"+Instructions!$B$3","v":"I"},null,{"$f":"+Instructions!$C$22","v":0},366.25,null,"",366.25,0,366.25,0,null,8,366.25,null,null,366.25,0,0,"",null,"X"]
[null,"Other Items",null,null,"Length:  42\"",null,"2418-0042-BS",null,null,"Brushed Stainless Steel",null,null,null,null,null,null,null,null,380,"EA",{"$f":"+Instructions!$B$3","v":"I"},null,{"$f":"+Instructions!$C$22","v":0},380,null,"",380,0,380,0,null,8,380,null,null,380,0,0,"",null,"X"]
[null,"Other Items",null,null,"Length:  48\"",null,"2418-0048-BS",null,null,"Brushed Stainless Steel",null,null,null,null,null,null,null,null,392.9,"EA",{"$f":"+Instructions!$B$3","v":"I"},null,{"$f":"+Instructions!$C$22","v":0},392.9,null,"",392.9,0,392.9,0,null,8,392.9,null,null,392.9,0,0,"",null,"X"]
[null,"Other Items",null,null,"Length:  54\"",null,"2418-0054-BS",null,null,"Brushed Stainless Steel",null,null,null,null,null,null,null,null,542,"EA",{"$f":"+Instructions!$B$3","v":"I"},null,{"$f":"+Instructions!$C$22","v":0},542,null,"",542,0,542,0,null,8,542,null,null,542,0,0,"",null,"X"]
[null,"Other Items",null,null,"Length:  60\"",null,"2418-0060-BS",null,null,"Brushed Stainless Steel",null,null,null,null,null,null,null,null,690.85,"EA",{"$f":"+Instructions!$B$3","v":"I"},null,{"$f":"+Instructions!$C$22","v":0},690.85,null,"",690.85,0,690.85,0,null,8,690.85,null,null,690.85,0,0,"",null,"X"]
[]
[null,"Other Items",null,null,"Length:  24\"",null,"2418-0024-MB",null,null,"Matte Black",null,null,null,null,null,null,null,null,{"$f":"IF(Suggested=\"Yes\",AA1630,AG1630)","v":289.5},"EA",{"$f":"+Instructions!$B$3","v":"I"},null,{"$f":"+Instructions!$C$22","v":0},{"$f":"ROUND($AA1630*(1-W1630)+0.004999,2)","v":289.5},null,"",289.5,{"$f":"+W1630","v":0},{"$f":"+X1630","v":289.5},{"$f":"(AG1630-AC1630)/AG1630","v":0},null,8,{"$f":"SUM(AJ1630:AL1630)+AE1630","v":289.5},null,null,{"$f":"ROUND(AC1630/(1-VLOOKUP(AF1630,Group,2,FALSE)),2)","v":289.5},{"$f":"IF(VLOOKUP(AF1630,Group,5,FALSE)=\"YES\",VLOOKUP(ROUND(ROUND(AJ1630,1)-AJ1630,2),Round,2,FALSE)+VLOOKUP(AF1630,Group,6,FALSE),0)","v":0},{"$f":"IF(VLOOKUP(AF1630,Group,7,FALSE)=\"\",0,ROUND(AJ1630-0.04999,1)-AJ1630+AM1630)","v":0},{"$f":"IF(VLOOKUP(AF1630,Group,7,FALSE)=\"\",\"\",VLOOKUP(AF1630,Group,7,FALSE))","v":""},null,"X"]
[null,"Other Items",null,null,"Length:  30\"",null,"2418-0030-MB",null,null,"Matte Black",null,null,null,null,null,null,null,null,331.45,"EA",{"$f":"+Instructions!$B$3","v":"I"},null,{"$f":"+Instructions!$C$22","v":0},331.45,null,"",331.45,0,331.45,0,null,8,331.45,null,null,331.45,0,0,"",null,"X"]
[null,"Other Items",null,null,"Length:  32\"",null,"2418-0032-MB",null,null,"Matte Black",null,null,null,null,null,null,null,null,350.55,"EA",{"$f":"+Instructions!$B$3","v":"I"},null,{"$f":"+Instructions!$C$22","v":0},350.55,null,"",350.55,0,350.55,0,null,8,350.55,null,null,350.55,0,0,"",null,"X"]
[null,"Other Items",null,null,"Length:  36\"",null,"2418-0036-MB",null,null,"Matte Black",null,null,null,null,null,null,null,null,407.5,"EA",{"$f":"+Instructions!$B$3","v":"I"},null,{"$f":"+Instructions!$C$22","v":0},407.5,null,"",407.5,0,407.5,0,null,8,407.5,null,null,407.5,0,0,"",null,"X"]
[null,"Other Items",null,null,"Length:  42\"",null,"2418-0042-MB",null,null,"Matte Black",null,null,null,null,null,null,null,null,458.45,"EA",{"$f":"+Instructions!$B$3","v":"I"},null,{"$f":"+Instructions!$C$22","v":0},458.45,null,"",458.45,0,458.45,0,null,8,458.45,null,null,458.45,0,0,"",null,"X"]
[null,"Other Items",null,null,"Length:  48\"",null,"2418-0048-MB",null,null,"Matte Black",null,null,null,null,null,null,null,null,{"$f":"IF(Suggested=\"Yes\",AA1635,AG1635)","v":533.20000000000005},"EA",{"$f":"+Instructions!$B$3","v":"I"},null,{"$f":"+Instructions!$C$22","v":0},{"$f":"ROUND($AA1635*(1-W1635)+0.004999,2)","v":533.20000000000005},null,"",533.20000000000005,{"$f":"+W1635","v":0},{"$f":"+X1635","v":533.20000000000005},{"$f":"(AG1635-AC1635)/AG1635","v":0},null,8,{"$f":"SUM(AJ1635:AL1635)+AE1635","v":533.20000000000005},null,null,{"$f":"ROUND(AC1635/(1-VLOOKUP(AF1635,Group,2,FALSE)),2)","v":533.20000000000005},{"$f":"IF(VLOOKUP(AF1635,Group,5,FALSE)=\"YES\",VLOOKUP(ROUND(ROUND(AJ1635,1)-AJ1635,2),Round,2,FALSE)+VLOOKUP(AF1635,Group,6,FALSE),0)","v":0},{"$f":"IF(VLOOKUP(AF1635,Group,7,FALSE)=\"\",0,ROUND(AJ1635-0.04999,1)-AJ1635+AM1635)","v":0},{"$f":"IF(VLOOKUP(AF1635,Group,7,FALSE)=\"\",\"\",VLOOKUP(AF1635,Group,7,FALSE))","v":""},null,"X"]
[null,"Other Items",null,null,"Length:  54\"",null,"2418-0054-MB",null,null,"Matte Black",null,null,null,null,null,null,null,null,{"$f":"IF(Suggested=\"Yes\",AA1636,AG1636)","v":618.95000000000005},"EA",{"$f":"+Instructions!$B$3","v":"I"},null,{"$f":"+Instructions!$C$22","v":0},{"$f":"ROUND($AA1636*(1-W1636)+0.004999,2)","v":618.95000000000005},null,"",618.95000000000005,{"$f":"+W1636","v":0},{"$f":"+X1636","v":618.95000000000005},{"$f":"(AG1636-AC1636)/AG1636","v":0},null,8,{"$f":"SUM(AJ1636:AL1636)+AE1636","v":618.95000000000005},null,null,{"$f":"ROUND(AC1636/(1-VLOOKUP(AF1636,Group,2,FALSE)),2)","v":618.95000000000005},{"$f":"IF(VLOOKUP(AF1636,Group,5,FALSE)=\"YES\",VLOOKUP(ROUND(ROUND(AJ1636,1)-AJ1636,2),Round,2,FALSE)+VLOOKUP(AF1636,Group,6,FALSE),0)","v":0},{"$f":"IF(VLOOKUP(AF1636,Group,7,FALSE)=\"\",0,ROUND(AJ1636-0.04999,1)-AJ1636+AM1636)","v":0},{"$f":"IF(VLOOKUP(AF1636,Group,7,FALSE)=\"\",\"\",VLOOKUP(AF1636,Group,7,FALSE))","v":""},null,"X"]
[null,"Other Items",null,null,"Length:  60\"",null,"2418-0060-MB",null,null,"Matte Black",null,null,null,null,null,null,null,null,734.45,"EA",{"$f":"+Instructions!$B$3","v":"I"},null,{"$f":"+Instructions!$C$22","v":0},734.45,null,"",734.45,0,734.45,0,null,8,734.45,null,null,734.45,0,0,"",null,"X"]
[]
[null,"Other Items",null,null,"Length:  24\"",null,"2418-0024-PS",null,null,"Polished Stainless Steel",null,null,null,null,null,null,null,null,{"$f":"IF(Suggested=\"Yes\",AA1639,AG1639)","v":306.95},"EA",{"$f":"+Instructions!$B$3","v":"I"},null,{"$f":"+Instructions!$C$22","v":0},306.95,null,"",306.95,{"$f":"+W1639","v":0},{"$f":"+X1639","v":306.95},{"$f":"(AG1639-AC1639)/AG1639","v":0},null,8,{"$f":"SUM(AJ1639:AL1639)+AE1639","v":306.95},null,null,{"$f":"ROUND(AC1639/(1-VLOOKUP(AF1639,Group,2,FALSE)),2)","v":306.95},{"$f":"IF(VLOOKUP(AF1639,Group,5,FALSE)=\"YES\",VLOOKUP(ROUND(ROUND(AJ1639,1)-AJ1639,2),Round,2,FALSE)+VLOOKUP(AF1639,Group,6,FALSE),0)","v":0},{"$f":"IF(VLOOKUP(AF1639,Group,7,FALSE)=\"\",0,ROUND(AJ1639-0.04999,1)-AJ1639+AM1639)","v":0},{"$f":"IF(VLOOKUP(AF1639,Group,7,FALSE)=\"\",\"\",VLOOKUP(AF1639,Group,7,FALSE))","v":""},null,"X"]
[null,"Other Items",null,null,"Length:  30\"",null,"2418-0030-PS",null,null,"Polished Stainless Steel",null,null,null,null,null,null,null,null,331.45,"EA",{"$f":"+Instructions!$B$3","v":"I"},null,{"$f":"+Instructions!$C$22","v":0},331.45,null,"",331.45,0,331.45,0,null,8,331.45,null,null,331.45,0,0,"",null,"X"]
[null,"Other Items",null,null,"Length:  32\"",null,"2418-0032-PS",null,null,"Polished Stainless Steel",null,null,null,null,null,null,null,null,357.45,"EA",{"$f":"+Instructions!$B$3","v":"I"},null,{"$f":"+Instructions!$C$22","v":0},357.45,null,"",357.45,0,357.45,0,null,8,357.45,null,null,357.45,0,0,"",null,"X"]
[null,"Other Items",null,null,"Length:  36\"",null,"2418-0036-PS",null,null,"Polished Stainless Steel",null,null,null,null,null,null,null,null,424.95,"EA",{"$f":"+Instructions!$B$3","v":"I"},null,{"$f":"+Instructions!$C$22","v":0},424.95,null,"",424.95,0,424.95,0,null,8,424.95,null,null,424.95,0,0,"",null,"X"]
[null,"Other Items",null,null,"Length:  42\"",null,"2418-0042-PS",null,null,"Polished Stainless Steel",null,null,null,null,null,null,null,null,480.25,"EA",{"$f":"+Instructions!$B$3","v":"I"},null,{"$f":"+Instructions!$C$22","v":0},480.25,null,"",480.25,0,480.25,0,null,8,480.25,null,null,480.25,0,0,"",null,"X"]
[null,"Other Items",null,null,"Length:  48\"",null,"2418-0048-PS",null,null,"Polished Stainless Steel",null,null,null,null,null,null,null,null,541.9,"EA",{"$f":"+Instructions!$B$3","v":"I"},null,{"$f":"+Instructions!$C$22","v":0},541.9,null,"",541.9,0,541.9,0,null,8,541.9,null,null,541.9,0,0,"",null,"X"]
[null,"Other Items"," ",null,"Length:  54\"",null,"2418-0054-PS",null,null,"Polished Stainless Steel",null,null,null,null,null,null,null,null,625.20000000000005,"EA",{"$f":"+Instructions!$B$3","v":"I"},null,{"$f":"+Instructions!$C$22","v":0},625.20000000000005,null,"",625.20000000000005,0,625.20000000000005,0,null,8,625.20000000000005,null,null,625.20000000000005,0,0,"",null,"X"]
[null,"Other Items",null,null,"Length:  60\"",null,"2418-0060-PS",null,null,"Polished Stainless Steel",null,null,null,null,null,null,null,null,690.85,"EA",{"$f":"+Instructions!$B$3","v":"I"},null,{"$f":"+Instructions!$C$22","v":0},690.85,null,"",690.85,0,690.85,0,null,8,690.85,null,null,690.85,0,0,"",null,"X"]
[]
[null,"Other Items",null,null,"Length:  24\"",null,"2418-0024-ORB",null,null,"Oil Rubbed Bronze",null,null,null,null,null,null,null,null,{"$f":"IF(Suggested=\"Yes\",AA1648,AG1648)","v":289.5},"EA",{"$f":"+Instructions!$B$3","v":"I"},null,{"$f":"+Instructions!$C$22","v":0},289.5,null,"",289.5,{"$f":"+W1648","v":0},{"$f":"+X1648","v":289.5},{"$f":"(AG1648-AC1648)/AG1648","v":0},null,8,{"$f":"SUM(AJ1648:AL1648)+AE1648","v":289.5},null,null,{"$f":"ROUND(AC1648/(1-VLOOKUP(AF1648,Group,2,FALSE)),2)","v":289.5},{"$f":"IF(VLOOKUP(AF1648,Group,5,FALSE)=\"YES\",VLOOKUP(ROUND(ROUND(AJ1648,1)-AJ1648,2),Round,2,FALSE)+VLOOKUP(AF1648,Group,6,FALSE),0)","v":0},{"$f":"IF(VLOOKUP(AF1648,Group,7,FALSE)=\"\",0,ROUND(AJ1648-0.04999,1)-AJ1648+AM1648)","v":0},{"$f":"IF(VLOOKUP(AF1648,Group,7,FALSE)=\"\",\"\",VLOOKUP(AF1648,Group,7,FALSE))","v":""},null,"X"]
[null,"Other Items",null,null,"Length:  30\"",null,"2418-0030-ORB",null,null,"Oil Rubbed Bronze",null,null,null,null,null,null,null,null,331.45,"EA",{"$f":"+Instructions!$B$3","v":"I"},null,{"$f":"+Instructions!$C$22","v":0},331.45,null,"",331.45,0,331.45,0,null,8,331.45,null,null,331.45,0,0,"",null,"X"]
[null,"Other Items",null,null,"Length:  32\"",null,"2418-0032-ORB",null,null,"Oil Rubbed Bronze",null,null,null,null,null,null,null,null,350.55,"EA",{"$f":"+Instructions!$B$3","v":"I"},null,{"$f":"+Instructions!$C$22","v":0},350.55,null,"",350.55,0,350.55,0,null,8,350.55,null,null,350.55,0,0,"",null,"X"]
[null,"Other Items",null,null,"Length:  36\"",null,"2418-0036-ORB",null,null,"Oil Rubbed Bronze",null,null,null,null,null,null,null,null,407.5,"EA",{"$f":"+Instructions!$B$3","v":"I"},null,{"$f":"+Instructions!$C$22","v":0},407.5,null,"",407.5,0,407.5,0,null,8,407.5,null,null,407.5,0,0,"",null,"X"]
[null,"Other Items",null,null,"Length:  42\"",null,"2418-0042-ORB",null,null,"Oil Rubbed Bronze",null,null,null,null,null,null,null,null,458.45,"EA",{"$f":"+Instructions!$B$3","v":"I"},null,{"$f":"+Instructions!$C$22","v":0},458.45,null,"",458.45,0,458.45,0,null,8,458.45,null,null,458.45,0,0,"",null,"X"]
[null,"Other Items",null,null,"Length:  48\"",null,"2418-0048-ORB",null,null,"Oil Rubbed Bronze",null,null,null,null,null,null,null,null,533.20000000000005,"EA",{"$f":"+Instructions!$B$3","v":"I"},null,{"$f":"+Instructions!$C$22","v":0},533.20000000000005,null,"",533.20000000000005,0,533.20000000000005,0,null,8,533.20000000000005,null,null,533.20000000000005,0,0,"",null,"X"]
[null,"Other Items"," ",null,"Length:  54\"",null,"2418-0054-ORB",null,null,"Oil Rubbed Bronze",null,null,null,null,null,null,null,null,618.95000000000005,"EA",{"$f":"+Instructions!$B$3","v":"I"},null,{"$f":"+Instructions!$C$22","v":0},618.95000000000005,null,"",618.95000000000005,0,618.95000000000005,0,null,8,618.95000000000005,null,null,618.95000000000005,0,0,"",null,"X"]
[null,"Other Items",null,null,"Length:  60\"",null,"2418-0060-ORB",null,null,"Oil Rubbed Bronze",null,null,null,null,null,null,null,null,734.45,"EA",{"$f":"+Instructions!$B$3","v":"I"},null,{"$f":"+Instructions!$C$22","v":0},734.45,null,"",734.45,0,734.45,0,null,8,734.45,null,null,734.45,0,0,"",null,"X"]
[]
[null,null,null,"Hydro Ban Linear Drain Wedge Wire Grate",null,null,null,null,null,null,null,null,null,null,null,null,null,"Item # Lookup:","LT2418",null,null,null,null,null,null,null,null,null,null,null,null,null,null,null,null,null,null,null,null,null,"X"]
[]
[null,"Other Items",null,null,"Length:  24\"",null,"2418-WW24-BS",null,null,"Brushed Stainless Steel",null,null,null,null,null,null,null,null,{"$f":"IF(Suggested=\"Yes\",AA1659,AG1659)","v":538.1},"EA",{"$f":"+Instructions!$B$3","v":"I"},null,{"$f":"+Instructions!$C$22","v":0},{"$f":"ROUND($AA1659*(1-W1659)+0.004999,2)","v":538.1},null,"",538.1,{"$f":"+W1659","v":0},{"$f":"+X1659","v":538.1},{"$f":"(AG1659-AC1659)/AG1659","v":0},null,8,{"$f":"SUM(AJ1659:AL1659)+AE1659","v":538.1},null,null,{"$f":"ROUND(AC1659/(1-VLOOKUP(AF1659,Group,2,FALSE)),2)","v":538.1},{"$f":"IF(VLOOKUP(AF1659,Group,5,FALSE)=\"YES\",VLOOKUP(ROUND(ROUND(AJ1659,1)-AJ1659,2),Round,2,FALSE)+VLOOKUP(AF1659,Group,6,FALSE),0)","v":0},{"$f":"IF(VLOOKUP(AF1659,Group,7,FALSE)=\"\",0,ROUND(AJ1659-0.04999,1)-AJ1659+AM1659)","v":0},{"$f":"IF(VLOOKUP(AF1659,Group,7,FALSE)=\"\",\"\",VLOOKUP(AF1659,Group,7,FALSE))","v":""},null,"X"]
[null,"Other Items",null,null,"Length:  30\"",null,"2418-WW30-BS",null,null,"Brushed Stainless Steel",null,null,null,null,null,null,null,null,890.25,"EA",{"$f":"+Instructions!$B$3","v":"I"},null,{"$f":"+Instructions!$C$22","v":0},890.25,null,"",890.25,0,890.25,0,null,8,890.25,null,null,890.25,0,0,"",null,"X"]
[null,"Other Items",null,null,"Length:  32\"",null,"2418-WW32-BS",null,null,"Brushed Stainless Steel",null,null,null,null,null,null,null,null,945.95,"EA",{"$f":"+Instructions!$B$3","v":"I"},null,{"$f":"+Instructions!$C$22","v":0},945.95,null,"",945.95,0,945.95,0,null,8,945.95,null,null,945.95,0,0,"",null,"X"]
[null,"Other Items",null,null,"Length:  36\"",null,"2418-WW36-BS",null,null,"Brushed Stainless Steel",null,null,null,null,null,null,null,null,1004.85,"EA",{"$f":"+Instructions!$B$3","v":"I"},null,{"$f":"+Instructions!$C$22","v":0},1004.85,null,"",1004.85,0,1004.85,0,null,8,1004.85,null,null,1004.85,0,0,"",null,"X"]
[null,"Other Items",null,null,"Length:  42\"",null,"2418-WW42-BS",null,null,"Brushed Stainless Steel",null,null,null,null,null,null,null,null,1035.45,"EA",{"$f":"+Instructions!$B$3","v":"I"},null,{"$f":"+Instructions!$C$22","v":0},1035.45,null,"",1035.45,0,1035.45,0,null,8,1035.45,null,null,1035.45,0,0,"",null,"X"]
[null,"Other Items",null,null,"Length:  48\"",null,"2418-WW48-BS",null,null,"Brushed Stainless Steel",null,null,null,null,null,null,null,null,1072.05,"EA",{"$f":"+Instructions!$B$3","v":"I"},null,{"$f":"+Instructions!$C$22","v":0},1072.05,null,"",1072.05,0,1072.05,0,null,8,1072.05,null,null,1072.05,0,0,"",null,"X"]
[null,"Other Items",null,null,"Length:  54\"",null,"2418-WW54-BS",null,null,"Brushed Stainless Steel",null,null,null,null,null,null,null,null,1211.55,"EA",{"$f":"+Instructions!$B$3","v":"I"},null,{"$f":"+Instructions!$C$22","v":0},1211.55,null,"",1211.55,0,1211.55,0,null,8,1211.55,null,null,1211.55,0,0,"",null,"X"]
[null,"Other Items",null,null,"Length:  60\"",null,"2418-WW60-BS",null,null,"Brushed Stainless Steel",null,null,null,null,null,null,null,null,1353.95,"EA",{"$f":"+Instructions!$B$3","v":"I"},null,{"$f":"+Instructions!$C$22","v":0},1353.95,null,"",1353.95,0,1353.95,0,null,8,1353.95,null,null,1353.95,0,0,"",null,"X"]
["x",null,null,null,null,null,null,null,null,null,null,null,null,null,null,null,null,null,null,null,null,null,null,null,null,null,null,null,null,null,null,null,null,null,null,null,null,null,null,null,"X"]
[null,null,"continued on next page",null,null,null,null,null,null,null,null,null,null,null,null,null,null,null,null,null,null,null,null,null,null,null,null,null,null,null,null,null,null,null,null,null,null,null,null,null,"X"]
["x",null,null,"Hydro Ban Linear Drain Wedge Wire Grate - continued  ",null,null,null,null,null,null,null,null,null,null,null,null,null,"Item # Lookup:","LT2418",null,null,null,null,null,null,null,null,null,null,null,null,null,null,null,null,null,null,null,null,null,"X"]
[]
[null,"Other Items",null,null,"Length:  24\"",null,"2418-WW24-PS",null,null,"Polished Stainless Steel",null,null,null,null,null,null,null,null,{"$f":"IF(Suggested=\"Yes\",AA1671,AG1671)","v":751.3},"EA",{"$f":"+Instructions!$B$3","v":"I"},null,{"$f":"+Instructions!$C$22","v":0},{"$f":"ROUND($AA1671*(1-W1671)+0.004999,2)","v":751.3},null,"",751.3,{"$f":"+W1671","v":0},{"$f":"+X1671","v":751.3},{"$f":"(AG1671-AC1671)/AG1671","v":0},null,8,{"$f":"SUM(AJ1671:AL1671)+AE1671","v":751.3},null,null,{"$f":"ROUND(AC1671/(1-VLOOKUP(AF1671,Group,2,FALSE)),2)","v":751.3},{"$f":"IF(VLOOKUP(AF1671,Group,5,FALSE)=\"YES\",VLOOKUP(ROUND(ROUND(AJ1671,1)-AJ1671,2),Round,2,FALSE)+VLOOKUP(AF1671,Group,6,FALSE),0)","v":0},{"$f":"IF(VLOOKUP(AF1671,Group,7,FALSE)=\"\",0,ROUND(AJ1671-0.04999,1)-AJ1671+AM1671)","v":0},{"$f":"IF(VLOOKUP(AF1671,Group,7,FALSE)=\"\",\"\",VLOOKUP(AF1671,Group,7,FALSE))","v":""},null,"X"]
[null,"Other Items",null,null,"Length:  30\"",null,"2418-WW30-PS",null,null,"Polished Stainless Steel",null,null,null,null,null,null,null,null,1140.7,"EA",{"$f":"+Instructions!$B$3","v":"I"},null,{"$f":"+Instructions!$C$22","v":0},1140.7,null,"",1140.7,0,1140.7,0,null,8,1140.7,null,null,1140.7,0,0,"",null,"X"]
[null,"Other Items",null,null,"Length:  32\"",null,"2418-WW32-PS",null,null,"Polished Stainless Steel",null,null,null,null,null,null,null,null,1244.8499999999999,"EA",{"$f":"+Instructions!$B$3","v":"I"},null,{"$f":"+Instructions!$C$22","v":0},1244.8499999999999,null,"",1244.8499999999999,0,1244.8499999999999,0,null,8,1244.8499999999999,null,null,1244.8499999999999,0,0,"",null,"X"]
[null,"Other Items",null,null,"Length:  36\"",null,"2418-WW36-PS",null,null,"Polished Stainless Steel",null,null,null,null,null,null,null,null,1349.1,"EA",{"$f":"+Instructions!$B$3","v":"I"},null,{"$f":"+Instructions!$C$22","v":0},1349.1,null,"",1349.1,0,1349.1,0,null,8,1349.1,null,null,1349.1,0,0,"",null,"X"]
[null,"Other Items",null,null,"Length:  42\"",null,"2418-WW42-PS",null,null,"Polished Stainless Steel",null,null,null,null,null,null,null,null,1379.7,"EA",{"$f":"+Instructions!$B$3","v":"I"},null,{"$f":"+Instructions!$C$22","v":0},1379.7,null,"",1379.7,0,1379.7,0,null,8,1379.7,null,null,1379.7,0,0,"",null,"X"]
[null,"Other Items",null,null,"Length:  48\"",null,"2418-WW48-PS",null,null,"Polished Stainless Steel",null,null,null,null,null,null,null,null,1490.6,"EA",{"$f":"+Instructions!$B$3","v":"I"},null,{"$f":"+Instructions!$C$22","v":0},1490.6,null,"",1490.6,0,1490.6,0,null,8,1490.6,null,null,1490.6,0,0,"",null,"X"]
[null,"Other Items"," ",null,"Length:  54\"",null,"2418-WW54-PS",null,null,"Polished Stainless Steel",null,null,null,null,null,null,null,null,1652.95,"EA",{"$f":"+Instructions!$B$3","v":"I"},null,{"$f":"+Instructions!$C$22","v":0},1652.95,null,"",1652.95,0,1652.95,0,null,8,1652.95,null,null,1652.95,0,0,"",null,"X"]
[null,"Other Items",null,null,"Length:  60\"",null,"2418-WW60-PS",null,null,"Polished Stainless Steel",null,null,null,null,null,null,null,null,1827.35,"EA",{"$f":"+Instructions!$B$3","v":"I"},null,{"$f":"+Instructions!$C$22","v":0},1827.35,null,"",1827.35,0,1827.35,0,null,8,1827.35,null,null,1827.35,0,0,"",null,"X"]
[]
[null,null,null,"Hydro Ban Linear Drain Tile-In Grate",null,null,null,null,null,null,null,null,null,null,null,null,null,"Item # Lookup:","LT2418",null,null,null,null,null,null,null,null,null,null,null,null,null,null,null,null,null,null,null,null,null,"X"]
[]
[null,"Other Items",null,null,"Length:  24\"",null,"2418-0024-TI",null,null,"Tile-In Grate",null,null,null,null,null,null,null,null,{"$f":"IF(Suggested=\"Yes\",AA1682,AG1682)","v":381.5},"EA",{"$f":"+Instructions!$B$3","v":"I"},null,{"$f":"+Instructions!$C$22","v":0},{"$f":"ROUND($AA1682*(1-W1682)+0.004999,2)","v":381.5},null,"",381.5,{"$f":"+W1682","v":0},{"$f":"+X1682","v":381.5},{"$f":"(AG1682-AC1682)/AG1682","v":0},null,8,{"$f":"SUM(AJ1682:AL1682)+AE1682","v":381.5},null,null,{"$f":"ROUND(AC1682/(1-VLOOKUP(AF1682,Group,2,FALSE)),2)","v":381.5},{"$f":"IF(VLOOKUP(AF1682,Group,5,FALSE)=\"YES\",VLOOKUP(ROUND(ROUND(AJ1682,1)-AJ1682,2),Round,2,FALSE)+VLOOKUP(AF1682,Group,6,FALSE),0)","v":0},{"$f":"IF(VLOOKUP(AF1682,Group,7,FALSE)=\"\",0,ROUND(AJ1682-0.04999,1)-AJ1682+AM1682)","v":0},{"$f":"IF(VLOOKUP(AF1682,Group,7,FALSE)=\"\",\"\",VLOOKUP(AF1682,Group,7,FALSE))","v":""},null,"X"]
[null,"Other Items",null,null,"Length:  30\"",null,"2418-0030-TI",null,null,"Tile-In Grate",null,null,null,null,null,null,null,null,403,"EA",{"$f":"+Instructions!$B$3","v":"I"},null,{"$f":"+Instructions!$C$22","v":0},403,null,"",403,0,403,0,null,8,403,null,null,403,0,0,"",null,"X"]
[null,"Other Items",null,null,"Length:  32\"",null,"2418-0032-TI",null,null,"Tile-In Grate",null,null,null,null,null,null,null,null,412.8,"EA",{"$f":"+Instructions!$B$3","v":"I"},null,{"$f":"+Instructions!$C$22","v":0},412.8,null,"",412.8,0,412.8,0,null,8,412.8,null,null,412.8,0,0,"",null,"X"]
[null,"Other Items",null,null,"Length:  36\"",null,"2418-0036-TI",null,null,"Tile-In Grate",null,null,null,null,null,null,null,null,422.9,"EA",{"$f":"+Instructions!$B$3","v":"I"},null,{"$f":"+Instructions!$C$22","v":0},422.9,null,"",422.9,0,422.9,0,null,8,422.9,null,null,422.9,0,0,"",null,"X"]
[null,"Other Items",null,null,"Length:  42\"",null,"2418-0042-TI",null,null,"Tile-In Grate",null,null,null,null,null,null,null,null,466.8,"EA",{"$f":"+Instructions!$B$3","v":"I"},null,{"$f":"+Instructions!$C$22","v":0},466.8,null,"",466.8,0,466.8,0,null,8,466.8,null,null,466.8,0,0,"",null,"X"]
[null,"Other Items",null,null,"Length:  48\"",null,"2418-0048-TI",null,null,"Tile-In Grate",null,null,null,null,null,null,null,null,485.65,"EA",{"$f":"+Instructions!$B$3","v":"I"},null,{"$f":"+Instructions!$C$22","v":0},485.65,null,"",485.65,0,485.65,0,null,8,485.65,null,null,485.65,0,0,"",null,"X"]
[null,"Other Items"," ",null,"Length:  54\"",null,"2418-0054-TI",null,null,"Tile-In Grate",null,null,null,null,null,null,null,null,622.9,"EA",{"$f":"+Instructions!$B$3","v":"I"},null,{"$f":"+Instructions!$C$22","v":0},622.9,null,"",622.9,0,622.9,0,null,8,622.9,null,null,622.9,0,0,"",null,"X"]
[null,"Other Items",null,null,"Length:  60\"",null,"2418-0060-TI",null,null,"Tile-In Grate",null,null,null,null,null,null,null,null,761,"EA",{"$f":"+Instructions!$B$3","v":"I"},null,{"$f":"+Instructions!$C$22","v":0},761,null,"",761,0,761,0,null,8,761,null,null,761,0,0,"",null,"X"]
[null,null,null,null,null,null,null,null,null,null,null,null,null,null,null,null,null,null,null,null,null,null,null,null,null,null,null,null,null,null,null,null,null,null,null,null,null,null,null,null,"X"]
[null,null,null,"Notes:","Laticrete Hydro Ban Linear Drain is a low profile linear floor drain specifically designed for bonded waterproofing installations with Laticrete ",null,null,null,null,null,null,null,null,null,null,null,null,null,null,null,null,null,null,null,null,null,null,null,null,null,null,null,null,null,null,null,null,null,null,null,"X"]
[null,null,null,null,"Hydro Ban waterproofing membrane.  Laticrete Hydro Ban Linear Drain allows for the use of large format tile or stone installations in a shower",null,null,null,null,null,null,null,null,null,null,null,null,null,null,null,null,null,null,null,null,null,null,null,null,null,null,null,null,null,null,null,null,null,null,null,"X"]
[null,null,null,null,"with a single plane slope to the drain.  Laticrete Hydro Ban Linear Drain can be installed near the wall or at medial locations in a variety of",null,null,null,null,null,null,null,null,null,null,null,null,null,null,null,null,null,null,null,null,null,null,null,null,null,null,null,null,null,null,null,null,null,null,null,"X"]
[null,null,null,null,"areas requiring waterproof applications.  Available in brushed offset oval, wedge wire & a tile-in grate, that allows for enhanced design options.      ",null,null,null,null,null,null,null,null,null,null,null,null,null,null,null,null,null,null,null,null,null,null,null,null,null,null,null,null,null,null,null,null,null,null,null,"X"]
[]
[null,null,null,null,"Trough has new V-slope and is precision hand crafted using heavy duty 304L Stainless Steel.  Linear Drain Grate is sold separately.",null,null,null,null,null,null,null,null,null,null,null,null,null,null,null,null,null,null,null,null,null,null,null,null,null,null,null,null,null,null,null,null,null,null,null,"X"]
[]
[null,null,null,null,"Hydro Ban Linear Drain Trough and Grates can be Special Ordered.  Contact customer service for Custom Dimensions Form to be filled out"]
[null,null,null,null,"and submitted, price quote will then be provided.    "]
[]
[null,null,null,"WATERPROOFING",null,null,null,null,null,null," ",null,null,null,null,null,null,null,null,null,null,null,null,null,null,null,null,null,null,null,null,null,null,null,null,null,null,null,null,null,"X"]
[]
[null,null,null,"9235 Waterproofing Membrane",null,null,null,null,null,null,null,null,null,null,null,null,null,"Item # Lookup:","LT9235",null,null,null,null,null,null,null,null,null,null,null,null,null,null,null,null,null,null,null,null,null,"X"]
[]
[null,"Membranes",null,"Kits:","Mini Unit",null,"Pail",null,null,"9235-0002-2",null,"  Approximate Coverage:  75 SF",null,null,null,null,null,null,{"$f":"IF(Suggested=\"Yes\",AA1705,AG1705)","v":536.04999999999995},"EA",{"$f":"+Instructions!$B$3","v":"I"},null,{"$f":"+Instructions!$C$22","v":0},{"$f":"ROUND($AA1705*(1-W1705)+0.004999,2)","v":536.04999999999995},null,"",536.04999999999995,{"$f":"+W1705","v":0},{"$f":"+X1705","v":536.04999999999995},{"$f":"(AG1705-AC1705)/AG1705","v":0},null,5,{"$f":"SUM(AJ1705:AL1705)+AE1705","v":536.04999999999995},null,null,{"$f":"ROUND(AC1705/(1-VLOOKUP(AF1705,Group,2,FALSE)),2)","v":536.04999999999995},{"$f":"IF(VLOOKUP(AF1705,Group,5,FALSE)=\"YES\",VLOOKUP(ROUND(ROUND(AJ1705,1)-AJ1705,2),Round,2,FALSE)+VLOOKUP(AF1705,Group,6,FALSE),0)","v":0},{"$f":"IF(VLOOKUP(AF1705,Group,7,FALSE)=\"\",0,ROUND(AJ1705-0.04999,1)-AJ1705+AM1705)","v":0},{"$f":"IF(VLOOKUP(AF1705,Group,7,FALSE)=\"\",\"\",VLOOKUP(AF1705,Group,7,FALSE))","v":""},null,"X"]
["x",null,null,null,null,null,null,null,null,null,null,null,null,null,null,null,null,null,null,null,null,null,null,null,null,null,null,null,null,null,null,null,null,null,null,null,null,null,null,null,"X"]
[null,"Membranes",null,"Liquids:","6 Gallon",null,"Pail",null,null,"S-09235-NS-06",null,null,null,null,null,null,"Stock","a",{"$f":"IF(Suggested=\"Yes\",AA1707,AG1707)","v":1670.25},"EA",{"$f":"+Instructions!$B$3","v":"I"},null,{"$f":"+Instructions!$C$22","v":0},{"$f":"ROUND($AA1707*(1-W1707)+0.004999,2)","v":1670.25},null,"",1670.25,{"$f":"+W1707","v":0},{"$f":"+X1707","v":1670.25},{"$f":"(AG1707-AC1707)/AG1707","v":0},null,5,{"$f":"SUM(AJ1707:AL1707)+AE1707","v":1670.25},null,null,{"$f":"ROUND(AC1707/(1-VLOOKUP(AF1707,Group,2,FALSE)),2)","v":1670.25},{"$f":"IF(VLOOKUP(AF1707,Group,5,FALSE)=\"YES\",VLOOKUP(ROUND(ROUND(AJ1707,1)-AJ1707,2),Round,2,FALSE)+VLOOKUP(AF1707,Group,6,FALSE),0)","v":0},{"$f":"IF(VLOOKUP(AF1707,Group,7,FALSE)=\"\",0,ROUND(AJ1707-0.04999,1)-AJ1707+AM1707)","v":0},{"$f":"IF(VLOOKUP(AF1707,Group,7,FALSE)=\"\",\"\",VLOOKUP(AF1707,Group,7,FALSE))","v":""},null,"X"]
["x",null,null,null,null,null,null,null,null,null,null,null,null,null,null,null,null,null,null,null,null,null,null,null,null,null,null,null,null,null,null,null,null,null,null,null,null,null,null,null,"X"]
[null,"Membranes",null,"Fabrics:","6\" x 75'",null,"Roll",null,null,"S-09235-NF-19",null,null," ",null,null,null,"Stock",null,{"$f":"IF(Suggested=\"Yes\",AA1709,AG1709)","v":61.45},"EA",{"$f":"+Instructions!$B$3","v":"I"},null,{"$f":"+Instructions!$C$22","v":0},{"$f":"ROUND($AA1709*(1-W1709)+0.004999,2)","v":61.45},null,"",61.45,{"$f":"+W1709","v":0},{"$f":"+X1709","v":61.45},{"$f":"(AG1709-AC1709)/AG1709","v":0},null,5,{"$f":"SUM(AJ1709:AL1709)+AE1709","v":61.45},null,null,{"$f":"ROUND(AC1709/(1-VLOOKUP(AF1709,Group,2,FALSE)),2)","v":61.45},{"$f":"IF(VLOOKUP(AF1709,Group,5,FALSE)=\"YES\",VLOOKUP(ROUND(ROUND(AJ1709,1)-AJ1709,2),Round,2,FALSE)+VLOOKUP(AF1709,Group,6,FALSE),0)","v":0},{"$f":"IF(VLOOKUP(AF1709,Group,7,FALSE)=\"\",0,ROUND(AJ1709-0.04999,1)-AJ1709+AM1709)","v":0},{"$f":"IF(VLOOKUP(AF1709,Group,7,FALSE)=\"\",\"\",VLOOKUP(AF1709,Group,7,FALSE))","v":""},null,"X"]
[null,"Membranes",null,null,"300 SF",null,"Roll",null,null,"S-09235-NF-18",null,null,null,null,null,null,"Stock",null,{"$f":"IF(Suggested=\"Yes\",AA1710,AG1710)","v":299.05},"EA",{"$f":"+Instructions!$B$3","v":"I"},null,{"$f":"+Instructions!$C$22","v":0},{"$f":"ROUND($AA1710*(1-W1710)+0.004999,2)","v":299.05},null,"",299.05,{"$f":"+W1710","v":0},{"$f":"+X1710","v":299.05},{"$f":"(AG1710-AC1710)/AG1710","v":0},null,5,{"$f":"SUM(AJ1710:AL1710)+AE1710","v":299.05},null,null,{"$f":"ROUND(AC1710/(1-VLOOKUP(AF1710,Group,2,FALSE)),2)","v":299.05},{"$f":"IF(VLOOKUP(AF1710,Group,5,FALSE)=\"YES\",VLOOKUP(ROUND(ROUND(AJ1710,1)-AJ1710,2),Round,2,FALSE)+VLOOKUP(AF1710,Group,6,FALSE),0)","v":0},{"$f":"IF(VLOOKUP(AF1710,Group,7,FALSE)=\"\",0,ROUND(AJ1710-0.04999,1)-AJ1710+AM1710)","v":0},{"$f":"IF(VLOOKUP(AF1710,Group,7,FALSE)=\"\",\"\",VLOOKUP(AF1710,Group,7,FALSE))","v":""},null,"X"]
["x",null,null,null,null,null,null,null,null,null,null,null,null,null,null,null,null,null,null,null,null,null,null,null,null,null,null,null,null,null,null,null,null,null,null,null,null,null,null,null,"X"]
[null,null,null,"Notes:","\"The Industry Standard\" for wet areas & continuous water submersion applications.  Cures in just hours and provides a permanent water-",null,null,null,null,null,null,null,null,null,null,null,null,null,null,null,null,null,null,null,null,null,null,null,null,null,null,null,null,null,null,null,null,null,null,null,"X"]
[null,null,null,null,"proofing base for tile, glass mosaic & stone in pools, showers & spas.  Inhibits the growth of stain-causing mold & mildew in substrates with ",null,null,null,null,null,null,null,null,null,null,null,null,null,null,null,null,null,null,null,null,null,null,null,null,null,null,null,null,null,null,null,null,null,null,null,"X"]
[null,null,null,null,"Microban antimicrobial product protection.     ",null,null,null,null,null,null,null,null,null,null,null,null,null,null,null,null,null,null,null,null,null,null,null,null,null,null,null,null,null,null,null,null,null,null,null,"X"]
[null,null,null,null,"a) Combine with 1 each 300 SF Roll of Fabric.",null,null,null,null,null,null,null,null,null,null,null,null,null,null,null,null,null,null,null,null,null,null,null,null,null,null,null,null,null,null,null,null,null,null,null,"X"]
[]
[null,null,null,"9259 Hydro Ban Cementitious Waterproofing Membrane",null,null,null,null,null,null,null,null,null,null,null,null,null,"Item # Lookup:","LT9259",null,null,null,null,null,null,null,null,null,null,null,null,null,null,null,null,null,null,null,null,null,"X"]
[]
[null,"Membranes",null,null,"30 lb",null,"Bag",null,null,"Approximate Coverage @ 40 mil Thick: 120 SF",null,null,null,null,null,null,null,null,{"$f":"IF(Suggested=\"Yes\",AA1719,AG1719)","v":270.2},"EA",{"$f":"+Instructions!$B$3","v":"I"},null,{"$f":"+Instructions!$C$22","v":0},{"$f":"ROUND($AA1719*(1-W1719)+0.004999,2)","v":270.2},null,"",270.2,{"$f":"+W1719","v":0},{"$f":"+X1719","v":270.2},{"$f":"(AG1719-AC1719)/AG1719","v":0},null,5,{"$f":"SUM(AJ1719:AL1719)+AE1719","v":270.2},null,null,{"$f":"ROUND(AC1719/(1-VLOOKUP(AF1719,Group,2,FALSE)),2)","v":270.2},{"$f":"IF(VLOOKUP(AF1719,Group,5,FALSE)=\"YES\",VLOOKUP(ROUND(ROUND(AJ1719,1)-AJ1719,2),Round,2,FALSE)+VLOOKUP(AF1719,Group,6,FALSE),0)","v":0},{"$f":"IF(VLOOKUP(AF1719,Group,7,FALSE)=\"\",0,ROUND(AJ1719-0.04999,1)-AJ1719+AM1719)","v":0},{"$f":"IF(VLOOKUP(AF1719,Group,7,FALSE)=\"\",\"\",VLOOKUP(AF1719,Group,7,FALSE))","v":""},null,"X"]
["x",null,null,null,null,null,null,null,null,null,null,null,null,null,null,null,null,null,null,null,null,null,null,null,null,null,null,null,null,null,null,null,null,null,null,null,null,null,null,null,"X"]
[null,null,null,"Notes:","A one component, polymer fortified, cement based waterproofing material that mixes only with water.  HYDRO BAN Cementitious",null,null,null,null,null,null,null,null,null,null,null,null,null,null,null,null,null,null,null,null,null,null,null,null,null,null,null,null,null,null,null,null,null,null,null,"X"]
[null,null,null,null,"Waterproofing Membrane handles negative and positive hydrostatic pressure up to 2 BARS (29 PSI) when applied at 40 Mils thick.",null,null,null,null,null,null,null,null,null,null,null,null,null,null,null,null,null,null,null,null,null,null,null,null,null,null,null,null,null,null,null,null,null,null,null,"X"]
[null,null,null,null,"Flood test within 2 hours.  Passes ANSI A118.10 Waterproofing and ANSI A118.12 Crack Isolation (with mesh/fabric up to 1/8\").",null,null,null,null,null,null,null,null,null,null,null,null,null,null,null,null,null,null,null,null,null,null,null,null,null,null,null,null,null,null,null,null,null,null,null,"X"]
[]
[null,null,null,"9255 Hydro Ban",null,null,null,null,null,null,null,null,null,null,null,null,null,"Item # Lookup:","LT9255",null,null,null,null,null,null,null,null,null,null,null,null,null,null,null,null,null,null,null,null,null,"X"]
[]
[null,"Membranes",null,null,"1 Gallon",null,"Pail",null,null,"Approximate Coverage:  50 SF",null,null,null,null,null,null,"Stock",null,{"$f":"IF(Suggested=\"Yes\",AA1727,AG1727)","v":224.1},"EA",{"$f":"+Instructions!$B$3","v":"I"},null,{"$f":"+Instructions!$C$22","v":0},{"$f":"ROUND($AA1727*(1-W1727)+0.004999,2)","v":224.1},null,"",224.1,{"$f":"+W1727","v":0},{"$f":"+X1727","v":224.1},{"$f":"(AG1727-AC1727)/AG1727","v":0},null,5,{"$f":"SUM(AJ1727:AL1727)+AE1727","v":224.1},null,null,{"$f":"ROUND(AC1727/(1-VLOOKUP(AF1727,Group,2,FALSE)),2)","v":224.1},{"$f":"IF(VLOOKUP(AF1727,Group,5,FALSE)=\"YES\",VLOOKUP(ROUND(ROUND(AJ1727,1)-AJ1727,2),Round,2,FALSE)+VLOOKUP(AF1727,Group,6,FALSE),0)","v":0},{"$f":"IF(VLOOKUP(AF1727,Group,7,FALSE)=\"\",0,ROUND(AJ1727-0.04999,1)-AJ1727+AM1727)","v":0},{"$f":"IF(VLOOKUP(AF1727,Group,7,FALSE)=\"\",\"\",VLOOKUP(AF1727,Group,7,FALSE))","v":""},null,"X"]
[null,"Membranes",null,null,"5 Gallon",null,"Pail",null,null,"Approximate Coverage:  250 SF",null,null,null,null,null,null,"Stock",null,{"$f":"IF(Suggested=\"Yes\",AA1728,AG1728)","v":953.2},"EA",{"$f":"+Instructions!$B$3","v":"I"},null,{"$f":"+Instructions!$C$22","v":0},{"$f":"ROUND($AA1728*(1-W1728)+0.004999,2)","v":953.2},null,"",953.2,{"$f":"+W1728","v":0},{"$f":"+X1728","v":953.2},{"$f":"(AG1728-AC1728)/AG1728","v":0},null,5,{"$f":"SUM(AJ1728:AL1728)+AE1728","v":953.2},null,null,{"$f":"ROUND(AC1728/(1-VLOOKUP(AF1728,Group,2,FALSE)),2)","v":953.2},{"$f":"IF(VLOOKUP(AF1728,Group,5,FALSE)=\"YES\",VLOOKUP(ROUND(ROUND(AJ1728,1)-AJ1728,2),Round,2,FALSE)+VLOOKUP(AF1728,Group,6,FALSE),0)","v":0},{"$f":"IF(VLOOKUP(AF1728,Group,7,FALSE)=\"\",0,ROUND(AJ1728-0.04999,1)-AJ1728+AM1728)","v":0},{"$f":"IF(VLOOKUP(AF1728,Group,7,FALSE)=\"\",\"\",VLOOKUP(AF1728,Group,7,FALSE))","v":""},null,"X"]
["x",null,null,null,null,null,null,null,null,null,null,null,null,null,null,null,null,null,null,null,null,null,null,null,null,null,null,null,null,null,null,null,null,null,null,null,null,null,null,null,"X"]
[null,null,null,"Notes:","New waterproofing/anti-fracture membrane for commercial or residential applications.  No Fabric Required.  Allows for flood testing in ",null,null,null,null,null,null,null,null,null,null,null,null,null,null,null,null,null,null,null,null,null,null,null,null,null,null,null,null,null,null,null,null,null,null,null,"X"]
[null,null,null,null,"only 24 hours.  Bonds directly to metal drains and PVC pipe penetrations. ",null,null,null,null,null,null,null,null,null,null,null,null,null,null,null,null,null,null,null,null,null,null,null,null,null,null,null,null,null,null,null,null,null,null,null,"X"]
[]
[null,null,null,"9277 Hydro Ban 1",null,null,null,null,null,null,null,null,null,null,null,null,null,"Item # Lookup:","LT9277",null,null,null,null,null,null,null,null,null,null,null,null,null,null,null,null,null,null,null,null,null,"X"]
[]
[null,"Membranes",null,null,"1 Gallon",null,"Pail",null,null,"Approximate Coverage:  50 SF",null,null,null,null,null,null,"Stock",null,{"$f":"IF(Suggested=\"Yes\",AA1735,AG1735)","v":246.95},"EA",{"$f":"+Instructions!$B$3","v":"I"},null,{"$f":"+Instructions!$C$22","v":0},{"$f":"ROUND($AA1735*(1-W1735)+0.004999,2)","v":246.95},null,"new",246.95,{"$f":"+W1735","v":0},246.95,{"$f":"(AG1735-AC1735)/AG1735","v":0},null,5,{"$f":"SUM(AJ1735:AL1735)+AE1735","v":246.95},null,null,{"$f":"ROUND(AC1735/(1-VLOOKUP(AF1735,Group,2,FALSE)),2)","v":246.95},{"$f":"IF(VLOOKUP(AF1735,Group,5,FALSE)=\"YES\",VLOOKUP(ROUND(ROUND(AJ1735,1)-AJ1735,2),Round,2,FALSE)+VLOOKUP(AF1735,Group,6,FALSE),0)","v":0},{"$f":"IF(VLOOKUP(AF1735,Group,7,FALSE)=\"\",0,ROUND(AJ1735-0.04999,1)-AJ1735+AM1735)","v":0},{"$f":"IF(VLOOKUP(AF1735,Group,7,FALSE)=\"\",\"\",VLOOKUP(AF1735,Group,7,FALSE))","v":""},null,"X"]
[null,"Membranes",null,null,"3.5 Gallon",null,"Pail",null,null,"Approximate Coverage:  175 SF",null,null,null,null,null,null,null,null,{"$f":"IF(Suggested=\"Yes\",AA1736,AG1736)","v":727.4},"EA",{"$f":"+Instructions!$B$3","v":"I"},null,{"$f":"+Instructions!$C$22","v":0},{"$f":"ROUND($AA1736*(1-W1736)+0.004999,2)","v":727.4},null,"new",727.4,0,727.4,{"$f":"(AG1736-AC1736)/AG1736","v":0},null,5,{"$f":"SUM(AJ1736:AL1736)+AE1736","v":727.4},null,null,{"$f":"ROUND(AC1736/(1-VLOOKUP(AF1736,Group,2,FALSE)),2)","v":727.4},{"$f":"IF(VLOOKUP(AF1736,Group,5,FALSE)=\"YES\",VLOOKUP(ROUND(ROUND(AJ1736,1)-AJ1736,2),Round,2,FALSE)+VLOOKUP(AF1736,Group,6,FALSE),0)","v":0},{"$f":"IF(VLOOKUP(AF1736,Group,7,FALSE)=\"\",0,ROUND(AJ1736-0.04999,1)-AJ1736+AM1736)","v":0},{"$f":"IF(VLOOKUP(AF1736,Group,7,FALSE)=\"\",\"\",VLOOKUP(AF1736,Group,7,FALSE))","v":""},null,"X"]
[null,"Membranes",null,null,"5 Gallon",null,"Pail",null,null,"Approximate Coverage:  250 SF",null,null,null,null,null,null,"Stock",null,{"$f":"IF(Suggested=\"Yes\",AA1737,AG1737)","v":1029.55},"EA",{"$f":"+Instructions!$B$3","v":"I"},null,{"$f":"+Instructions!$C$22","v":0},{"$f":"ROUND($AA1737*(1-W1737)+0.004999,2)","v":1029.55},null,"new",1029.55,0,1029.55,{"$f":"(AG1737-AC1737)/AG1737","v":0},null,5,{"$f":"SUM(AJ1737:AL1737)+AE1737","v":1029.55},null,null,{"$f":"ROUND(AC1737/(1-VLOOKUP(AF1737,Group,2,FALSE)),2)","v":1029.55},{"$f":"IF(VLOOKUP(AF1737,Group,5,FALSE)=\"YES\",VLOOKUP(ROUND(ROUND(AJ1737,1)-AJ1737,2),Round,2,FALSE)+VLOOKUP(AF1737,Group,6,FALSE),0)","v":0},{"$f":"IF(VLOOKUP(AF1737,Group,7,FALSE)=\"\",0,ROUND(AJ1737-0.04999,1)-AJ1737+AM1737)","v":0},{"$f":"IF(VLOOKUP(AF1737,Group,7,FALSE)=\"\",\"\",VLOOKUP(AF1737,Group,7,FALSE))","v":""},null,"X"]
["x",null,null,null,null,null,null,null,null,null,null,null,null,null,null,null,null,null,null,null,null,null,null,null,null,null,null,null,null,null,null,null,null,null,null,null,null,null,null,null,"X"]
[null,null,null,"Notes:","HYDRO BAN 1 is a single component self-curing liquid rubber polymer that is applied in a single coat and forms a flexible,",null,null,null,null,null,null,null,null,null,null,null,null,null,null,null,null,null,null,null,null,null,null,null,null,null,null,null,null,null,null,null,null,null,null,null,"X"]
[null,null,null,null,"seamless waterproofing membrane.  HYDRO BAN 1 is a thin, load bearing waterproofing/crack isolation membrane with",null,null,null,null,null,null,null,null,null,null,null,null,null,null,null,null,null,null,null,null,null,null,null,null,null,null,null,null,null,null,null,null,null,null,null,"X"]
[null,null,null,null,"extreme performance.  HYDRO BAN 1 is specifically designed to handle a wide variety of environmental/substrate conditions,",null,null,null,null,null,null,null,null,null,null,null,null,null,null,null,null,null,null,null,null,null,null,null,null,null,null,null,null,null,null,null,null,null,null,null,"X"]
[null,null,null,null,"such as substrate temperatures as low as 35°F and also be used in steam showers and steam rooms.  HYDRO BAN 1 does",null,null,null,null,null,null,null,null,null,null,null,null,null,null,null,null,null,null,null,null,null,null,null,null,null,null,null,null,null,null,null,null,null,null,null,"X"]
[null,null,null,null,"not require the use of fabric in the field, coves or corners.  HYDRO BAN 1 bonds directly to a wide variety of substrates.",null,null,null,null,null,null,null,null,null,null,null,null,null,null,null,null,null,null,null,null,null,null,null,null,null,null,null,null,null,null,null,null,null,null,null,"X"]
[null,null,null,null,"It features a hi-vis green color for enhanced visibility and easier lay-out.  Equipped with anti-microbial protection.",null,null,null,null,null,null,null,null,null,null,null,null,null,null,null,null,null,null,null,null,null,null,null,null,null,null,null,null,null,null,null,null,null,null,null,"X"]
[]
[null,null,null,"9266 Hydro Ban Quick Cure",null,null,null,null,null,null,null,null,null,null,null,null,null,"Item # Lookup:","LT9266",null,null,null,null,null,null,null,null,null,null,null,null,null,null,null,null,null,null,null,null,null,"X"]
[]
[null,"Membranes",null,null,"1 Gallon",null,"Pail",null,null,"Approximate Coverage: 134 SF",null,null,null,null,null,null,null,null,{"$f":"IF(Suggested=\"Yes\",AA1748,AG1748)","v":415.1},"EA",{"$f":"+Instructions!$B$3","v":"I"},null,{"$f":"+Instructions!$C$22","v":0},{"$f":"ROUND($AA1748*(1-W1748)+0.004999,2)","v":415.1},null,"",415.1,{"$f":"+W1748","v":0},{"$f":"+X1748","v":415.1},{"$f":"(AG1748-AC1748)/AG1748","v":0},null,5,{"$f":"SUM(AJ1748:AL1748)+AE1748","v":415.1},null,null,{"$f":"ROUND(AC1748/(1-VLOOKUP(AF1748,Group,2,FALSE)),2)","v":415.1},{"$f":"IF(VLOOKUP(AF1748,Group,5,FALSE)=\"YES\",VLOOKUP(ROUND(ROUND(AJ1748,1)-AJ1748,2),Round,2,FALSE)+VLOOKUP(AF1748,Group,6,FALSE),0)","v":0},{"$f":"IF(VLOOKUP(AF1748,Group,7,FALSE)=\"\",0,ROUND(AJ1748-0.04999,1)-AJ1748+AM1748)","v":0},{"$f":"IF(VLOOKUP(AF1748,Group,7,FALSE)=\"\",\"\",VLOOKUP(AF1748,Group,7,FALSE))","v":""},null,"X"]
["x",null,null,null,null,null,null,null,null,null,null,null,null,null,null,null,null,null,null,null,null,null,null,null,null,null,null,null,null,null,null,null,null,null,null,null,null,null,null,null,"X"]
[null,null,null,"Notes:","HYDRO BAN Quick Cure is a rapid, thin, liquid applied ready-to-use waterproofing membrane that is ANSI A118.10 Compliant.  ",null,null,null,null,null,null,null,null,null,null,null,null,null,null,null,null,null,null,null,null,null,null,null,null,null,null,null,null,null,null,null,null,null,null,null,"X"]
[null,null,null,null,"Featuring wet-cure technology, this allows curing even in humid, cold and damp environments.  Hydro Ban Quick Cure allows for flood",null,null,null,null,null,null,null,null,null,null,null,null,null,null,null,null,null,null,null,null,null,null,null,null,null,null,null,null,null,null,null,null,null,null,null,"X"]
[null,null,null,null,"testing within 30 minutes allowing contractors to install a shower system all in one day.  Designed for both commercial and residential tile",null,null,null,null,null,null,null,null,null,null,null,null,null,null,null,null,null,null,null,null,null,null,null,null,null,null,null,null,null,null,null,null,null,null,null,"X"]
[null,null,null,null,"installations.  Suited for interior substrates, Hydro Ban Quick Cure creates a continuous waterproofing barrier with outstanding adhesion.",null,null,null,null,null,null,null,null,null,null,null,null,null,null,null,null,null,null,null,null,null,null,null,null,null,null,null,null,null,null,null,null,null,null,null,"X"]
[null,null,null,null,"Hydro Ban Quick Cure bonds directly to metal, PVC, stainless steel and ABS drain assemblies.",null,null,null,null,null,null,null,null,null,null,null,null,null,null,null,null,null,null,null,null,null,null,null,null,null,null,null,null,null,null,null,null,null,null,null,"X"]
[null,null,null,"9250 Hydro Ban XP",null,null,null,null," ",null,null,null,null,null,null,null,null,"Item # Lookup:","LT9250",null,null,null,null,null,null,null,null,null,null,null,null,null,null,null,null,null,null,null,null,null,"X"]
[]
[null,"Membranes",null,null,"1 Gallon",null,"Pail",null,null,"Approximate Coverage:  50 SF",null,null,null,null,null,"4 Gallons/CTN",null,null,{"$f":"IF(Suggested=\"Yes\",AA1757,AG1757)","v":224.1},"EA",{"$f":"+Instructions!$B$3","v":"I"},null,{"$f":"+Instructions!$C$22","v":0},{"$f":"ROUND($AA1757*(1-W1757)+0.004999,2)","v":224.1},null,"YES",224.1,{"$f":"+W1757","v":0},{"$f":"+X1757","v":224.1},{"$f":"(AG1757-AC1757)/AG1757","v":0},null,5,{"$f":"SUM(AJ1757:AL1757)+AE1757","v":224.1},null,null,{"$f":"ROUND(AC1757/(1-VLOOKUP(AF1757,Group,2,FALSE)),2)","v":224.1},{"$f":"IF(VLOOKUP(AF1757,Group,5,FALSE)=\"YES\",VLOOKUP(ROUND(ROUND(AJ1757,1)-AJ1757,2),Round,2,FALSE)+VLOOKUP(AF1757,Group,6,FALSE),0)","v":0},{"$f":"IF(VLOOKUP(AF1757,Group,7,FALSE)=\"\",0,ROUND(AJ1757-0.04999,1)-AJ1757+AM1757)","v":0},{"$f":"IF(VLOOKUP(AF1757,Group,7,FALSE)=\"\",\"\",VLOOKUP(AF1757,Group,7,FALSE))","v":""},null,"X"]
[null,"Membranes",null,null,"5 Gallon",null,"Pail",null,null,"Approximate Coverage:  250 SF",null,null,null,null,null,null,null,null,{"$f":"IF(Suggested=\"Yes\",AA1758,AG1758)","v":990.15},"EA",{"$f":"+Instructions!$B$3","v":"I"},null,{"$f":"+Instructions!$C$22","v":0},{"$f":"ROUND($AA1758*(1-W1758)+0.004999,2)","v":990.15},null,"",990.15,{"$f":"+W1758","v":0},{"$f":"+X1758","v":990.15},{"$f":"(AG1758-AC1758)/AG1758","v":0},null,5,{"$f":"SUM(AJ1758:AL1758)+AE1758","v":990.15},null,null,{"$f":"ROUND(AC1758/(1-VLOOKUP(AF1758,Group,2,FALSE)),2)","v":990.15},{"$f":"IF(VLOOKUP(AF1758,Group,5,FALSE)=\"YES\",VLOOKUP(ROUND(ROUND(AJ1758,1)-AJ1758,2),Round,2,FALSE)+VLOOKUP(AF1758,Group,6,FALSE),0)","v":0},{"$f":"IF(VLOOKUP(AF1758,Group,7,FALSE)=\"\",0,ROUND(AJ1758-0.04999,1)-AJ1758+AM1758)","v":0},{"$f":"IF(VLOOKUP(AF1758,Group,7,FALSE)=\"\",\"\",VLOOKUP(AF1758,Group,7,FALSE))","v":""},null,"X"]
["x",null,null,null,null,null,null,null,null,null,null,null,null,null,null,null,null,null,null,null,null,null,null,null,null,null,null,null,null,null,null,null,null,null,null,null,null,null,null,null,"X"]
[null,null,null,"Notes:","A premium thin, load bearing waterprooing/crack isolation membrane that does not require the use of fabric in field areas coves and corners.",null,null,null,null,null,null,null,null,null,null,null,null,null,null,null,null,null,null,null,null,null,null,null,null,null,null,null,null,null,null,null,null,null,null,null,"X"]
[null,null,null,null,"It can be used in both interior and exterior as well as residential and commercial applications.",null,null,null,null,null,null,null,null,null,null,null,null,null,null,null,null,null,null,null,null,null,null,null,null,null,null,null,null,null,null,null,null,null,null,null,"X"]
[null,null,null,null,null,null,null,null,null,null,null,null,null,null,null,null,null,null,null,null,null,null,null,null,null,null,null,null,null,null,null,null,null,null,null,null,null,null,null,null,"X"]
[null,null,null,"9265 Hydro Barrier Plus",null,null,null,null,null,null,null,null,null,null,null,null,null,"Item # Lookup:","LT9265",null,null,null,null,null,null,null,null,null,null,null,null,null,null,null,null,null,null,null,null,null,"X"]
[]
[null,"Membranes",null,null,"1 Gallon",null,"Pail",null,null,"Approximate Coverage:  50 SF",null,null,null,null,null,"4 Gallons/CTN",null,null,{"$f":"IF(Suggested=\"Yes\",AA1765,AG1765)","v":96.8},"EA",{"$f":"+Instructions!$B$3","v":"I"},null,{"$f":"+Instructions!$C$22","v":0},{"$f":"ROUND($AA1765*(1-W1765)+0.004999,2)","v":96.8},null,"",96.8,{"$f":"+W1765","v":0},96.8,{"$f":"(AG1765-AC1765)/AG1765","v":0},null,5,{"$f":"SUM(AJ1765:AL1765)+AE1765","v":96.8},null,null,{"$f":"ROUND(AC1765/(1-VLOOKUP(AF1765,Group,2,FALSE)),2)","v":96.8},{"$f":"IF(VLOOKUP(AF1765,Group,5,FALSE)=\"YES\",VLOOKUP(ROUND(ROUND(AJ1765,1)-AJ1765,2),Round,2,FALSE)+VLOOKUP(AF1765,Group,6,FALSE),0)","v":0},{"$f":"IF(VLOOKUP(AF1765,Group,7,FALSE)=\"\",0,ROUND(AJ1765-0.04999,1)-AJ1765+AM1765)","v":0},{"$f":"IF(VLOOKUP(AF1765,Group,7,FALSE)=\"\",\"\",VLOOKUP(AF1765,Group,7,FALSE))","v":""},null,"X"]
[null,"Membranes",null,null,"3.5 Gallon",null,"Pail",null,null,"Approximate Coverage:  175 SF",null,null,null,null,null,null,"Stock",null,{"$f":"IF(Suggested=\"Yes\",AA1766,AG1766)","v":242.15},"EA",{"$f":"+Instructions!$B$3","v":"I"},null,{"$f":"+Instructions!$C$22","v":0},{"$f":"ROUND($AA1766*(1-W1766)+0.004999,2)","v":242.15},null,"",242.15,0,242.15,{"$f":"(AG1766-AC1766)/AG1766","v":0},null,5,{"$f":"SUM(AJ1766:AL1766)+AE1766","v":242.15},null,null,{"$f":"ROUND(AC1766/(1-VLOOKUP(AF1766,Group,2,FALSE)),2)","v":242.15},{"$f":"IF(VLOOKUP(AF1766,Group,5,FALSE)=\"YES\",VLOOKUP(ROUND(ROUND(AJ1766,1)-AJ1766,2),Round,2,FALSE)+VLOOKUP(AF1766,Group,6,FALSE),0)","v":0},{"$f":"IF(VLOOKUP(AF1766,Group,7,FALSE)=\"\",0,ROUND(AJ1766-0.04999,1)-AJ1766+AM1766)","v":0},{"$f":"IF(VLOOKUP(AF1766,Group,7,FALSE)=\"\",\"\",VLOOKUP(AF1766,Group,7,FALSE))","v":""},null,"X"]
[null,"Membranes",null,null,"5 Gallon",null,"Pail",null,null,"Approximate Coverage:  250 SF",null,null,null,null,null,null,"Stock",null,{"$f":"IF(Suggested=\"Yes\",AA1767,AG1767)","v":307.60000000000002},"EA",{"$f":"+Instructions!$B$3","v":"I"},null,{"$f":"+Instructions!$C$22","v":0},{"$f":"ROUND($AA1767*(1-W1767)+0.004999,2)","v":307.60000000000002},null,"",307.60000000000002,0,307.60000000000002,{"$f":"(AG1767-AC1767)/AG1767","v":0},null,5,{"$f":"SUM(AJ1767:AL1767)+AE1767","v":307.60000000000002},null,null,{"$f":"ROUND(AC1767/(1-VLOOKUP(AF1767,Group,2,FALSE)),2)","v":307.60000000000002},{"$f":"IF(VLOOKUP(AF1767,Group,5,FALSE)=\"YES\",VLOOKUP(ROUND(ROUND(AJ1767,1)-AJ1767,2),Round,2,FALSE)+VLOOKUP(AF1767,Group,6,FALSE),0)","v":0},{"$f":"IF(VLOOKUP(AF1767,Group,7,FALSE)=\"\",0,ROUND(AJ1767-0.04999,1)-AJ1767+AM1767)","v":0},{"$f":"IF(VLOOKUP(AF1767,Group,7,FALSE)=\"\",\"\",VLOOKUP(AF1767,Group,7,FALSE))","v":""},null,"X"]
["x",null,null,null,null,null,null,null,null,null,null,null,null,null,null,null,null,null,null,null,null,null,null,null,null,null,null,null,null,null,null,null,null,null,null,null,null,null,null,null,"X"]
[null,null,null,"Notes:","A thin, load bearing waterproofing/crack isolation membrane for interior and exterior applications.  It can be easily applied with a paint brush,",null,null,null,null,null,null,null,null,null,null,null,null,null,null,null,null,null,null,null,null,null,null,null,null,null,null,null,null,null,null,null,null,null,null,null,"X"]
[null,null,null,null,"roller or airless sprayer.",null,null,null,null,null,null,null,null,null,null,null,null,null,null,null,null,null,null,null,null,null,null,null,null,null,null,null,null,null,null,null,null,null,null,null,"X"]
[]
[null,null,null,"Latapoxy Waterproof Flashing Mortar",null,null,null,null,null,null,null,null,null,null,null,null,null,"Item # Lookup:","LT0024",null,null,null,null,null,null,null,null,null,null,null,null,null,null,null,null,null,null,null,null,null,"X"]
[]
[null,"Membranes",null,null,"3.5 Gallon",null,"Pail",null,null,"Approximate Coverage:  45 SF at 1/8\" thick, depending on application",null,null,null,null,null,null,null,null,{"$f":"IF(Suggested=\"Yes\",AA1774,AG1774)","v":317.39999999999998},"EA",{"$f":"+Instructions!$B$3","v":"I"},null,{"$f":"+Instructions!$C$22","v":0},{"$f":"ROUND($AA1774*(1-W1774)+0.004999,2)","v":317.39999999999998},null,"",317.39999999999998,{"$f":"+W1774","v":0},{"$f":"+X1774","v":317.39999999999998},{"$f":"(AG1774-AC1774)/AG1774","v":0},null,5,{"$f":"SUM(AJ1774:AL1774)+AE1774","v":317.39999999999998},null,null,{"$f":"ROUND(AC1774/(1-VLOOKUP(AF1774,Group,2,FALSE)),2)","v":317.39999999999998},{"$f":"IF(VLOOKUP(AF1774,Group,5,FALSE)=\"YES\",VLOOKUP(ROUND(ROUND(AJ1774,1)-AJ1774,2),Round,2,FALSE)+VLOOKUP(AF1774,Group,6,FALSE),0)","v":0},{"$f":"IF(VLOOKUP(AF1774,Group,7,FALSE)=\"\",0,ROUND(AJ1774-0.04999,1)-AJ1774+AM1774)","v":0},{"$f":"IF(VLOOKUP(AF1774,Group,7,FALSE)=\"\",\"\",VLOOKUP(AF1774,Group,7,FALSE))","v":""},null,"X"]
["x",null,null,null,null,null,null,null,null,null,null,null,null,null,null,null,null,null,null,null,null,null,null,null,null,null,null,null,null,null,null,null,null,null,null,null,null,null,null,null,"X"]
[null,null,null,"Notes:","An epoxy based 3 component, trowel applied, waterproofing & vapor barrier membrane.  It can be used to waterproof seams, gaps or joints ",null,null,null,null,null,null,null,null,null,null,null,null,null,null,null,null,null,null,null,null,null,null,null,null,null,null,null,null,null,null,null,null,null,null,null,"X"]
[null,null,null,null,"between a variety of substrates & metal & PVC pipe penetrations or flashing.  It is specifically designed to be used under ceramic tile, stone ",null,null,null,null,null,null,null,null,null,null,null,null,null,null,null,null,null,null,null,null,null,null,null,null,null,null,null,null,null,null,null,null,null,null,null,"X"]
[null,null,null,null,"or brick for rapid installations which require a fast curing waterproof flashing.  It is flexible, easy to apply & will allow for rapid installations.   ",null,null,null,null,null,null,null,null,null,null,null,null,null,null,null,null,null,null,null,null,null,null,null,null,null,null,null,null,null,null,null,null,null,null,null,"X"]
["x",null,null,null,null,null,null,null,null,null,null,null,null,null,null,null,null,null,null,null,null,null,null,null,null,null,null,null,null,null,null,null,null,null,null,null,null,null,null,null,"X"]
[null,null,null,null,null,null,null,null,null,null,null,null,null,null,null,null,null,null,null,null,null,null,null,null,null,null,null,null,null,null,null,null,null,null,null,null,null,null,null,null,"X"]
[null,null,null,null,null,null,null,null,null,null,null,null,null,null,null,null,null,null,null,null,null,null,null,null,null,null,null,null,null,null,null,null,null,null,null,null,null,null,null,null,"X"]
[null,null,null,null,null,null,null,null,null,null,null,null,null,null,null,null,null,null,null,null,null,null,null,null,null,null,null,null,null,null,null,null,null,null,null,null,null,null,null,null,"X"]
[null,null,null,null,null,null,null,null,null,null,null,null,null,null,null,null,null,null,null,null,null,null,null,null,null,null,null,null,null,null,null,null,null,null,null,null,null,null,null,null,"X"]
[null,null,null,null,null,null,null,null,null,null,null,null,null,null,null,null,null,null,null,null,null,null,null,null,null,null,null,null,null,null,null,null,null,null,null,null,null,null,null,null,"X"]
[null,null,null,null,null,null,null,null,null,null,null,null,null,null,null,null,null,null,null,null,null,null,null,null,null,null,null,null,null,null,null,null,null,null,null,null,null,null,null,null,"X"]
[null,null,null,null,null,null,null,null,null,null,null,null,null,null,null,null,null,null,null,null,null,null,null,null,null,null,null,null,null,null,null,null,null,null,null,null,null,null,null,null,"X"]
[null,null,null,null,null,null,null,null,null,null,null,null,null,null,null,null,null,null,null,null,null,null,null,null,null,null,null,null,null,null,null,null,null,null,null,null,null,null,null,null,"X"]
[null,null,null,null,null,null,null,null,null,null,null,null,null,null,null,null,null,null,null,null,null,null,null,null,null,null,null,null,null,null,null,null,null,null,null,null,null,null,null,null,"X"]
[null,null,null,null,null,null,null,null,null,null,null,null,null,null,null,null,null,null,null,null,null,null,null,null,null,null,null,null,null,null,null,null,null,null,null,null,null,null,null,null,"X"]
[null,null,null,null,null,null,null,null,null,null,null,null,null,null,null,null,null,null,null,null,null,null,null,null,null,null,null,null,null,null,null,null,null,null,null,null,null,null,null,null,"X"]
[null,null,null,null,null,null,null,null,null,null,null,null,null,null,null,null,null,null,null,null,null,null,null,null,null,null,null,null,null,null,null,null,null,null,null,null,null,null,null,null,"X"]
[null,null,null,null,null,null,null,null,null,null,null,null,null,null,null,null,null,null,null,null,null,null,null,null,null,null,null,null,null,null,null,null,null,null,null,null,null,null,null,null,"X"]
[null,null,null,null,null,null,null,null,null,null,null,null,null,null,null,null,null,null,null,null,null,null,null,null,null,null,null,null,null,null,null,null,null,null,null,null,null,null,null,null,"X"]
[null,null,null,null,null,null,null,null,null,null,null,null,null,null,null,null,null,null,null,null,null,null,null,null,null,null,null,null,null,null,null,null,null,null,null,null,null,null,null,null,"X"]
[null,null,null,null,null,null,null,null,null,null,null,null,null,null,null,null,null,null,null,null,null,null,null,null,null,null,null,null,null,null,null,null,null,null,null,null,null,null,null,null,"X"]
[null,null,null,null,null,null,null,null,null,null,null,null,null,null,null,null,null,null,null,null,null,null,null,null,null,null,null,null,null,null,null,null,null,null,null,null,null,null,null,null,"X"]
[null,null,null,null,null,null,null,null,null,null,null,null,null,null,null,null,null,null,null,null,null,null,null,null,null,null,null,null,null,null,null,null,null,null,null,null,null,null,null,null,"X"]
[null,null,null,null,null,null,null,null,null,null,null,null,null,null,null,null,null,null,null,null,null,null,null,null,null,null,null,null,null,null,null,null,null,null,null,null,null,null,null,null,"X"]
[null,null,null,null,null,null,null,null,null,null,null,null,null,null,null,null,null,null,null,null,null,null,null,null,null,null,null,null,null,null,null,null,null,null,null,null,null,null,null,null,"X"]
[null,null,null,null,null,null,null,null,null,null,null,null,null,null,null,null,null,null,null,null,null,null,null,null,null,null,null,null,null,null,null,null,null,null,null,null,null,null,null,null,"X"]
[null,null,null,null,null,null,null,null,null,null,null,null,null,null,null,null,null,null,null,null,null,null,null,null,null,null,null,null,null,null,null,null,null,null,null,null,null,null,null,null,"X"]
[null,null,null,null,null,null,null,null,null,null,null,null,null,null,null,null,null,null,null,null,null,null,null,null,null,null,null,null,null,null,null,null,null,null,null,null,null,null,null,null,"X"]
[null,null,null,null,null,null,null,null,null,null,null,null,null,null,null,null,null,null,null,null,null,null,null,null,null,null,null,null,null,null,null,null,null,null,null,null,null,null,null,null,"X"]
[null,null,null,null,null,null,null,null,null,null,null,null,null,null,null,null,null,null,null,null,null,null,null,null,null,null,null,null,null,null,null,null,null,null,null,null,null,null,null,null,"X"]
[null,null,null,null,null,null,null,null,null,null,null,null,null,null,null,null,null,null,null,null,null,null,null,null,null,null,null,null,null,null,null,null,null,null,null,null,null,null,null,null,"X"]
[null,null,null,null,null,null,null,null,null,null,null,null,null,null,null,null,null,null,null,null,null,null,null,null,null,null,null,null,null,null,null,null,null,null,null,null,null,null,null,null,"X"]
[null,null,null,null,null,null,null,null,null,null,null,null,null,null,null,null,null,null,null,null,null,null,null,null,null,null,null,null,null,null,null,null,null,null,null,null,null,null,null,null,"X"]
[null,null,null,null,null,null,null,null,null,null,null,null,null,null,null,null,null,null,null,null,null,null,null,null,null,null,null,null,null,null,null,null,null,null,null,null,null,null,null,null,"X"]
[null,null,null,null,null,null,null,null,null,null,null,null,null,null,null,null,null,null,null,null,null,null,null,null,null,null,null,null,null,null,null,null,null,null,null,null,null,null,null,null,"X"]
[null,null,null,null,null,null,null,null,null,null,null,null,null,null,null,null,null,null,null,null,null,null,null,null,null,null,null,null,null,null,null,null,null,null,null,null,null,null,null,null,"X"]
[null,null,null,null,null,null,null,null,null,null,null,null,null,null,null,null,null,null,null,null,null,null,null,null,null,null,null,null,null,null,null,null,null,null,null,null,null,null,null,null,"X"]
[null,null,null,null,null,null,null,null,null,null,null,null,null,null,null,null,null,null,null,null,null,null,null,null,null,null,null,null,null,null,null,null,null,null,null,null,null,null,null,null,"X"]
[null,null,null,null,null,null,null,null,null,null,null,null,null,null,null,null,null,null,null,null,null,null,null,null,null,null,null,null,null,null,null,null,null,null,null,null,null,null,null,null,"X"]
[null,null,null,null,null,null,null,null,null,null,null,null,null,null,null,null,null,null,null,null,null,null,null,null,null,null,null,null,null,null,null,null,null,null,null,null,null,null,null,null,"X"]
[null,null,null,null,null,null,null,null,null,null,null,null,null,null,null,null,null,null,null,null,null,null,null,null,null,null,null,null,null,null,null,null,null,null,null,null,null,null,null,null,"X"]
[null,null,null,null,null,null,null,null,null,null,null,null,null,null,null,null,null,null,null,null,null,null,null,null,null,null,null,null,null,null,null,null,null,null,null,null,null,null,null,null,"X"]
[null,null,null,null,null,null,null,null,null,null,null,null,null,null,null,null,null,null,null,null,null,null,null,null,null,null,null,null,null,null,null,null,null,null,null,null,null,null,null,null,"X"]
[null,null,null,null,null,null,null,null,null,null,null,null,null,null,null,null,null,null,null,null,null,null,null,null,null,null,null,null,null,null,null,null,null,null,null,null,null,null,null,null,"X"]
[null,null,null,null,null,null,null,null,null,null,null,null,null,null,null,null,null,null,null,null,null,null,null,null,null,null,null,null,null,null,null,null,null,null,null,null,null,null,null,null,"X"]
[null,null,null,null,null,null,null,null,null,null,null,null,null,null,null,null,null,null,null,null,null,null,null,null,null,null,null,null,null,null,null,null,null,null,null,null,null,null,null,null,"X"]
[null,null,null,null,null,null,null,null,null,null,null,null,null,null,null,null,null,null,null,null,null,null,null,null,null,null,null,null,null,null,null,null,null,null,null,null,null,null,null,null,"X"]
[null,null,null,null,null,null,null,null,null,null,null,null,null,null,null,null,null,null,null,null,null,null,null,null,null,null,null,null,null,null,null,null,null,null,null,null,null,null,null,null,"X"]
[null,null,"This price list is available electronically on an Excel spreadsheet at www.conestogatile.com/pricelists."]
[]
[null,null,"The spreadsheet has many special features to assist you.  Apply your discount to generate your net costs for your purchasing department.  Apply your standard gross margin percentage or custom prices to generate your own custom price list for your showroom.  Print out individual price list for each series that can be attached to the back of your sample boards for easy reference."]
["X","X","X","X","X","X","X","X","X","X","X","X","X","X","X","X","X","X","X","X","X","X","X","X","X","X","X","X","X","X","X","X","X","X","X","X","X","X","X","X","X"]
[]
[null,null,null,"$.05 Round Matrix"]
[null,null,null,-0.04,0.01]
[null,null,null,-0.03,0.02]
[null,null,null,-0.02,0.03]
[null,null,null,-0.01,-0.01]
[null,null,null,0,0]
[null,null,null,0.01,1.0000000000005116E-2]
[null,null,null,0.02,2.0000000000003126E-2]
[null,null,null,0.03,3.0000000000001137E-2]
[null,null,null,0.04,-0.01]
[null,null,null,0.05,0]

{"sheet":"Websites","index":3,"n_rows":9,"n_cols":2,"rows_kept":9,"cut":false,"hidden":false,"merged":[]}
["Easy Access Website links"]
[]
["ConestogaTile's Website","www.conestogatile.com"]
[]
["Manufacturer's Home Page","www.laticrete.com"]
[]
[]
["Product","Direct Website Link"]
["All Products","https://laticrete.com/en/our-products"]

{"sheet":"Changes","index":4,"n_rows":154,"n_cols":3,"rows_kept":154,"cut":false,"hidden":false,"merged":[[127,0,133,0],[127,1,133,1],[134,0,139,0],[134,1,139,1]]}
["Date"]
["Announced","Series","Description"]
[]
["New Products"]
["2019-01-02","Multimax Lite","Lightweight one-step polymer fortified Large and Heavy Tile mortar for interior and exterior installation."]
["2019-03-01","9209 Fracture Ban SC","A thin, load bearing, self-curing liquid rubber polymer that can be easily applied in a single coat to form a flexible seamless antifracture membrane."]
["2019-03-01","9259 Hydro Ban Cementitious Waterproofing Membrane","A one component, polymer fortified, cement based waterproofing material that mixes only with water."]
["2019-03-01","Hydro Ban Bonding Flange Drain/Tile-In Drain","New Hydro Ban Bonding Flange Drain/Tile-In Drain kits will now include 4\" x 4\" Grates.  (Kits with the 5\" x 5\" Grates are discontinued.)"]
["2019-03-01","Hydro Ban Drain Collars","The HYDRO BAN Deep Drawn Drain Collars are available in 3/4\" and 1-1/2\" depths and a 17\" diameter."]
["2019-03-01","Hydro Ban Drain Grate","New 4\" x 4\" Grate size.  (The 5\" x 5\" Grates are discontinued.)"]
["2019-03-01","Hydro Ban Linear Drain","Hydro Ban Linear Drain is now sold in two parts:  the HYDRO BAN Linear Drain Trough and the HYDRO BAN Linear Drain Grate."]
["2019-03-01","SpectraLOCK PRO Premium TRANSLUCENT Grout","High performance epoxy grout that offers a unique opaque color."]
["2020-03-10","170.5 Sound & Crack Isolation Mat","High performance acoustical underlayment system."]
["2020-03-10","3701 Lite Mortar and 3701 Lite Mortar R","The ultimate lightweight, versatile, high performance non-sag mortar."]
["2020-03-10","Hydro Ban Curb","The Hydro Ban Curb is a 24\" long EPS curb to be used with the Hydro Ban Shower Pan and is sold separately.  The Hydro Ban Curb should be waterproofed using Hydro Ban Sheet Membrane."]
["2020-03-10","Hydro Ban Shower Pan","The Hydro Ban Shower Pan comes packaged with a pro-sloped pan and a piece of Hydro Ban Sheet Membrane to cover the pan."]
["2020-03-10","Hydro Ban Shower Pan Kit","The Hydro Ban Shower Pan Kit allow the contractor to quickly and easily complete a long-lasting installation, without the hassle of determining the essential components required.  This kit comes packaged with the following Hydro Ban accessories:  data sheet, pro-sloped pan, curb(s) to fit longest side of pan, adhesive & sealant 10.3 FL. OZ. cartridge, sheet membrane for walls and for pan, sealing tape for installation, 4 inside corners, 2 outside corners, 1 pipe seal, 1 mixing valve seal & 2 bonding flange drain rings."]
["2020-03-10","NXT Level SP","Medium/coarse-sanded wear surface and self-leveling underlayment."]
["2020-03-10","Select-Bond Adhesive, Rapid Kits, Non-Sag Kits and High Performance Kits.","Modular Adhesive Mortar System"]
["2020-03-10","SpectraLock 1","Pre-Mixed Grout with Epoxy Performance."]
["2020-03-10","Vapor Ban Primer ER","All-In-One moisture vapor barrier and primer applied in one-step."]
["2021-03-08","296 Glass Tile Adhesive Lite","New lightweight formula; same volume in bags at 1/2 the weight.  (Replaces 285 Glass Tile Adhesive.) "]
["2021-03-08","903 NXT Level Flow","A cement-based, pump friendly, high flowing, easy-to-use underlayment for use in leveling interior substrates."]
["2021-03-08","9209 Fracture Ban SC","Now available in Gallon size."]
["2021-03-08","ELEVATION Pins","Customizable pins to ensure your pour will be level.  Memory plastic snaps back - if bent, self-adhesive strips keeps pins in place."]
["2021-03-08","Hydro Ban Shower Pan","48\" x 48\" #9243-4848-CDP-BF Barrier Free Pan with Center Drain Location added."]
["2021-03-08","NIVCOMP Digital Level","Offers a range of advantages over traditional leveling equipment.  Comes in a rugged self-contained kit."]
["2021-03-08","NXT Tool Kit","Tackle any NXT self-leveling underlayment / overlayment application with this high quality tool kit."]
["2021-05-17","918 NXT Skim Lite","Skim Lite is a premium quality, fast-drying, polymer modified, cement-based underlayment designed for skim coating, smoothing and leveling prior to the application of floor coverings."]
["2021-05-17","9250 Hydro Ban XP","A premium thin, load bearing waterprooing/crack isolation membrane that does not require the use of fabric in field areas coves and corners.  It can be used in both interior and exterior as well as residential and commercial applications."]
["2021-05-17","9265 Hydro Barrier Plus","A thin, load bearing waterproofing/crack isolation membrane for interior and exterior applications.  It can be easily applied with a paint brush, roller or airless sprayer."]
["2022-01-05","1200 SpectraLOCK Grout Part C","Colors 09 Frosty, 87 Stormy Grey, 93 Fossil, 94 Walnut, 95 Mink, 96 Steamship and 97 Iron added."]
["2022-01-05","2300 Ready-To-Use Grout","Colors 09 Frosty, 87 Stormy Grey, 93 Fossil, 94 Walnut, 95 Mink, 96 Steamship and 97 Iron added."]
["2022-01-05","2500 PermaColor Grout","Colors 09 Frosty, 87 Stormy Grey, 93 Fossil, 94 Walnut, 95 Mink, 96 Steamship and 97 Iron added."]
["2022-01-05","2600 PermaColor Select Color Kit","Colors 09 Frosty, 87 Stormy Grey, 93 Fossil, 94 Walnut, 95 Mink, 96 Steamship and 97 Iron added."]
["2022-01-05","279R Tri-Lite Rapid Mortar","A fast setting, lightweight, high performance tri-purpose mortar designed for Large and Heavy Tile, for wall installations."]
["2022-01-05","3100 SpectraLOCK 1 Pre-Mixed Epoxy Performance Grout","Colors 09 Frosty, 87 Stormy Grey, 93 Fossil, 94 Walnut, 95 Mink, 96 Steamship and 97 Iron added."]
["2022-01-05","6200 LATASIL","Colors 09 Frosty, 87 Stormy Grey, 93 Fossil, 94 Walnut, 95 Mink, 96 Steamship and 97 Iron added."]
["2022-01-05","7200 PREMIUM ACRYLIC CAULK (Sanded)","Colors 09 Frosty, 87 Stormy Grey, 93 Fossil, 94 Walnut, 95 Mink, 96 Steamship and 97 Iron added."]
["2022-01-05","NXT Level SP","Color White added and is available in a 50 LB bag."]
["2022-06-14","177 Strata Mat","45\" x 32\" Sheet size added, (10 per SF Sheet)."]
["2022-06-14","906 NXT Vapor Reduction Coating","2-Part epoxy coating for controlling the moisture vapor emission rate from concrete slabs prior to installing NXT underlayments. "]
["2022-06-14","911 Vapor Ban E","A single-coat, 100% solids, liquid applied 2-part epoxy coating specifically designed for controlling the moisture vapor emission rate from new or existing concrete slabs. "]
["2022-06-14","912 Vapor Ban ER","A single-coat, 100% solids, rapid curing single-coat moisture vapor barrier designed for controlling the moisture vapor emission rate from new or existing concrete slabs. "]
["2022-06-14","Hydro Ban Board & Accessories","Lightweight construction panel designed to be used in bonded tile or stone installations.  Galvanized Tab Washers & Screws."]
["2022-06-14","Hydro Ban Collars","Pipe  Collar and Mixing Valve Collar available."]
["2022-06-14","Hydro Ban Preformed Corners","Inside and Outside corners available."]
["2022-06-14","Hydro Ban Sealing Tape","Available in two widths and two roll lengths."]
["2022-06-14","Hydro Ban Sheet Membrane","A high performance low-perm waterproofing sheet membrane for use in interior residential & commercial waterproofing applications including steam showers and steam rooms."]
["2022-06-14","Paver Link","Paver Joint Sand"]
["2022-06-14","Pro-Mix Station","As a pourable cart, the Pro-Mix Station contains the material, eliminates harmful dust, and provides combined batch consistency.  The removable drill allows for the mixing of tile/stone adhesive and repair mortars.  The Pro-Mix Station can be used with many Laticrete products, such as self-leveling underlayments, overlayments, and epoxies.  3 bag capacity/14.5 amp/110 V drill/2-speed motor with 0-250 abd 0-580 RPM/2 mixing paddles for high and low viscosity/Rotating caster wheels/Pourable and dust extractor/Steel frame."]
["2023-07-13","2500 PermaColor Grout","New & Improved formula.  Now with 20% increased strength, 30% enhanced stain resistance and formulated without sand* for a safer installation. (*OSHA action level set forth in OSHA’s Respirable Crystalline Silica (RCS) standard for construction, 29 CFR 1926.1153, as certified by an independent laboratory to be below the OSHA action level for respirable crystalline silica — see www.laticrete.com/silica.)"]
["2023-07-13","2600 PermaColor Select Base Grout","New & Improved formula.  Now with 20% increased strength, 20% enhanced stain resistance and formulated without sand* for a safer installation. (*OSHA action level set forth in OSHA’s Respirable Crystalline Silica (RCS) standard for construction, 29 CFR 1926.1153, as certified by an independent laboratory to be below the OSHA action level for respirable crystalline silica — see www.laticrete.com/silica.)  Also, now available in a smaller, more convenient 10lb regular base bag size that replaces the 12.5lb and 25lb regular base bag sizes."]
["2023-07-13","2600 PermaColor Select Color Kit","Now available in single packets for a 1:1 mix ratio with base."]
["2023-07-13","3100 SpectraLOCK 1 Pre-Mixed Epoxy Performance Grout","Now available in color 00 Translucent."]
["2023-07-13","Hydro Ban Bonding Flange Drain","Redesigned and streamlined with direct feedback from installers in the field, Laticrete's next generation of tile-in drains and bonding flanges are intended to work with a greater number of tile types, sizes, and tile as thin as 1/8”.  Now also available in contractor 10 packs."]
["2023-08-09","1200 SpectraLOCK Dazzle","Color Green Glow added and must be purchased in full cartons, 6 Pouches/CTN."]
["2023-08-25","919 NXT Level Plus Lite","NXT Level Plus Lite is a premium lightweight, fiber-reinforced, cement-based underlayment designed for leveling a variety of interior projects using concrete, plywood, OSB, or gypsum substrates prior to the application of floor coverings.  At nearly half the cured weight of a standard self-leveling underlayment, it’s a great option for installations with load-bearing concerns.  NXT Level Plus Lite is 50% lighter in packaging weight than traditional self-leveling underlayment products and contains no respirable crystalline silica levels that exceed the OSHA action level.  This versatile, rapid-setting self-leveling underlayment is pump-friendly and pourable up to 4\" in depth.  NXT Level Plus Lite provides consistent results and produces a flat, smooth, and hard surface in as soon as 24 hours."]
["2023-08-25","254 Platinum Plus","254 PLATINUM Plus is the ultimate, high-performance lightweight polymer fortified, thin-set adhesive mortar ideal for interior and exterior installation of ceramic tile, porcelain tile, stone, quarry tile, pavers and brick.  254 PLATINUM Plus is offered in a 25 lb bag providing the same coverage as a 50 lb bag of traditional adhesive mortar.  Featuring unsurpassed bond strength, 254 PLATINUM Plus exceeds ANSI A118.15, the highest performance standard for a cementitious adhesive mortar.  With a 60-minute open time, superior transfer for maximum coverage, easy to spread creamy consistency and a lightweight formula for easier handling, 254 PLATINUM Plus is the ideal thin-set adhesive mortar for most every installation including submerged applications."]
["2023-08-25","Pro-Kart","The Pro-Kart when paired with the Pro-Mix Station provides an ideal and safe solution to allow for continuous mixing, optimal placement, and reduced spillage.  Keep the job moving and let the Pro-Kart handle the delivery.  The Pro-Kart can be used with many LATICRETE products, such as self-leveling underlayments, overlayments, and epoxy coatings."]
["2023-09-28","2600 PermaColor Select Base Grout","20lb regular base grout bag size added."]
["2024-02-14","177 Strata Mat","54 SF Roll size added, 45\" x 14' 3\"."]
["2024-02-14","921 Primer Plus","Primer Plus is a premium, multi-purpose primer designed to increase bond strength and maximize the performance of self-leveling underlayments and crack isolation peel and stick membranes on concrete, gypsum, wood and more.  This high-performing concentrate is formulated with nanoparticles to penetrate deep into substrates while offering superior adhesion for long-lasting interior applications."]
["2024-02-14","Hydro Ban Bonding Flange Drain","9246-0404-MBP2 Bonding Flange Drain with Matte Black Grate added."]
["2024-02-14","Hydro Ban Linear Drain Offset Oval Grate","Color Matte Black Grate added and is available in all 8 sizes."]
["2024-02-14","Hydro Ban Point Drain Grate","9248-0404-MB 4\" x 4\" Matte Black Point Drain Grate added."]
["2024-02-14","Replacement Liner for Pro-Mix Station","7319-LINER-CR Replacement liner for the Pro-Mix Station."]
["2025-05-19","Sure Set LHT","Designed for performance and ease of use, this versatile adhesive mortar is the ideal solution for a wide range of tile and stone installations. With non-sag and non-slump performance, this tile adhesive is perfect for both vertical and floor applications, including large and heavy tiles (LHT), while meeting ANSI A118.4HT and ANSI A118.11 for use over plywood and various other substrates."]
["2025-05-16","NXT Pedestal System","The NXT Pedestal System lets you create elevated surfaces using a wide variety of finishes including pavers, wood, and more.  With only three main components, installs are fast and easy, adaptable to nearly any challenge, and still allow access to the substrate below."]
["2025-10-24","289 MultiMax 1","A revolutionary, ready-to-use adhesive that meets the highest performance requirements of a cementitious adhesive mortar (ANSI A118.15).  Ideal for both Large and Heavy Tile and thin-bed installations.  No mixing or water required.  For interior and exterior installation of ceramic tile, porcelain tile, glass tile, stone, quarry tile, pavers and brick.  MULTIMAX 1 Pre-Mixed Adhesive Mortar features non-sag performance on walls and maximum buildup of up to ¾\" without shrinkage on floors.  It has a smooth, easy-to-trowel consistency."]
["2025-10-24","915 Vapor Ban Primer W"," A dual-coat, re-usable, liquid applied 1-part membrane specifically designed for controlling the moisture vapor emission rate from new or existing concrete slabs up to 100% RH.  VAPOR BAN Primer W will perform as a primer prior to installing NXT Level self-leveling underlayment.  Combining two steps into one.  Saving on material cost."]
["2025-10-24","9277 Hydro Ban 1","HYDRO BAN 1 is a single component self-curing liquid rubber polymer that is applied in a single coat and forms a flexible, seamless waterproofing membrane.  HYDRO BAN 1 is a thin, load bearing waterproofing/crack isolation membrane with extreme performance.  HYDRO BAN 1 is specifically designed to handle a wide variety of environmental/substrate conditions, such as substrate temperatures as low as 35°F and also be used in steam showers and steam rooms.  HYDRO BAN 1 does not require the use of fabric in the field, coves or corners.  HYDRO BAN 1 bonds directly to a wide variety of substrates.  It features a hi-vis green color for enhanced visibility and easier lay-out.  Equipped with anti-microbial protection."]
["2025-11-05","Hydro Ban Peel & Stick Sheet Membrane Accessories","HYDRO BAN Modular Pre-Sloped Shower Pan is a component of the expanded HYDRO BAN line of products. The 4 piece modular system is designed for easier transport, storage, dry-fitting, and installation flexibility.  It does not include an integrated drain, available in center and off-center drain placements, low-profile builds, or barrier-free designs.  Includes:  (4) Piece Shower Pan, Peel & Stick Sealing Tape and Peel & Stick Adhesion Ring for on-site assembly and waterproof joint sealing.  Fully compatible with the HYDRO BAN Shower System."]
["2025-11-05","Hydro Ban Modular Pre-Sloped Shower Pan + Preformed Curb","HYDRO BAN Modular Pre-Sloped Shower Pan is a component of the expanded HYDRO BAN line of products. The 4 piece modular system is designed for easier transport, storage, dry-fitting, and installation flexibility.  It does not include an integrated drain, available in center and off-center drain placements, low-profile builds, or barrier-free designs.  Includes:  (4) Piece Shower Pan, Peel & Stick Sealing Tape and Peel & Stick Adhesion Ring for on-site assembly and waterproof joint sealing.  Fully compatible with the HYDRO BAN Shower System."]
[]
[]
[]
["Discontinued Products",null,"  "]
["2019-03-01","211 Powder Adhesive","Remaining Grey 50 lb Bag."]
["2019-03-01","220 Marble & Granite Mortar","Both Grey and White 50 lb Bags."]
["2019-03-01","255 MultiMax Lightweight Thin-Set Mortar","Both Grey and White 40 lb Bags."]
["2019-03-01","4237 Latex Additive","Remaining 5 Gallon Pail size."]
["2019-03-01","92 Blue Anti-Fracture Membrane","5 Gallon Pail of Liquid only, #S-09200-NS-05."]
["2019-03-01","972 NXT Decoupling Mat","39\" x 150' 488 SF Roll."]
["2019-03-01","Dupont StoneTech - Clean","D15062814 Heavy Duty Coating Stripper Quart and D15062823 Heavy Duty Coating Stripper Gallon sizes."]
["2019-03-01","Hydro Ban Bonding Flange Drain/Tile-In Drain","All Hydro Ban Bonding Flange Drain/Tile-In Drain kits have been discontinued as Laticrete is changing the Grate size from 5\" x 5\" to 4\" x 4\".  Note, products with the new sized grate will have new item numbers and pricing."]
["2019-03-01","Hydro Ban Drain Grate","All 5\" x 5\" Grates.  Being replaced with 4\" x 4\" Grates.  Note, the new sized grate will have new item numbers and pricing."]
["2019-03-01","Hydro Ban Linear Drain","All Hydro Ban Linear Drains that included the trough and the grate are discontinued.  The Hydro Ban Linear Drain is now sold in two separate parts and not together as one unit."]
["2020-03-10","Caulks/Sealants","The following 7100 Unsanded Caulk colors are discontinued:  03 Silk, 16 Siltstone, 30 Sand Beige, 34 Sandstone, 38 River Rock, 41 Kashmir, 43 Chocolate Truffle, 46 Quarry Red, 50 Sea Glass, 52 Toasted Almond, 55 Tawny, 56 Desert Khaki, 57 Hot Cocoa, 58 Terra Cotta, 59 Espresso, 61 Parchment, 66 Chestnut Brown, 67 Autumn Green, 81 Butter Cream and 92 Saltillo."]
["2020-03-10","Grouts","1776 Grout Enhancer in all sizes."]
["2020-03-10","Latapoxy Epoxy Adhesives","210 Modified Epoxy Adhesive in both the Single Unit White Pail and the Double Unit Grey Carton."]
["2020-03-10","Mortars","272 Premium Thin-Set Mortar Grey 50 lb bag."]
["2020-03-10","Mortars","258 Sure Set Thin-Set Mortar Grey and White 50 lb bag."]
["2020-03-10","Mortars","253R Gold Rapid Thin-Set Mortar White 25 lb & 50 lb bag.  253R Gold Rapid Thin-Set Mortar Grey 25 lb bag."]
["2020-03-10","Shower Systems","9450-0038-2 3' x 5' x 3/8\" and 9450-0112-2 3' x 5' x 1-1/2\" Hydro Ban Board sizes.  9455-0412-MC 4-1/2\" Hydro Ban Mixing Valve Collar.  9315-0808-S 8\" x 8\" Hydro Ban Preformed Soap Niche."]
["2021-03-08","285 Glass Tile Adhesive","(Replaced with 296 Glass Tile Adhesive Lite improved version.) "]
["2021-03-08","909 NXT Epoxy Primer","All sizes.  (Suggested Replacement is the 905 NXT Primer.) "]
["2021-03-08","Hydro Ban Board Accessories","9450-0200-S 2\" Screw.  (Suggested Replacement is the 9450-0300-S 3\" Screw.)"]
["2021-03-08","Hydro Ban Sealing Tape","9455-0716-2 Sealing Tape Roll 7.25\" x 16' 5\".  (Suggested Replacement is the 9455-0516-2 5\" x 16' 5\" Sealing Tape Roll.)  9455-0798-2 Sealing Tape Roll 7.25\" x 98' 5\".  (Suggested Replacement is the 9455-0598-2 5\" x 98' 5\" Sealing Tape Roll.) "]
["2021-05-17","902 NXT Skim","10lb bag.  (Suggested Replacement is the 918 NXT Skim Lite 8lb bag.) "]
["2021-05-17","9256 Hydro Barrier","All sizes.  (Suggested Replacement is the 9265 Hydro Barrier Plus.) "]
["2022-01-05","1200 SpectraLOCK Grout Part C","Colors 16 Siltstone, 38 River Rock, 41 Kashmir,  43 Chocolate Truffle, 50 Sea Glass, 55 Tawny and 92 Saltillo only."]
["2022-01-05","2300 Ready-To-Use Grout","Colors 16 Siltstone, 38 River Rock, 41 Kashmir,  43 Chocolate Truffle, 50 Sea Glass, 55 Tawny and 92 Saltillo only."]
["2022-01-05","2500 PermaColor Grout","Colors 16 Siltstone, 38 River Rock, 41 Kashmir,  43 Chocolate Truffle, 50 Sea Glass, 55 Tawny and 92 Saltillo only."]
["2022-01-05","2600 PermaColor Select Color Kit","Colors 16 Siltstone, 38 River Rock, 41 Kashmir,  43 Chocolate Truffle, 50 Sea Glass, 55 Tawny and 92 Saltillo only."]
["2022-01-05","3100 SpectraLOCK 1 Pre-Mixed Epoxy Performance Grout","Colors 16 Siltstone, 38 River Rock, 41 Kashmir,  43 Chocolate Truffle, 50 Sea Glass, 55 Tawny and 92 Saltillo only."]
["2022-01-05","6200 LATASIL","Colors 16 Siltstone, 38 River Rock, 41 Kashmir,  43 Chocolate Truffle, 50 Sea Glass, 55 Tawny and 92 Saltillo only."]
["2022-01-05","7200 PREMIUM ACRYLIC CAULK (Sanded)","Colors 16 Siltstone, 38 River Rock, 41 Kashmir,  43 Chocolate Truffle, 50 Sea Glass, 55 Tawny and 92 Saltillo only."]
["2022-06-27","Multipurpose Bonding Primer","2700 Select-Bond Adhesive, both Grey and White 25# bags."]
["2022-06-27","Multipurpose Bonding Primer","Select-Bond High Performance (A118.15) Kit 27HP-1001-2."]
["2022-06-27","Multipurpose Bonding Primer","Select-Bond Non-Sag Kit 27NS-1001-2."]
["2022-06-27","Multipurpose Bonding Primer","Select-Bond Rapid Kit 27OR-1001-2."]
["2022-06-27","THIN-SET AND MORTAR ADDITIVES","333 Super Flexible Additive 2 Gallon Jug only."]
["2022-06-27","UNDERLAYMENTS","903 NXT Embossing Admix.  906 NXT Vapor Reduction Coating (Replaced with Vapor Ban E)."]
["2022-10-20","Hydro Ban Shower & Drain System","9243-3838-CDP 38\" x 38\" Hydro Ban Shower Pan and the 9243-3838-CDK 38\" x 38\" Hydro Ban Shower Pan Kit."]
["2023-07-13","2600 PermaColor Select Base Grout","12.5lb and 25lb regular base bag sizes only.  (Being replaced with a 10lb regular base bag size.)"]
["2023-07-13","2600 PermaColor Select Color Kit","Colors 16 Siltstone, 38 River Rock, 41 Kashmir,  43 Chocolate Truffle, 50 Sea Glass, 55 Tawny and 92 Saltillo only."]
["2023-07-13","Hydro Ban Bonding Flange Drain","The following items are completely discontinued:  9246-0404-BS-ABS w/ 4\" x 4\" Brushed Stainless Steel Grate, 9246-0404-PS-ABS w/ 4\" x 4\" Polished Stainless Steel Grate, 9246-0404-ORB-ABS w/ 4\" x 4\" Oil Rubbed Bronze Grate and 9246-0404-TI-ABS with/ 4\" x 4\" Tile-In Drain.  The remaining items are discontinued but have a new, redesigned and streamlined replacement:  9246-0404-BS-PVC w/ 4\" x 4\" Brushed Stainless Steel Grate, 9246-0404-PS-PVC w/ 4\" x 4\" Polished Stainless Steel Grate, 9246-0404-ORB-PVC w/ 4\" x 4\" Oil Rubbed Bronze Grate, 9248-0BFD-PVC PVC, no Grate included, 9248-0BFD-ABS ABS, no Grate included and 9246-0404-TI-PVC with/ 4\" x 4\" Tile-In Drain. "]
["2024-02-14","178 Fracture Ban Primer","All sizes are discontinued.  (Suggested Replacement is the new Primer Plus.)"]
["2024-02-14","905 NXT Primer","All sizes are discontinued.  (Suggested Replacement is the new Primer Plus.)"]
["2024-02-14","Caulks/Sealants","The following 7100 Unsanded Caulk colors are discontinued:  53 Twilight Blue and 91 Slate Grey."]
["2024-02-14","Hydro Ban Board","#9450-0100-2, 3' x 5' x 1\" Board only."]
["2024-02-14","Hydro Ban Preformed Seat","#9302-2323-T, 23\" x 23\" x 20\" Triangle seat only."]
["2024-02-14","Hydro Ban Pre-Sloped Shower Pans","The following pans only:  9465-3648-BRS 36\" x 48\" BRS Center Drain, 9465-4848-BRS 48\" x 48\" BRS Center Drain, 9465-3660-BRS 36\" x 60\" BRS Center Drain, 9465-4860-BRS 48\" x 60\" BRS Center Drain and 9465-3866-BRS 38\" x 66\" BRS Off Center Drain. "]
["2024-06-19","7100 Unsanded Premium Acrylic Caulk","Color 7185 Almond only."]
["2025-05-19","1200 SpectraLOCK Dazzle (Part D Component)","Colors 1274 Blue Hawaii, 1277 Candied Apple, 1270 Lemonade, 1271 Limeade, 1272 Pretty in Pink, 1275 Purple Haze, 1276 Ruby Slippers and 1273 Tangerine only."]
["2025-05-19","7100 Unsanded Premium Acrylic Caulk","Colors 7127 Hemp, 7139 Mushroom and 7140 Latte only."]
["2026-01-26","Hydro Ban Shower Pan","The following Pans listed below have been discontinued:"]
[null,null,"9243-4848-CDP Center Drain Location   "]
[null,null,"9243-4848-CDP-BF Center Drain Location (Barrier Free)   "]
[null,null,"9243-3260-CDP Center Drain Location   "]
[null,null,"9243-3260-OCDP Off-Center Drain Location   "]
[null,null,"9243-4872-CDP Center Drain Location   "]
[null,null,"9243-7272-CDP Center Drain Location   "]
["2026-01-26","Hydro Ban Shower Pan Kit","The following Pan Kits listed below have been discontinued:"]
[null,null,"48\" x 48\" 9243-4848-CDK Center Drain Location    "]
[null,null,"32\" x 60\" 9243-3260-CDK Center Drain Location    "]
[null,null,"32\" x 60\" 9243-3260-OCDK Off-Center Drain Location    "]
[null,null,"48\" x 72\" 9243-4872-CDK Center Drain Location    "]
[null,null,"72\" x 72\" 9243-7272-CDK Center Drain Location    "]
[null," "]
[null," "]
[]
["Changes"]
["2019-05-22","125 Sound & Crack Adhesive","Laticrete renamed this product and is now known as 125 TRI MAX.  New & Improved Shelf Life.  Factory Sealed containers of this product are guaranteed to be of first quality for two (2) years if stored at temperatures of >32°F and <110°F and off the ground in a dry area.  Refer to the 125 TRI MAX data sheet for more complete information.\n"]
["2019-05-22","StoneTech Products","Laticrete changed the part numbers for all the StoneTech items.  The carton quantity has changed on the following items from 12 EA/CTN to 6 EA/CTN:  KlenzAll Cleaner Ready-To-Use 24 oz. Spray, DeepKlenz Cleaner Ready-To-Use 24 oz. Spray, Revitalizer Cleaner & Protector Ready-To-Use - Citrus 24 oz. Spray, Revitalizer Cleaner & Protector Ready-To-Use - Cucumber 24 oz. Spray, Stone & Tile Cleaner Ready-To-Use 24 oz. Spray and the Quartz & Tile Cleaner Ready-To-Use  24 oz. Spray.  The name of the \"Sealer\" has changed to \"Stone, Tile & Stone Sealer\".  The name of the \"Enhancer Sealer\" has changed to \"Enhancer & Sealer\".  The name of the \"High Gloss Finishing Sealer\" has changed to \"High Gloss Finish & Sealer\".  The name of the \"Semi Gloss Finishing Sealer\" has changed to \"Semi Gloss Finish & Sealer\".  The name of the \"Polish\" has changed to \"Stone Polish\"."]
["2020-03-16","Mortars","We were misinformed by Laticrete concerning the discontinuation of the 253R Gold Rapid Thin-Set Mortar color White 50 lb bag.  This item, (Laticrete #0253-0050-22-1), is NOT discontinued and will continue to be stocked by Conestoga Tile."]
["2021-02-19","NXT Level Plus","NXT Level Plus is now fiber reinforced.  Part number changing from 901 to 902 for the improved version."]
["2021-02-19","SpectraLock 1","Removing color 00 Translucent for now due to production issues.  May be available later in 2021 but no firm date."]
["2023-08-09","1200 SpectraLOCK Dazzle","A New & Improved Dazzle Design Additive is available now and is sold in full cartons of 6 Pouches/CTN.  One (1) Pouch of Dazzle Design Additive will be used within one (1) Pail (Full Unit) of either; SpectraLOCK Pro Premium, SpectraLOCK PRO Premium Translucent Grout, SpectraLOCK 1 Pre-Mixed Grout -or- Ready-To-Use Pre-Mixed Grouts.  When using a Mini Unit, use 1/4 Pouch and add 4 Pouches to a Commercial Unit."]
["2023-08-25","257 Titanium","Renamed 254 Platinum Plus."]
["2024-09-27","Hydro Ban Bonding Flange Drain","9246-0404-PSP2 PVC Bonding Flange with 4\" x 4\" Polished Stainless Steel Grate will no longer be \"Stocked\"."]
["2024-09-27","Mortars","3701 Lite Mortar will no longer be \"Stocked\"."]
["2024-09-27","Waterproofing","9266 Hydro Ban Quick Cure 1 Gallon Pail is no longer being \"Stocked\"."]